Workbook

Sheet TABLA_MTU-cambiar nombres aqui
B2: METABOLISMO TERRITORIAL Y URBANO (MTU) | C2: EJES DE INTEGRACIÓN | D2: LÍNEAS DE ANÁLISIS | E2: CRITERIO | H2: INDICADORES
C3: SOSTENIBILIDAD Y RECURSOS ENERGÉTICOS | D3: METABOLISMO ENERGÉTICO DEL MODELO TERRITORIAL | E3: MTU.1.1 | F3: Aumento generación EERR | G3: Descarbonización, Autoconsumo, economía circular, autosuficiencia conectada, Gestión eficiente del suelo, compatibilidad de usos, conectividad rural, compatibilidad con el entorno y condiciones climáticas | H3: Generación de EERR, emisiones de GEI, suelo destinado a EERR, Proximidad de las IE, suelo destinado a EERR, Consumo energético (renovable y no renovable),
D4: METABOLISMO ENERGÉTICO DEL MODELO URBANO Y LA EDIFICACIÓN | E4: MTU.1.2 | F4: Reducción de emisiones de GEI
E5: MTU.1.3 | F5: Potenciación de la autosuficiencia conectada
C6: INFRAESTRUCTURAS Y RECURSOS HÍDRICOS | D6: INFRAESTRUCTURAS HIDRÁULICAS DEL MODELO TERRITORIAL | E6: MTU.2.1 | F6: Autosuficiencia hídrica conectada | G6: Descontaminación, Sostenibilidad ambiental, Descarbonización, Autoconsumo, economía circular, autosuficiencia conectada, Eficiencia, Autoconsumo, economía circular, autosuficiencia conectada, permeabilidad del suelo, SbN | H6: Calidad de las aguas, Balance hídrico, Consumo energético de las IH, % de pérdidas en el sistema, emisiones de GEI, Proximidad de las IH, Consumo hídrico, % de pérdidas en las redes, emisiones de GEI, % sellado del suelo
E7: MTU.2.2 | F7: Eficiencia en la producción, tratamiento de las aguas y consumo hídrico
D8: EFICIENCIA EN EL CILO URBANO DEL AGUA Y LA EDIFICACIÓN | E8: MTU.2.3 | F8: Potenciación de las SbN
C9: INFRAESTRUCTURAS DE GESTIÓN DE RESIDUOS | D9: INFRAESTRUCTURAS Y EFICIENCIA EN LA GESTIÓN DE RESIDUOS | E9: MTU.3.1 | F9: Compatibilidad de la protección del sistema natural con la gestión de residuos | G9: Descontaminación, Sostenibilidad ambiental, economía circular | H9: Calidad del suelo,, Cierre de ciclo de la materia orgánica, emisiones de GEI, Producción Per Cápita de Residuos, Valorización RCD, Existencia de lugares o actividades con potencial para el cierre del ciclo de la materia orgánica, Recogida selectiva neta, cobertura contenedores RSU/punto limpio, Dotación de Contenedores
E10: MTU.3.2 | F10: Viabilizar el principio de autosuficiencia
D11: ECONOMÍA CIRCULAR | E11: MTU.3.3 | F11: Reducción de emisiones de GEI
E12: MTU.3.4 | F12: Economía circular
C13: RESILIENCIA Y ADAPTACIÓN DE LAS INFRAESTRUCTURAS DE SERVICIOS ESENCIALES | D13: SISTEMAS DE INFRAESTRUCTURAS SUSTENTABLES Y RESILIENTES | E13: MTU.4.1 | F13: Evaluación y gestión de riesgos | G13: Capacidad, evolución de las precipitaciones, riesgos, usos del suelo, Permeabilidad del suelo, Renaturalización, reaprovechamiento hídrico | H13: Infraestructuras en riesgo, Índice de permeabilidad del suelo
D14: RESILIENCIA DEL CICLO URBANO DEL AGUA | E14: MTU.4.2 | F14: Adaptación y recuperación de la vinculación del sistema urbano al ciclo del agua

Sheet Tabla Resultados MTU
B2: METABOLISMO TERRITORIAL Y URBANO (MTU) | C2: EJES DE INTEGRACIÓN | D2: LÍNEAS DE ANÁLISIS | E2: CRITERIO | G2: Peso del área | H2: Peso del Criterio | I2: Puntuacion inicial del criterio | J2: Porcentaje de cumplimiento
C3: ='TABLA_MTU-cambiar nombres aqui'!C3:C5 -> SOSTENIBILIDAD Y RECURSOS ENERGÉTICOS | D3: ='TABLA_MTU-cambiar nombres aqui'!D3 -> METABOLISMO ENERGÉTICO DEL MODELO TERRITORIAL | E3: ='TABLA_MTU-cambiar nombres aqui'!E3 -> MTU.1.1 | F3: ='TABLA_MTU-cambiar nombres aqui'!F3 -> Aumento generación EERR | G3: =100%/6 -> 0.16666667 | H3: 0.013 | I3: ='Panel Control MTU'!Q15 -> 0.013 | J3: =SUM(I3:I14) -> 0.1667
D4: ='TABLA_MTU-cambiar nombres aqui'!D4 -> METABOLISMO ENERGÉTICO DEL MODELO URBANO Y LA EDIFICACIÓN | E4: ='TABLA_MTU-cambiar nombres aqui'!E4 -> MTU.1.2 | F4: ='TABLA_MTU-cambiar nombres aqui'!F4 -> Reducción de emisiones de GEI | H4: 0.014 | I4: ='Panel Control MTU'!Q29 -> 0.014
E5: ='TABLA_MTU-cambiar nombres aqui'!E5 -> MTU.1.3 | F5: ='TABLA_MTU-cambiar nombres aqui'!F5 -> Potenciación de la autosuficiencia conectada | H5: 0.014 | I5: ='Panel Control MTU'!Q43 -> 0.014
C6: ='TABLA_MTU-cambiar nombres aqui'!C6:C8 -> INFRAESTRUCTURAS Y RECURSOS HÍDRICOS | D6: ='TABLA_MTU-cambiar nombres aqui'!D6 -> INFRAESTRUCTURAS HIDRÁULICAS DEL MODELO TERRITORIAL | E6: ='TABLA_MTU-cambiar nombres aqui'!E6 -> MTU.2.1 | F6: ='TABLA_MTU-cambiar nombres aqui'!F6 -> Autosuficiencia hídrica conectada | H6: 0.014 | I6: ='Panel Control MTU'!Q57 -> 0.014
E7: ='TABLA_MTU-cambiar nombres aqui'!E7 -> MTU.2.2 | F7: ='TABLA_MTU-cambiar nombres aqui'!F7 -> Eficiencia en la producción, tratamiento de las aguas y consumo hídrico | H7: 0.013 | I7: ='Panel Control MTU'!Q71 -> 0.013
D8: ='TABLA_MTU-cambiar nombres aqui'!D8 -> EFICIENCIA EN EL CILO URBANO DEL AGUA Y LA EDIFICACIÓN | E8: ='TABLA_MTU-cambiar nombres aqui'!E8 -> MTU.2.3 | F8: ='TABLA_MTU-cambiar nombres aqui'!F8 -> Potenciación de las SbN | H8: 0.0107 | I8: ='Panel Control MTU'!Q82 -> 0.0107
C9: ='TABLA_MTU-cambiar nombres aqui'!C9:C12 -> INFRAESTRUCTURAS DE GESTIÓN DE RESIDUOS | D9: ='TABLA_MTU-cambiar nombres aqui'!D9 -> INFRAESTRUCTURAS Y EFICIENCIA EN LA GESTIÓN DE RESIDUOS | E9: ='TABLA_MTU-cambiar nombres aqui'!E9 -> MTU.3.1 | F9: ='TABLA_MTU-cambiar nombres aqui'!F9 -> Compatibilidad de la protección del sistema natural con la gestión de residuos | H9: 0.012 | I9: ='Panel Control MTU'!Q97 -> 0.012
D10: ='TABLA_MTU-cambiar nombres aqui'!D11 -> ECONOMÍA CIRCULAR | E10: ='TABLA_MTU-cambiar nombres aqui'!E10 -> MTU.3.2 | F10: ='TABLA_MTU-cambiar nombres aqui'!F10 -> Viabilizar el principio de autosuficiencia | H10: 0.0125 | I10: ='Panel Control MTU'!Q111 -> 0.0125
E11: ='TABLA_MTU-cambiar nombres aqui'!E11 -> MTU.3.3 | F11: ='TABLA_MTU-cambiar nombres aqui'!F11 -> Reducción de emisiones de GEI | H11: 0.012 | I11: ='Panel Control MTU'!Q122 -> 0.012
E12: ='TABLA_MTU-cambiar nombres aqui'!E12 -> MTU.3.4 | F12: ='TABLA_MTU-cambiar nombres aqui'!F12 -> Economía circular | H12: 0.0115 | I12: ='Panel Control MTU'!Q137 -> 0.0115
C13: ='TABLA_MTU-cambiar nombres aqui'!C13:C14 -> RESILIENCIA Y ADAPTACIÓN DE LAS INFRAESTRUCTURAS DE SERVICIOS ESENCIALES | D13: ='TABLA_MTU-cambiar nombres aqui'!D13 -> SISTEMAS DE INFRAESTRUCTURAS SUSTENTABLES Y RESILIENTES | E13: ='TABLA_MTU-cambiar nombres aqui'!E13 -> MTU.4.1 | F13: ='TABLA_MTU-cambiar nombres aqui'!F13 -> Evaluación y gestión de riesgos | H13: 0.02 | I13: ='Panel Control MTU'!Q148 -> 0.02
D14: ='TABLA_MTU-cambiar nombres aqui'!D14 -> RESILIENCIA DEL CICLO URBANO DEL AGUA | E14: ='TABLA_MTU-cambiar nombres aqui'!E14 -> MTU.4.2 | F14: ='TABLA_MTU-cambiar nombres aqui'!F14 -> Adaptación y recuperación de la vinculación del sistema urbano al ciclo del agua | H14: 0.02 | I14: ='Panel Control MTU'!Q162 -> 0.02
H15: =SUM(H3:H14) -> 0.1667

Sheet Panel Control MTU
G3: Peso del criterio | H3: Cumplimiento | J3: Indicaciones | K3: Contribución del criterio | N3: Rango contribucion del criterio | O3: Porcentaje Contribución | P3: Puntuación inicial del criterio
B4: ='TABLA_MTU-cambiar nombres aqui'!E3 -> MTU.1.1 | C4: ='TABLA_MTU-cambiar nombres aqui'!F3 -> Aumento generación EERR | G4: ='Tabla Resultados MTU'!H3 -> 0.013
K5: Baja | L5: Moderada | M5: Sustancial
K6: =(G7/3) -> 0.0011666667 | L6: =(G7/3)*2 -> 0.0023333333 | M6: =(G7/3)*3 -> 0.0035
C7: Modelo de ordenación territorial y urbana que contempla la generación EERR | G7: 0.0035 | H7: Sí | I7: =IF(H7="Sí",1)+IF(H7="No",0) -> 1 | J7: ver MTU 1.1 | N7: 3 | O7: =INDEX(K6:M6,N7) -> 0.0035 | P7: =O7*I7 -> 0.0035
H8: Sí | K8: =(G9/3) -> 0.0011666667 | L8: =(G9/3)*2 -> 0.0023333333 | M8: =(G9/3)*3 -> 0.0035
C9: La previsión y ordenación por el planeamiento municipal de la compatibilidad de las instalaciones de energía renovable se realiza atendiendo a criterios de protección de los valores naturales, culturales y paisajísticos | G9: 0.0035 | H9: Sí | I9: =IF(H9="Sí",1)+IF(H9="No",0) -> 1 | J9: ver MTU 1.1 | N9: 3 | O9: =INDEX(K8:M8,N9) -> 0.0035 | P9: =O9*I9 -> 0.0035
H10: Sí | K10: =(G11/3) -> 0.00033333333 | L10: =(G11/3)*2 -> 0.00066666667 | M10: =(G11/3)*3 -> 0.001
C11: Ordenanzas municipales sobre eficiencia y uso inteligente de la energía | G11: 0.001 | H11: Sí | I11: =IF(H11="Sí",1)+IF(H11="No",0) -> 1 | J11: ver MTU 1.1 | N11: 3 | O11: =INDEX(K10:M10,N11) -> 0.001 | P11: =O11*I11 -> 0.001
H12: Sí | K12: =(G13/3) -> 0.00083333333 | L12: =(G13/3)*2 -> 0.0016666667 | M12: =(G13/3)*3 -> 0.0025
C13: Acciones para fomentar e integrar la generación de energía de fuentes renovables en nuevas urbanizaciones y regeneración urbana | G13: 0.0025 | H13: Sí | I13: =IF(H13="Sí",1)+IF(H13="No",0) -> 1 | J13: ver MTU 1.1 | N13: 3 | O13: =INDEX(K12:M12,N13) -> 0.0025 | P13: =O13*I13 -> 0.0025
H14: Sí | K14: =(G15/3) -> 0.00083333333 | L14: =(G15/3)*2 -> 0.0016666667 | M14: =(G15/3)*3 -> 0.0025
C15: Establecer criterios en la normativa urbanística para la implantación de tecnología y técnicas para la optimización del ahorro, captación y almacenamiento de energías renovables | G15: 0.0025 | H15: Sí | I15: =IF(H15="Sí",1)+IF(H15="No",0) -> 1 | J15: ver MTU 1.1 | N15: 3 | O15: =INDEX(K14:M14,N15) -> 0.0025 | P15: =O15*I15 -> 0.0025 | Q15: =SUM(P7:P15) -> 0.013
K16: =(#REF!/3) -> #REF! | L16: =(#REF!/3)*2 -> #REF! | M16: =(#REF!/3)*3 -> #REF!
G17: =SUM(G7:G16) -> 0.013
G19: Peso del criterio | H19: Cumplimiento | J19: Indicaciones | K19: Contribución del criterio | N19: Rango contribucion del criterio | O19: Porcentaje Contribución | P19: Puntuación inicial del criterio
B20: ='TABLA_MTU-cambiar nombres aqui'!E4 -> MTU.1.2 | C20: ='TABLA_MTU-cambiar nombres aqui'!F4 -> Reducción de emisiones de GEI | G20: ='Tabla Resultados MTU'!H4 -> 0.014
K21: Baja | L21: Moderada | M21: Sustancial
K22: =(G23/3) -> 0.0015 | L22: =(G23/3)*2 -> 0.003 | M22: =(G23/3)*3 -> 0.0045
C23: Reducción del consumo energético no renovable | G23: 0.0045 | H23: Sí | I23: =IF(H23="Sí",1)+IF(H23="No",0) -> 1 | J23: ver MTU 1.2 | N23: 3 | O23: =INDEX(K22:M22,N23) -> 0.0045 | P23: =O23*I23 -> 0.0045
H24: Sí | K24: =(G25/3) -> 0.0011666667 | L24: =(G25/3)*2 -> 0.0023333333 | M24: =(G25/3)*3 -> 0.0035
C25: Abastecer picos de demanda futuros mediante EERR | G25: 0.0035 | H25: Sí | I25: =IF(H25="Sí",1)+IF(H25="No",0) -> 1 | J25: ver MTU 1.2 | N25: 3 | O25: =INDEX(K24:M24,N25) -> 0.0035 | P25: =O25*I25 -> 0.0035
H26: Sí | K26: =(G27/3) -> 0.001 | L26: =(G27/3)*2 -> 0.002 | M26: =(G27/3)*3 -> 0.003
C27: Acciones para fomentar e integrar la eficiencia energética en las edificaciones y urbanizaciones | G27: 0.003 | H27: Sí | I27: =IF(H27="Sí",1)+IF(H27="No",0) -> 1 | J27: ver MTU 1.2 | N27: 3 | O27: =INDEX(K26:M26,N27) -> 0.003 | P27: =O27*I27 -> 0.003
H28: Sí | K28: =(G29/3) -> 0.001 | L28: =(G29/3)*2 -> 0.002 | M28: =(G29/3)*3 -> 0.003
C29: Establecer criterios en la normativa urbanística para la implantación de tecnología y técnicas para el incremento de la eficiencia energética | G29: 0.003 | H29: Sí | I29: =IF(H29="Sí",1)+IF(H29="No",0) -> 1 | J29: ver MTU 1.2 | N29: 3 | O29: =INDEX(K28:M28,N29) -> 0.003 | P29: =O29*I29 -> 0.003 | Q29: =SUM(P23:P29) -> 0.014
K30: =(#REF!/3) -> #REF! | L30: =(#REF!/3)*2 -> #REF! | M30: =(#REF!/3)*3 -> #REF!
G31: =SUM(G23:G30) -> 0.014
G33: Peso del criterio | H33: Cumplimiento | J33: Indicaciones | K33: Contribución del criterio | N33: Rango contribucion del criterio | O33: Porcentaje Contribución | P33: Puntuación inicial del criterio
B34: ='TABLA_MTU-cambiar nombres aqui'!E5 -> MTU.1.3 | C34: ='TABLA_MTU-cambiar nombres aqui'!F5 -> Potenciación de la autosuficiencia conectada | G34: ='Tabla Resultados MTU'!H5 -> 0.014
K35: Baja | L35: Moderada | M35: Sustancial
K36: =(G37/3) -> 0.0013333333 | L36: =(G37/3)*2 -> 0.0026666667 | M36: =(G37/3)*3 -> 0.004
C37: Acciones para transformar el sistema energético de “lineal” a “circular” | G37: 0.004 | H37: Sí | I37: =IF(H37="Sí",1)+IF(H37="No",0) -> 1 | J37: ver MTU 1.3 | N37: 3 | O37: =INDEX(K36:M36,N37) -> 0.004 | P37: =O37*I37 -> 0.004
H38: Sí | K38: =(G39/3) -> 0.0013333333 | L38: =(G39/3)*2 -> 0.0026666667 | M38: =(G39/3)*3 -> 0.004
C39: Principio de proximidad en las infraestructuras | G39: 0.004 | H39: Sí | I39: =IF(H39="Sí",1)+IF(H39="No",0) -> 1 | J39: ver MTU 1.3 | N39: 3 | O39: =INDEX(K38:M38,N39) -> 0.004 | P39: =O39*I39 -> 0.004
H40: Sí | K40: =(G41/3) -> 0.0011666667 | L40: =(G41/3)*2 -> 0.0023333333 | M40: =(G41/3)*3 -> 0.0035
C41: Tener en cuenta las condiciones y características climáticas y energéticas de los emplazamientos de las infraestructuras | G41: 0.0035 | H41: Sí | I41: =IF(H41="Sí",1)+IF(H41="No",0) -> 1 | J41: ver MTU 1.3 | N41: 3 | O41: =INDEX(K40:M40,N41) -> 0.0035 | P41: =O41*I41 -> 0.0035
H42: Sí | K42: =(G43/3) -> 0.00083333333 | L42: =(G43/3)*2 -> 0.0016666667 | M42: =(G43/3)*3 -> 0.0025
C43: Acciones de concienciación, participación y coordinación público-privada | G43: 0.0025 | H43: Sí | I43: =IF(H43="Sí",1)+IF(H43="No",0) -> 1 | J43: ver MTU 1.3 | N43: 3 | O43: =INDEX(K42:M42,N43) -> 0.0025 | P43: =O43*I43 -> 0.0025 | Q43: =SUM(P37:P43) -> 0.014
K44: =(#REF!/3) -> #REF! | L44: =(#REF!/3)*2 -> #REF! | M44: =(#REF!/3)*3 -> #REF!
...

Sheet MTU 1.1
B2: ='Panel Control MTU'!B4 -> MTU.1.1 | C2: ='Panel Control MTU'!C4 -> Aumento generación EERR
C5: Modelo de ordenación territorial y urbana que contempla la generación EERR.
K6: *Realizar sumatoria de puntos
C7: MTU-IND-06 | D7: Superficie suelo destinados a generación de energía renovable
D8: Para la localización de nuevas implantaciones de infraestructuras de EERR, se han tenido en cuenta criterios de localización, tipología y densidad de las instalaciones, que evite efectos lesivos al paisaje o incidencia a la avifauna. | M8: 1 pto
D9: La ordenación propone el aumentar la disposición de suelos destinados a infraestructuras de generación de energías de fuentes renovables para fortalecer el suministro energético y eficiente en almenos el 10 % de la superficie del suelo total. | M9: 1 pto
D10: El modelo de ordenación se ha orientado hacia el uso más eficiente del suelo, la implantación de una densidad, intensidad y complejidad de usos suficientes con el fin de obtener un modelo de ordenación orientado hacia la reducción de la demanda de recursos y la autosuficiencia energética, minorando consecuentemente las emisiones de GEI. | M10: 1 pto
K11: PUNTUACIÓN: | L11: 1 pto = Baja 2 ptos = Moderado 3 ptos = Sustancial
C13: La previsión y ordenación por el planeamiento municipal de la compatibilidad de las instalaciones de energía renovable se realiza atendiendo a criterios de protección de los valores naturales, culturales y paisajísticos.
K14: *Realizar sumatoria de puntos
D15: Se priorizan los suelos urbanos y urbanizables, preferentemente industriales, priorizando los techos y cubiertas de las edificaciones, equipamientos, dotaciones e infraestructuras existentes para la instalación de placas fotovoltaicas, frente a las categorizados como suelos rústicos | M15: 1 pto
D16: Se atenderá a su ordenación en suelo rústico, atendiendo a las zonas de escasa calidad para la conservación ambiental, terrenos antropizados de escasa calidad y productividad biológica | M16: 1 pto
D17: Se implantarán, preferentemente, en proximidad a caminos preexistentes y a líneas de transporte. | M17: 1 pto
D18: Con el fin de minimizar el consumo de suelo, se atiende al criterio de no diseminar las localizaciones, concentrando en áreas localizadas, en los espacios periurbanos y deteriorados, preferentemente aledaña a suelos urbanizables, en particular industriales, actuales o previstos, con la suficiente superficie para albergar la totalidad de las placas necesarias para atender a la demanda necesaria. | M18: 1 pto
D19: El planeamiento ha tenido en cuenta el establecimeinto de criterios de adecuación paisajística de las infraestructuras energéticas existentes, y sus posibles remodelaciones o ampliaciones | M19: 1 pto
K20: PUNTUACIÓN: | L20: 1 pto = Baja 2 a 3 ptos = Moderada 4 a 5 ptos = Sustancial
C22: Ordenanzas municipales sobre eficiencia y uso inteligente de la energía.
D24: Se ha desarrollado una ordenanza municipal sobre eficiencia y uso inteligente de la energía en el ámbito | M24: Moderado
D25: Se ha desarrollado una ordenanza municipal sobre eficiencia y uso inteligente de la energía en el ámbito de manera coordinada y transversal con el modelo de ordenación territorial y urbana y no de manera independiente | M25: Sustancial
C27: Acciones para fomentar e integrar la generación de energía de fuentes renovables en nuevas urbanizaciones y regeneración urbana.
D29: Solo se han aplicado acciones en los Suelos Urbanizables y Suenos Urbanos No Consolidados aplicación en Suelos urbanizables | M29: Baja
D30: Se han aplicado acciones que fomentan la regeneración de las urbanizaciones y edificaciones existentes en al menos el 50% de la superficie del Suelo Urbano Consolidado | M30: Moderada
D31: Se han aplicado acciones que fomentan la regeneración de las urbanizaciones y edificaciones existentes en más del 50% de la superficie del Suelo Urbano Consolidado | M31: Sustancial
C33: Establecer criterios en la normativa urbanística para la implantación de tecnología y técnicas para la optimización del ahorro, captación y almacenamiento de energías renovables.
D35: Se han establecido criterios en la normativa urbanística sin haber tenido en cuenta los criterios y principios de la Taxonomía Verde | M35: Baja
D36: Se han establecido criterios en la normativa urbanística alineados únicamente con los criterios técnicos de selección de la Taxonomía Verde | M36: Moderada
D37: Se han establecido criterios en la normativa urbanística alineados únicamente con los criterios técnicos de selección de la Taxonomía Verde y además los criterios genéricos DNSH. | M37: Sustancial
C38: .

Sheet MTU 1.2
B2: ='Panel Control MTU'!B20 -> MTU.1.2 | C2: ='Panel Control MTU'!C20 -> Reducción de emisiones de GEI
C5: Reducción del consumo energético no renovable
K6: *Realizar sumatoria de puntos
C7: MTU-IND-01 | D7: Consumo energético renovable municipal
D8: A la hora de establecer una ordenación se ha previsto la garantía del abastecimiento de los picos de demanda ediante fuentes de energía renovable para que se reduzca en al menos el 10% del consumo energético municipal total. | M8: 1 pto
D9: A la hora de establecer una ordenación se ha previsto la garantía del abastecimiento de los picos de demanda ediante fuentes de energía renovable para que se reduzca en al menos el 10-25% del consumo energético municipal total. | M9: 2 ptos
D10: A la hora de establecer una ordenación se ha previsto la garantía del abastecimiento de los picos de demanda ediante fuentes de energía renovable para que se reduzca en más del 25% del consumo energético municipal total. | M10: 3 ptos
C11: MTU-IND-07 | D11: Consumo energético renovable de infraestructuras municipales
D12: Se establecen acciones para viabilizar que los edificios municipales aumenten al menos el 10% el consumo energético mediante fuentes renovables | M12: 1 pto
D13: Se establecen acciones para viabilizar que los edificios municipales aumenten entre el 10-25% el consumo energético mediante fuentes renovables | M13: 2 ptos
D14: Se establecen acciones para viabilizar que los edificios municipales aumenten en más 25% el consumo energético mediante fuentes renovables | M14: 3 ptos
K16: PUNTUACIÓN: | L16: 1 pto = Baja 2 a 3 ptos = Moderada ≥4 ptos = Sustancial
C18: Abastecer picos de demanda futuros mediante energía renovable
C20: MTU-IND-04 | D20: Producción local de energía renovable
D21: A la hora de establecer una ordenación se ha previsto la garantía del abastecimiento de los picos de demanda mediante fuentes de energía renovable en al menos un 40% de la cobertura de la demanda | M21: Baja
D22: A la hora de establecer una ordenación se ha previsto la garantía del abastecimiento de los picos de demanda mediante fuentes de energía renovable en al menos un 70% de la cobertura de la demanda | M22: Moderada
D23: A la hora de establecer una ordenación se ha previsto la garantía del abastecimiento de los picos de demanda mediante fuentes de energía renovable en más del 80% de la cobertura de la demanda | M23: Sustancial
C25: Acciones para fomentar e integrar la eficiencia energética en las edificaciones y urbanizaciones
D27: Solo se han aplicado acciones en los Suelos Urbanizables y Suenos Urbanos No Consolidados aplicación en Suelos urbanizables | M27: Baja
D28: Se han aplicado acciones que fomentan la regeneración de las urbanizaciones y edificaciones existentes en al menos el 50% de la superficie del Suelo Urbano Consolidado | M28: Moderada
D29: Se han aplicado acciones que fomentan la regeneración de las urbanizaciones y edificaciones existentes en más del 50% de la superficie del Suelo Urbano Consolidado | M29: Sustancial
C31: Establecer criterios en la normativa urbanística para la implantación de tecnología y técnicas para el incremento de la eficiencia energética
D33: Se han establecido criterios en la normativa urbanística sin haber tenido en cuenta los criterios y principios de la Taxonomía Verde | M33: Baja
D34: Se han establecido criterios en la normativa urbanística alineados únicamente con los criterios técnicos de selección de la Taxonomía Verde | M34: Moderada
D35: Se han establecido criterios en la normativa urbanística alineados únicamente con los criterios técnicos de selección de la Taxonomía Verde y además los criterios genéricos DNSH. | M35: Sustancial

Sheet MTU 1.3
B2: ='Panel Control MTU'!B34 -> MTU.1.3 | C2: ='Panel Control MTU'!C34 -> Potenciación de la autosuficiencia conectada
C5: Acciones para transformar el sistema energético de “lineal” a “circular”
K6: *Realizar sumatoria de puntos
D7: Se aprovechará al máximo las infraestructuras ya existentes, potenciando la repotenciación, salvo que la planificación tenga por objeto la reubicación, priorizando las repotenciaciones únicamente cuando sean conforme al planeamiento territorial vigente. | M7: 1 pto
D8: Se ha orientado la planificación de las infraestructuras energéticas hacia el uso más eficiente del suelo, en transversalidad con la implantación de una densidad, intensidad y complejidad de usos suficientes para plantear un modelo de ordenación orientado hacia la reducción de la demanda de recursos y la autosuficiencia energética, minorando consecuentemente las emisiones de GEI. | M8: 1 pto
C9: MTU-IND-02 | D9: Autosuficiencia energética local a partir de energías renovables
D10: 15-25% de autosuficiencia energética a partir de energía renovable | M10: 1 pto
D11: 25-35% de autosuficiencia energética a partir de energía renovable | M11: 2 ptos
D12: >35% de autosuficiencia energética a partir de energía renovable | M12: 3 ptos
K13: PUNTUACIÓN: | L13: 1 pto = Baja 2 a 3 ptos = Moderada ≥4 ptos = Sustancial
C15: Principio de proximidad en las infraestructuras
K16: *Realizar sumatoria de puntos
D17: Se ha tenido en cuenta la concentración de los centros de producción de energías renovables cerca de los centros de consumo, que aportan una mayor eficiencia porque precisan menos infraestructuras de red y reducen las pérdidas de energía en ella, evitando la dispersión territorial, con base al criterio de ahorro en el consumo del territorio y sus afecciones medioambientales. | M17: 1 pto
D18: Se ha ligado, la ubicación de las nuevas infraestructuras, a la clasificación y categorización del suelo, así como con cercanía a los recursos renovables para reacoplar el territorio. | M18: 1 pto
D19: Se ha tenido en cuenta integración de los modelos energéticos de energía renovable distribuida y de almacenamiento asociado a los modelos rurales e industriales para plantear la concentración y ubicación de las infraestructuras cerca de los suelos agrarios | M19: 1 pto
D20: Se han tenido en cuenta las distancias de seguridad respecto a las edificaciones existentes (residenciales, dotacionales u otras) y zonas frecuentadas por la población, así como al crecimiento futuro de los núcleos de población, con el objeto de que no queden dentro de las zonas urbanas, y resulten conformes a los planes urbanísticos y territoriales aplicables. | M20: 1 pto
K21: PUNTUACIÓN: | L21: 1 pto = Baja 2 ptos = Moderada > 3 ptos = Sustancial
C23: Tener en cuenta las condiciones y características climáticas y energéticas de los emplazamientos de las infraestructuras
K24: *Realizar sumatoria de puntos
D25: Se han tenido en cuenta las condiciones geográficas y características climáticas y energéticas de los emplazamientos en la clasificación del suelo a la hora de seleccionar los emplazamientos de las infraestructuras | M25: 1 pto
C26: Infraestructuras de energía renovable eólica:
D27: a) Se ha tenido en cuenta que la pendiente del terreno no sea superior al 15%. | M27: 1 pto
D28: b) Se ha considerado el criterio de distribución de Energía por Superficie inferior a 20 Ha/Mw. | M28: 1 pto
D29: c) Se ha tenido en cuenta que si la infraestructura eólica vertirá a la red de transporte (66Kv o superior) deberá prever su cercanía a una subestación existente. | M29: 1 pto
D30: d) No se han seleccionado emplazamientos con una distancia superior a 3 Km de la red de transporte (eje norte sur) ni a más de 15 km de las subestaciones existentes. | M30: 1 pto
C31: Infraestructuras de energía renovable solar:
D32: a) Su inserción se adecúa a los elementos estructurantes del paisaje existente. | M32: 1 pto
D33: b) Se descartan terrenos orientados al Norte, Noreste o Noroeste con pendientes superiores al 5%, por soleamiento. | M33: 1 pto
D34: c) Se descartan terrenos orientados al Sur, Sureste, Suroeste, Este, Oeste con pendientes superiores al 15%. | M34: 1 pto
D35: d) La separación a núcleos urbanos deberá es como mínimo de 250 m, cuando no se trate de instalaciones para autoconsumo. | M35: 1 pto
C36: MTU-IND-03 | D36: Potencial de captación de energías renovables
D37: Energía solar: 950 kWh/m2/año; Energía eólica: <3 m/s; Energía Geotérmica: ΔT=7ºC/km. | M37: 1 pto
D38: Energía solar: 1.300 kWh/m2/año; Energía eólica: >4 m/s; Energía Geotérmica: ΔT=10ºC/km. | M38: 2 ptos
D39: Energía Solar: 1.600 kWh/m2/año; Energía eólica: >5 m/s; Energía geotérmica: ΔT=35ºC/km | M39: 3 ptos
K41: PUNTUACIÓN: | L41: 1 a 4 pto = Baja 4 a 8 ptos = Moderada > 8 ptos = Sustancial
C43: Acciones de concienciación, participación y coordinación público-privada
D45: A lo largo de las distintas fases de aprobación de un plan solo se ha realizado una de las acciones (Concienciación, participación o coordinación) | M45: Baja
D46: A lo largo de las distintas fases de aprobación de un plan se han realizado al menos 2 de las acciones (Concienciación, participación o coordinación) | M46: Moderada
D47: A lo largo de las distintas fases de aprobación de un plan se han realizado 3 o más de las acciones (Concienciación, participación o coordinación) | M47: Sustancial

Sheet MTU 2.1
B2: ='Panel Control MTU'!B48 -> MTU.2.1 | C2: ='Panel Control MTU'!C48 -> Autosuficiencia hídrica conectada
C5: Principio de proximidad
K6: *Realizar sumatoria de puntos
D7: Se ha tenido en cuenta la concentración de las infraestructuras de tratamiento de agua cerca de los centros de consumo, que aportan una mayor eficiencia porque precisan menos infraestructuras de red y reducen las pérdidas del sistema de distribución y transporte, evitando la dispersión territorial, con base al criterio de ahorro en el consumo del territorio y sus afecciones medioambientales. | M7: 1 pto
D8: Se ha ligado, la ubicación de las nuevas infraestructuras, a la clasificación y categorización del suelo, así como con cercanía a los recursos renovables y los centros de consumo para reacoplar el territorio. | M8: 1 pto
D9: Se ha tenido en cuenta la integración del modelo hídrico y de reaprovechamiento y de almacenamiento asociado a los modelos rurales e industriales para plantear la concentración y ubicación de las infraestructuras cerca de los suelos agrarios | M9: 1 pto
D10: Se han tenido en cuenta las distancias de seguridad respecto a las edificaciones existentes (residenciales, dotacionales u otras) y zonas frecuentadas por la población, así como al crecimiento futuro de los núcleos de población, con el objeto de que no queden dentro de las zonas urbanas, y resulten conformes a los planes urbanísticos y territoriales aplicables. | M10: 1 pto
K11: PUNTUACIÓN: | L11: 1 a 2 pto = Baja 2 a 3 ptos = Moderada > 3 ptos = Sustancial
C13: Acciones para transformar el sistema hídrico de “lineal” a “circular”
K14: *Realizar sumatoria de puntos
D15: Se aprovechará al máximo las infraestructuras ya existentes, potenciando el reaprovechamiento hídrico, salvo que la planificación tenga por objeto la reubicación, priorizando el reaprovechamiento únicamente cuando sean conforme al planeamiento territorial vigente. | M15: 1 pto
D16: Se ha orientado la planificación de las infraestructuras hidráulicas hacia el uso más eficiente del suelo, en transversalidad con la implantación de una densidad, intensidad y complejidad de usos suficientes para plantear un modelo de ordenación orientado hacia la reducción de la demanda de recursos y la autosuficiencia hídrica minorando consecuentemente la contaminación. | M16: 1 pto
C17: MTU-IND-14 (*) | D17: Disponibilidad de agua potable
D18: El valor obtenido tras la fórmula es < 1 | M18: 1 pto
D19: El valor obtenido tras la fórmula es =1 | M19: 2 ptos
D20: El valor obtenido tras la fórmula es >1 | M20: 3 ptos
D21: (*) Carece de unidades. Las variables que entran en las fórmulas estarán expresadas en unidades de volumen respecto al tiempo.
C22: MTU-IND-15 (*) | D22: Disponibilidad de agua no potable
D23: El valor obtenido tras la fórmula es < 1 | M23: 1 pto
D24: El valor obtenido tras la fórmula es =1 | M24: 2 ptos
D25: El valor obtenido tras la fórmula es >1 | M25: 3 ptos
D26: (*) Carece de unidades. Las variables que entran en las fórmulas estarán expresadas en unidades de volumen respecto al tiempo.
C27: MTU-IND-17 | D27: Regeneración de aguas depuradas
D28: 25-45% de agua regenerada | M28: 1 pto
D29: 45-65% de agua regenerada | M29: 2 ptos
D30: 65-85% de agua regenerada | M30: 3 ptos
K31: PUNTUACIÓN: | L31: 1 a 4 pto = Baja 4 a 8 ptos = Moderada > 8 ptos = Sustancial
C33: Acciones que potencien el autoabastecimiento hídrico
K34: *Realizar sumatoria de puntos
D35: Solo se han aplicado acciones en los Suelos Urbanizables y Suenos Urbanos No Consolidados aplicación en Suelos urbanizables | M35: 1 pto
D36: Se han aplicado acciones que fomentan la regeneración de las urbanizaciones y edificaciones existentes en al menos el 50% de la superficie del Suelo Urbano Consolidado | M36: 1 pto
D37: Se han aplicado acciones que fomentan la regeneración de las urbanizaciones y edificaciones existentes en más del 50% de la superficie del Suelo Urbano Consolidado | M37: 1 pto
C38: MTU-IND-13 (*) | D38: Autosuficiencia hídrica por usos
D39: 25-45% de autosuficiencia hídrica | M39: 1 pto
D40: 45-65% de autosuficiencia hídrica | M40: 2 ptos
D41: 65-85% de autosuficiencia hídrica | M41: 3 ptos
K42: PUNTUACIÓN: | L42: 1 a 2 pto = Baja 2 a 4 ptos = Moderada > 4 ptos = Sustancial
C44: Acciones de concienciación, participación y coordinación público-privada
D46: A lo largo de las distintas fases de aprobación de un plan solo se ha realizado una de las acciones (Concienciación, participación o coordinación) | M46: Baja
D47: A lo largo de las distintas fases de aprobación de un plan se han realizado al menos 2 de las acciones (Concienciación, participación o coordinación) | M47: Moderada
...

Sheet MTU 2.2
B2: ='Panel Control MTU'!B62 -> MTU.2.2 | C2: ='Panel Control MTU'!C62 -> Eficiencia en la producción, tratamiento de las aguas y consumo hídrico
C5: Reducción de los vertidos contaminantes tierra al mar
K6: *Realizar sumatoria de puntos
D7: La ordenación ha contemplado la coordinación entre las infraestructuras hidráulicas con el fin de viabilizar que los vertidos se unifiquen cuando sus características sean similares atendiendo más específicamente a las zonas protegidas. | M7: 1 pto
D8: Se estblecen criterios en la normativa urbanística con el fin de establecer un sistema que garantice que cualquier escorrentía procedente de una superficie pavimentada recibirá un nivel de tratamiento adecuado y conforme con las guías de mejores prácticas para el diseño de SUDS para minimizar el riesgo de contaminación. | M8: 1 pto
D9: Se ha tenido en cuenta durante el desarrollo del plan el punto de vertido con el fin de dejar en evidencia la zona de riesgo por contaminación | M9: 1 pto
C10: MTU-IND-16 | D10: Conexión de aguas marginales a EDAR
D11: 45-65% de agua regenerada | M11: 1 pto
D12: 65-85% de agua regenerada | M12: 2 ptos
D13: 85-100% de agua regenerada | M13: 3 ptos
C14: MTU-IND-17 | D14: Regeneración de aguas depuradas
D15: 25-45% de agua regenerada | M15: 1 pto
D16: 45-65% de agua regenerada | M16: 2 ptos
D17: 65-85% de agua regenerada | M17: 3 ptos
K18: PUNTUACIÓN: | L18: 1 a 3 pto = Baja 3 a 6 ptos = Moderada > 6 ptos = Sustancial
C20: Establecer criterios en la normativa urbanística para la implantación de tecnología y técnicas que promuevan la reducción del concumo energético y las emisiones de GEI en las infraestructuras hídricas
K21: *Realizar sumatoria de puntos
D22: Se han establecido criterios en la normativa urbanística sin haber tenido en cuenta los criterios y principios de la Taxonomía Verde | M22: 1 pto
D23: Se han establecido criterios en la normativa urbanística alineados únicamente con los criterios técnicos de selección de la Taxonomía Verde | M23: 2 pto
D24: Se han establecido criterios en la normativa urbanística alineados únicamente con los criterios técnicos de selección de la Taxonomía Verde y además los criterios genéricos DNSH. | M24: 3 pto
C25: MTU-IND-19 | D25: Nº de infraestructuras hídricas con ER
D26: Se preven acciones que viabilicen el aumento anual de hasta el 5% de la utilización de energía de fuentes renovables. | M26: 1 pto
D27: Se preven acciones que viabilicen el aumento anual de hasta el 5-15% de la utilización de energía de fuentes renovables. | M27: 2 ptos
D28: Se preven acciones que viabilicen el aumento anual de hasta el >15% de la utilización de energía de fuentes renovables. | M28: 3 ptos
C30: MTU-IND-20 | D30: Emisiones de GEI de las infraestructuras Hidráulicas
D31: Solo se preven acciones que reduzcan el consumo energético | M31: 1 pto
D32: Se preven acciones que reduzcan las emisiones de GEI y el consumo energético a partir de las energías renovables | M32: 2 ptos
D33: Se preven acciones que reduzcan las emisiones de GEI y el consumo energético a partir de las energías renovables y además se establezcan acciones para compensar las emisiones y conseguir un balance neutro | M33: 3 ptos
K34: PUNTUACIÓN: | L34: 1 a 3 pto = Baja 3 a 6 ptos = Moderada > 6 ptos = Sustancial
C36: Establecer criterios en la normativa urbanística para la implantación de tecnología y técnicas para la reducción de las pérdidas de la red
K37: *Realizar sumatoria de puntos
D38: Se han establecido criterios en la normativa urbanística sin haber tenido en cuenta los criterios y principios de la Taxonomía Verde | M38: 1 pto
D39: Se han establecido criterios en la normativa urbanística alineados únicamente con los criterios técnicos de selección de la Taxonomía Verde | M39: 1 pto
D40: Se han establecido criterios en la normativa urbanística alineados únicamente con los criterios técnicos de selección de la Taxonomía Verde y además los criterios genéricos DNSH. | M40: 1 pto
C42: Reaprovechamiento de las aguas pluviales y/o grises
K43: *Realizar sumatoria de puntos
C44: Taxonomía verde
D45: Se han establecido criterios en la normativa urbanística sin haber tenido en cuenta los criterios y principios de la Taxonomía Verde | M45: 1 pto
D46: Se han establecido criterios en la normativa urbanística alineados únicamente con los criterios técnicos de selección de la Taxonomía Verde | M46: 2 pto
D47: Se han establecido criterios en la normativa urbanística alineados únicamente con los criterios técnicos de selección de la Taxonomía Verde y además los criterios genéricos DNSH. | M47: 3 pto
...

Sheet MTU 2.3
B2: ='Panel Control MTU'!B75 -> MTU.2.3 | C2: ='Panel Control MTU'!C75 -> Potenciación de las SbN
C5: Sistemas Urbanos de Drenaje Sostenible (SUDS)
K6: *Realizar sumatoria de puntos
C7: Taxonomía verde
D8: Se han establecido criterios en la normativa urbanística sin haber tenido en cuenta los criterios y principios de la Taxonomía Verde | M8: 1 pto
D9: Se han establecido criterios en la normativa urbanística alineados únicamente con los criterios técnicos de selección de la Taxonomía Verde | M9: 2 ptos
D10: Se han establecido criterios en la normativa urbanística alineados únicamente con los criterios técnicos de selección de la Taxonomía Verde y además los criterios genéricos DNSH. | M10: 3 ptos
C11: Aprovechamiento de aguas pluviales
D12: Se ha previsto el aumento de la superficie impermeable (cubierta y superficie pavimentada) diseñada para permitir la recogida de aguas pluviales para su reutilización entre el 5-25% | M12: 1 pto
D13: Se ha previsto el aumento de la superficie impermeable (cubierta y superficie pavimentada) diseñada para permitir la recogida de aguas pluviales para su reutilización entre el >25-50% | M13: 2 ptos
D14: Se ha previsto el aumento de la superficie impermeable (cubierta y superficie pavimentada) diseñada para permitir la recogida de aguas pluviales para su reutilización entre el >50% | M14: 3 ptos
C15: Creación de espacios adaptados de retención y/o SUDS en las zonas vulnerables por inundación
D16: Solo se han aplicado acciones en los Suelos Urbanizables y Suenos Urbanos No Consolidados aplicación en Suelos urbanizables | M16: 1 pto
D17: Se han aplicado acciones que fomentan la regeneración de las urbanizaciones y edificaciones existentes en al menos el 50% de la superficie del Suelo Urbano Consolidado | M17: 2 ptos
D18: Se han aplicado acciones que fomentan la regeneración de las urbanizaciones y edificaciones existentes en más del 50% de la superficie del Suelo Urbano Consolidado | M18: 3 ptos
K19: PUNTUACIÓN: | L19: 1 a 3 pto = Baja 3 a 6 ptos = Moderada > 6 ptos = Sustancial
C21: Permeabilización del suelo Naturaleza I-VA
K22: *Realizar sumatoria de puntos
D23: Se han establecido criterios en la normativa urbanística sin haber tenido en cuenta los criterios y principios de la Taxonomía Verde | M23: 1 pto
D24: Se han establecido criterios en la normativa urbanística alineados únicamente con los criterios técnicos de selección de la Taxonomía Verde | M24: 2 ptos
D25: Se han establecido criterios en la normativa urbanística alineados únicamente con los criterios técnicos de selección de la Taxonomía Verde y además los criterios genéricos DNSH. | M25: 3 ptos
C26: EU-IND.21: | D26: Índice de permeabilidad del suelo
D27: Se incrementa la superficie permeable de suelo hasta 0,3 (IPS) | M27: 1 pto
D28: Se incrementa la superficie permeable de 0,3 hasta un 0,35 (IPS) | M28: 2 ptos
D29: El incremento de superficie permeable es superior un 0,35 (IPS) | M29: 3 ptos
D30: (*) aplicar este indicador tan solo sobre la superficie de las zonas vulnerables
K31: PUNTUACIÓN: | L31: 1 a 2 pto = Baja 2 a 4 ptos = Moderada > 4 ptos = Sustancial
C33: Establecer criterios en la normativa urbanística para la implantación de tecnología y técnicas que promuevan la reducción del concumo energético y las emisiones de GEI en las infraestructuras hídricas
D35: Se han establecido criterios en la normativa urbanística sin haber tenido en cuenta los criterios y principios de la Taxonomía Verde | M35: Baja
D36: Se han establecido criterios en la normativa urbanística alineados únicamente con los criterios técnicos de selección de la Taxonomía Verde | M36: Moderada
D37: Se han establecido criterios en la normativa urbanística alineados únicamente con los criterios técnicos de selección de la Taxonomía Verde y además los criterios genéricos DNSH. | M37: Sustancial

Sheet MTU 3.1
B2: ='Panel Control MTU'!B86 -> MTU.3.1 | C2: ='Panel Control MTU'!C86 -> Compatibilidad de la protección del sistema natural con la gestión de residuos
C5: Potenciar el no consumo de suelo y la preservación del suelo natural
D7: Se preve la ubicación de las infraestructuras de gestión y tratamiento de residuos en zonas no degradadas | M7: Baja
D8: Se preve la ubicación de las infraestructuras de gestión y tratamiento de residuos en zonas degradadas | M8: Moderada
D9: Se priorizar zonas o áreas degradadas y con presencia de instalaciones preexistentes para aprovechar sinergias y líneas eléctricas o subestaciones y zonas industriales en desuso | M9: Sustancial
C11: Establecer criterios en la normativa urbanística para la integración paisajística de las infraestructuras
D13: Solo se han previsto actuaciones en la edificación | M13: Baja
D14: Se han previsto actuaciones en la edificacón y su entorno | M14: Moderada
D15: Acciones en la edificación, en el entorno vinculado a un ecotono con vegetación arbórea al menos en un 80% que funcione como un colchón de amortiguación de impactos negativos | M15: Sustancial
C17: Políticas y/o acciones para viabilizar la reducción de la contaminación del suelo
D19: Se han establecido criterios en la normativa urbanística sin haber tenido en cuenta los criterios y principios de la Taxonomía Verde | M19: Baja
D20: Se han establecido criterios en la normativa urbanística alineados únicamente con los criterios técnicos de selección de la Taxonomía Verde | M20: Moderada
D21: Se han establecido criterios en la normativa urbanística alineados únicamente con los criterios técnicos de selección de la Taxonomía Verde y además los criterios genéricos DNSH. | M21: Sustancial
C23: Prever los posibles riesgos de la contaminación de los suelos y/o sobre las masas de agua para la localización de las infraestructuras
D25: Se han previsto los posibles riesgos de la contaminación de los suelos y/o sobre las masas de agua a la hora de seleccionar la ubicación de la infraestructura a instalar | M25: Moderada
C27: Acciones de concienciación, participación y coordinación público-privada
D29: A lo largo de las distintas fases de aprobación de un plan solo se ha realizado una de las acciones (Concienciación, participación o coordinación) | M29: Baja
D30: A lo largo de las distintas fases de aprobación de un plan se han realizado al menos 2 de las acciones (Concienciación, participación o coordinación) | M30: Moderada
D31: A lo largo de las distintas fases de aprobación de un plan se han realizado 3 o más de las acciones (Concienciación, participación o coordinación) | M31: Sustancial

Sheet MTU 3.2
B2: ='Panel Control MTU'!B102 -> MTU.3.2 | C2: ='Panel Control MTU'!C102 -> Viabilizar el principio de autosuficiencia
C5: Principio de proximidad
K6: *Realizar sumatoria de puntos
D7: Se ha tenido en cuenta la concentración de las infraestructuras de tratamiento y gestión de residuos cerca de los centros generadores de residuos, para aportar una mayor eficiencia a lo largo del proceso porque precisan menos infraestructuras de red y transporte, evitando la dispersión territorial, con base al criterio de ahorro en el consumo del territorio y sus afecciones medioambientales. | M7: 1 pto
D8: Se ha ligado, la ubicación de las nuevas infraestructuras, a la clasificación y categorización del suelo, así como con cercanía a los recursos renovables y los centros generadores de residuso para reacoplar el territorio. | M8: 1 pto
D9: Se ha tenido en cuenta la integración del modelo de economía circular asociado a los modelos rurales e industriales para plantear la concentración y ubicación de las infraestructuras cerca de los suelos agrarios | M9: 1 pto
D10: Se han tenido en cuenta las distancias de seguridad respecto a las edificaciones existentes (residenciales, dotacionales u otras) y zonas frecuentadas por la población, así como al crecimiento futuro de los núcleos de población, con el objeto de que no queden dentro de las zonas urbanas, y resulten conformes a los planes urbanísticos y territoriales aplicables. | M10: 1 pto
K11: PUNTUACIÓN: | L11: 1 a 2 pto = Baja 2 a 3 ptos = Moderada > 3 ptos = Sustancial
C13: Proximidad a puntos de recogida y/o puntos limpios
K14: *Realizar sumatoria de puntos
C15: MTU-IND-35 | D15: Dotación de Contenedores
D16: < 300 habitantes por contenedor. | M16: 1 pto
D17: < 200 habitantes por contenedor. | M17: 2 ptos
D18: < 100 habitantes por contenedor | M18: 3 ptos
C19: MTU-IND-36 | D19: Proximidad a un punto limpio
D20: <60% de la población con cobertura a un punto limpio (a menos de 600m) | M20: 1 pto
D21: 60-80% de la población con cobertura a un punto limpio (a menos de 600m) | M21: 2 ptos
D22: >80% de la población con cobertura a un punto limpio (a menos de 600m) | M22: 3 ptos
C23: MTU-IND-37 | D23: Proximidad a puntos de recogida de residuos (a <150 m)
D24: <60% de la población con cobertura a un punto limpio (a menos de 150m) | M24: 1 pto
D25: <60% de la población con cobertura a un punto limpio (a menos de 150m) | M25: 2 ptos
D26: <60% de la población con cobertura a un punto limpio (a menos de 150m) | M26: 3 ptos
K28: PUNTUACIÓN: | L28: 1 a 3 pto = Baja 3 a 6 ptos = Moderada > 6 ptos = Sustancial
C30: Establecer criterios en la normativa urbanística para la implantación de tecnología y técnicas que promuevan el principio de autosuficiencia
D32: Se han establecido criterios en la normativa urbanística sin haber tenido en cuenta los criterios y principios de la Taxonomía Verde | M32: Baja
D33: Se han establecido criterios en la normativa urbanística alineados únicamente con los criterios técnicos de selección de la Taxonomía Verde | M33: Moderada
D34: Se han establecido criterios en la normativa urbanística alineados únicamente con los criterios técnicos de selección de la Taxonomía Verde y además los criterios genéricos DNSH. | M34: Sustancial
C36: Acciones de concienciación, participación y coordinación público-privada
D38: A lo largo de las distintas fases de aprobación de un plan solo se ha realizado una de las acciones (Concienciación, participación o coordinación) | M38: Baja
D39: A lo largo de las distintas fases de aprobación de un plan se han realizado al menos 2 de las acciones (Concienciación, participación o coordinación) | M39: Moderada
D40: A lo largo de las distintas fases de aprobación de un plan se han realizado 3 o más de las acciones (Concienciación, participación o coordinación) | M40: Sustancial

Sheet MTU 3.3
B2: ='Panel Control MTU'!B115 -> MTU.3.3 | C2: ='Panel Control MTU'!C115 -> Reducción de emisiones de GEI
C5: Acciones para reducir el consumo energético no renovable durante el transporte y tratamiento de los residuos
K6: *Realizar sumatoria de puntos
D7: Se ha tenido en cuenta la concentración de las infraestructuras de tratamiento y gestión de residuos cerca de los centros generadores de residuos, para aportar una mayor eficiencia a lo largo del proceso porque precisan menos infraestructuras de red y transporte, evitando la dispersión territorial, con base al criterio de ahorro en el consumo del territorio y sus afecciones medioambientales. | M7: 1 pto
D8: Se ha ligado, la ubicación de las nuevas infraestructuras, a la clasificación y categorización del suelo, así como con cercanía a los recursos renovables y los centros generadores de residuso para reacoplar el territorio. | M8: 1 pto
D9: Se ha tenido en cuenta la integración del modelo de economía circular asociado a los modelos rurales e industriales para plantear la concentración y ubicación de las infraestructuras cerca de los suelos agrarios | M9: 1 pto
D10: Se han tenido en cuenta las distancias de seguridad respecto a las edificaciones existentes (residenciales, dotacionales u otras) y zonas frecuentadas por la población, así como al crecimiento futuro de los núcleos de población, con el objeto de que no queden dentro de las zonas urbanas, y resulten conformes a los planes urbanísticos y territoriales aplicables. | M10: 1 pto
D11: Se preven acciones que viabilicen el aumento anual de hasta el 5% de la utilización de energía de fuentes renovables. | M11: 1 pto
D12: Se preven acciones que viabilicen el aumento anual de hasta el 5-15% de la utilización de energía de fuentes renovables. | M12: 2 ptos
D13: Se preven acciones que viabilicen el aumento anual de hasta el >15% de la utilización de energía de fuentes renovables. | M13: 3 ptos
K14: PUNTUACIÓN: | L14: 1 a 2 pto = Baja 2 a 4 ptos = Moderada > 4 ptos = Sustancial
C16: Viabilizar la descarbonización mediante la incorporación de criterios y recomendaciones en los documentos normativos de la planificación urbanística.
D18: Se han establecido criterios en la normativa urbanística sin haber tenido en cuenta los criterios y principios de la Taxonomía Verde | M18: Baja
D19: Se han establecido criterios en la normativa urbanística alineados únicamente con los criterios técnicos de selección de la Taxonomía Verde | M19: Moderada
D20: Se han establecido criterios en la normativa urbanística alineados únicamente con los criterios técnicos de selección de la Taxonomía Verde y además los criterios genéricos DNSH. | M20: Sustancial
C22: Establecer criterios en la normativa urbanística para la implantación de tecnología y técnicas que promuevan el cumplimiento de la jerarquía de residuos
D24: Se han establecido criterios en la normativa urbanística sin haber tenido en cuenta los criterios y principios de la Taxonomía Verde | M24: Baja
D25: Se han establecido criterios en la normativa urbanística alineados únicamente con los criterios técnicos de selección de la Taxonomía Verde | M25: Moderada
D26: Se han establecido criterios en la normativa urbanística alineados únicamente con los criterios técnicos de selección de la Taxonomía Verde y además los criterios genéricos DNSH. | M26: Sustancial

Sheet MTU 3.4
B2: ='Panel Control MTU'!B126 -> MTU.3.4 | C2: ='Panel Control MTU'!C126 -> Economía circular
C5: Plan Integral de Residuos y/o Plan de Gestión de Residuos
D7: Existe un Plan Integran de Residuos o un Plan de Gestión de Residuos. | M7: Baja
D8: Existe un Plan Integran de Residuos o un Plan de Gestión de Residuos y está coordinado con la ordenacion territorial y urbana | M8: Moderada
D9: Existe un Plan Integran de Residuos o un Plan de Gestión de Residuos y está coordinado con la ordenacion territorial y urbana y además cuenta con proceso participativo | M9: Sustancial
C11: Criterios normativos para la construcción de urbanizaciones y la edificación, la utilización de materiales y productos que tengan distintivos y/o certificaciones de calidad ambiental
D13: Se han establecido criterios en la normativa urbanística sin haber tenido en cuenta los criterios y principios de la Taxonomía Verde | M13: Baja
D14: Se han establecido criterios en la normativa urbanística alineados únicamente con los criterios técnicos de selección de la Taxonomía Verde | M14: Moderada
D15: Se han establecido criterios en la normativa urbanística alineados únicamente con los criterios técnicos de selección de la Taxonomía Verde y además los criterios genéricos DNSH. | M15: Sustancial
C17: Revalorización de los residuos
D19: Se han establecido criterios en la normativa urbanística sin haber tenido en cuenta los criterios y principios de la Taxonomía Verde | M19: 1 pto
D20: Se han establecido criterios en la normativa urbanística alineados únicamente con los criterios técnicos de selección de la Taxonomía Verde | M20: 1 pto
D21: Se han establecido criterios en la normativa urbanística alineados únicamente con los criterios técnicos de selección de la Taxonomía Verde y además los criterios genéricos DNSH. | M21: 1 pto
C22: MTU-IND-26 Cierre de ciclo de la materia orgánica
D23: <12,5% de cierre | M23: 1 pto
D24: 12,5-50% de cierre | M24: 2 ptos
D25: >50% de cierre | M25: 3 ptos
C26: MTU-IND-29 Disponibilidad de materiales de construcción para su reutilización
D27: <25% de residuos reutilizables | M27: 1 pto
D28: 25% de residuos reutilizables | M28: 2 ptos
D29: >35% de residuos reutilizables | M29: 3 ptos
C30: MTU-IND-30 Uso de materiales preparados para la reutilización, locales y de bajo impacto
D31: <20% de materiales utilizados son reutilizados, locales o de bajo impacto | M31: 1 pto
D32: 20-40% de materiales utilizados son reutilizados, locales o de bajo impacto | M32: 2 ptos
D33: >70% de materiales utilizados son reutilizados, locales o de bajo impacto | M33: 3 ptos
C34: MTU-IND-34 Recogida Selectiva Neta.
D35: RSEL+ RSPc+ RSV = <20 % | M35: 1 pto
D36: RSEL+ RSPc+ RSV = 20-40 % | M36: 2 ptos
D37: RSEL+ RSPc+ RSV = >40 % | M37: 3 ptos
D38: (*) RSEL = Recogida Selectiva Envases Ligeros; RSPC = Recogida Selectiva Papel Cartón; RSV = Recogida Selectiva Vidrio
K39: PUNTUACIÓN: | L39: 1 a 4 pto = Baja 4 a 8 ptos = Moderada >8 ptos = Sustancial
C41: Coordinación ordenación estructural y urbana con la localización de las infraestructuras
C43: MTU-IND-27 | D43: Integración con el modelo de gestión de residuos contiguo
D44: El sistema propuesto espera una menor o igual generación de residuos per cápita. | M44: 1 pto
D45: El sistema propuesto implica una recogida selectiva mayor o igual que el modelo contiguo. | M45: 1 pto
D46: El sistema propuesto tiene un igual o menor coste por tonelada que el modelo contiguo. | M46: 1 pto
C47: MTU-IND-32 | D47: Existencia de lugares o actividades con potencial para el cierre del ciclo de la materia orgánica | M47: 1 pto
K48: PUNTUACIÓN: | L48: 1 a 2 pto = Baja 2 a 3 ptos = Moderada > 3 ptos = Sustancial
C50: Medidas operativas y/o ambientales, incorporadas en la normativa urbanística o a través de las ordenanzas municipales, para fomentar la reutilización y la gestión sostenible de los residuos RCD de acuerdo con la normativa vigente asegurando el seguimiento de estas actividades.
D52: Se han establecido criterios en la normativa urbanística sin haber tenido en cuenta los criterios y principios de la Taxonomía Verde | M52: Baja
...

Sheet MTU 4.1
B2: ='Panel Control MTU'!B141 -> MTU.4.1 | C2: ='Panel Control MTU'!C141 -> Evaluación y gestión de riesgos
C4: Plan de Gestión de Riesgos y reducción de las Vulnerabilidades de las infraestruturas
D6: Existe un Plan de Gestión de Riesgos | M6: Baja
D7: Existe un Plan de Gestión de Riesgos y esta coordinado con la ordenación | M7: Moderada
D8: Existe un Plan de Gestión de Riesgos coordinado con la ordenación y además cuenta con proceso participativo y de concienciación, y se evidencian acciones de coordinación público-privada | M8: Sustancial
C10: Detección de zonas de riesgo para no prever nuevas infraestructuras
D12: Se detectan esas zonas en el Plan de Gestión de Riesgos | M12: Baja
D13: El Plan de Gestión de Riesgos detecta zonas con riesgo, infraestructuras en riesgo y propone acciones de adaptación y/o alternativas de actuación | M13: Moderada
D14: El Plan de Gestión de Riesgos detecta zonas con riesgo, infraestructuras en riesgo y acciones de adaptación y/o alternativas de actuación y se evidencian la coordinación público-privada | M14: Sustancial
C16: Valorar el coste de la no adaptación del SGI ante posibles riesgos
D18: Se ha abordado la valoración del coste de la no adaptación del SGI de forma cualitativa | M18: Baja
D19: Se ha abordado la valoración del coste de la no adaptación del SGI de forma cuantitativa | M19: Moderada
D20: Se ha abordado la valoración del coste de la no adaptación del SGI de forma cuantitativa y se ha utilizado com criterio de ponderación y/o selección para la toma de decisiones en el modelo de ordenación | M20: Sustancial

Sheet MTU 4.2
B2: ='Panel Control MTU'!B153 -> MTU.4.2 | C2: ='Panel Control MTU'!C153 -> Adaptación y recuperación de la vinculación del sistema urbano al ciclo del agua
C5: Calidad y/o obsolescencia de las infraestructuras de transporte
D7: Se han detectado las Infraestructuras de servicios esenciales que se encuentran en mal estado de conservacion | M7: Baja
D8: Se han detectado las Infraestructuras de servicios esenciales que se encuentran en riesgo | M8: Moderada
D9: Se han detectado las Infraestructuras de servicios esenciales que se encuentran en riesgo y en mal estado de conservacion con el fin de adaptarlas o trasladarlas a otra ubicación sin riesgo | M9: Sustancial
C11: Establecimiento de criterios urbanísticos para la adaptación de las infraestructuras existentes y para aplicarlas en las nuevas que se propongan en la ordenación
D13: Se han establecido criterios en la normativa urbanística sin haber tenido en cuenta los criterios y principios de la Taxonomía Verde | M13: Baja
D14: Se han establecido criterios en la normativa urbanística alineados únicamente con los criterios técnicos de selección de la Taxonomía Verde | M14: Moderada
D15: Se han establecido criterios en la normativa urbanística alineados únicamente con los criterios técnicos de selección de la Taxonomía Verde y además los criterios genéricos DNSH. | M15: Sustancial
C17: Sistemas Urbanos de Drenaje Sostenible (SUDS)
D19: Se han establecido criterios en la normativa urbanística sin haber tenido en cuenta los criterios y principios de la Taxonomía Verde | M19: Baja
D20: Se han establecido criterios en la normativa urbanística alineados únicamente con los criterios técnicos de selección de la Taxonomía Verde | M20: Moderada
D21: Se han establecido criterios en la normativa urbanística alineados únicamente con los criterios técnicos de selección de la Taxonomía Verde y además los criterios genéricos DNSH. | M21: Sustancial
C23: Acciones para fomentar la regeneración del agua
D25: Se han establecido criterios en la normativa urbanística sin haber tenido en cuenta los criterios y principios de la Taxonomía Verde | M25: Baja
D26: Se han establecido criterios en la normativa urbanística alineados únicamente con los criterios técnicos de selección de la Taxonomía Verde | M26: Moderada
D27: Se han establecido criterios en la normativa urbanística alineados únicamente con los criterios técnicos de selección de la Taxonomía Verde y además los criterios genéricos DNSH. | M27: Sustancial
