Workbook

Sheet TABLA_MA-cambiar nombres aqui
B2: MOVILIDAD Y ACCESIBILIDAD | C2: EJES DE INTEGRACIÓN | D2: LÍNEAS DE ANÁLISIS | E2: CRITERIO | H2: INDICADORES
C3: TRANSPORTE: SOSTENIBLE, PÚBLICO Y EFICIENTE | D3: TRANSPORTE, CONECTIVIDAD Y TRASVASE MODAL | E3: MA.1.1 | F3: Territorio de los 45 min (Conectividad rural y zonas periféricas) | G3: Emisiones de GEI, Conectividad, servicio de transporte flexible, proximidad dotaciones y equipamientos, Planes de Transporte Público (PTP), Planes de Movilidad Sostenible (PMS), Aparcamientos disuasorios y estaciones intermodales, reducción espacio público de aparcamiento | H3: Distribución modal del transporte interurbano, Proximidad a la red de transporte público, dotación de aparcamientos
D4: INTERMODALIDAD Y OFERTA DE APARCAMIENTO | E4: MA.1.2 | F4: Modelo de movilidad intermodal
C5: MOVILIDAD. URBANISMO DE PROXIMIDAD | D5: RECORRIDOS EFICIENTES Y EFICACES DEL TRANSPORTE PÚBLICO URBANO | E5: MA.2.1 | F5: Ciudad de los 15 min. | G5: Transporte público urbano, transporte sostenible, Estudio distancias y tiempos de desplazamiento | H5: Distribución modal del transporte urbano, Proximidad a la red de transporte público, dotación de aparcamiento fuera de calzada, Espacio destinado a infraestructuras viarias rodadas
E6: MA.2.2 | F6: Gestión de la demanda de la movilidad privada urbana
D7: CIUDAD DE LOS 15 MIN. APROPIACIÓN DEL ESPACIO PÚBLICO POR PARTE DE LA CIRCULACIÓN PEATONAL Y CICLISTA | E7: MA.2.3 | F7: Gestión eficiente del aparcamiento
C8: CIUDAD CON BALANCE NEUTRO | D8: TRANSICIÓN AL TRANSPORTE SOSTENIBLE, INTELIGENTE Y EMISIONES 0 | E8: MA.3.1 | F8: Smart City y reducción de emisiones de GEI | G8: Descontaminación, Sostenibilidad ambiental, economía circular | H8: Calidad del suelo,, Cierre de ciclo de la materia orgánica, emisiones de GEI, Producción Per Cápita de Residuos, Valorización RCD, Existencia de lugares o actividades con potencial para el cierre del ciclo de la materia orgánica, Recogida selectiva neta, cobertura contenedores RSU/punto limpio, Dotación de Contenedores
C9: INFRAESTRUCTURAS: RESILIENCIA, ADAPTACIÓN Y NATURALEZA | D9: INFRAESTRUCTURAS RESISTENTES Y RESILIENTES INTEGRACIÓN DE LA NATURALEZA (SbN). PERMEABILIDAD DEL SUELO | E9: MA.4.1 | F9: Evaluación y gestión de riesgos | G9: Capacidad, evolución de las precipitaciones, riesgos, usos del suelo, Permeabilidad del suelo, Renaturalización, | H9: Infraestructuras en riesgo, Índice de permeabilidad del suelo, SbN, Obsolescencia de las infraestructuras viarias,
E10: MA.4.2 | F10: Adaptación, IV-A y permeabilidad del suelo

Sheet Tabla Resultados MA
B2: MOVILIDAD Y ACCESIBILIDAD (MA) | C2: EJES DE INTEGRACIÓN | D2: LÍNEAS DE ANÁLISIS | E2: CRITERIO | G2: Peso del área | H2: Peso del Criterio | I2: Puntuacion inicial del criterio | J2: Porcentaje de cumplimiento
C3: ='TABLA_MA-cambiar nombres aqui'!C3:C4 -> TRANSPORTE: SOSTENIBLE, PÚBLICO Y EFICIENTE | D3: ='TABLA_MA-cambiar nombres aqui'!D3 -> TRANSPORTE, CONECTIVIDAD Y TRASVASE MODAL | E3: ='TABLA_MA-cambiar nombres aqui'!E3 -> MA.1.1 | F3: ='TABLA_MA-cambiar nombres aqui'!F3 -> Territorio de los 45 min (Conectividad rural y zonas periféricas) | G3: =100%/6 -> 0.16666667 | H3: 0.022 | I3: ='Panel Control MA'!Q10 -> 0.022 | J3: =SUM(I3:I10) -> 0.1667
D4: ='TABLA_MA-cambiar nombres aqui'!D4 -> INTERMODALIDAD Y OFERTA DE APARCAMIENTO | E4: ='TABLA_MA-cambiar nombres aqui'!E4 -> MA.1.2 | F4: ='TABLA_MA-cambiar nombres aqui'!F4 -> Modelo de movilidad intermodal | H4: 0.0215 | I4: ='Panel Control MA'!Q23 -> 0.0215
C5: ='TABLA_MA-cambiar nombres aqui'!C5:C7 -> MOVILIDAD. URBANISMO DE PROXIMIDAD | D5: ='TABLA_MA-cambiar nombres aqui'!D5:D6 -> RECORRIDOS EFICIENTES Y EFICACES DEL TRANSPORTE PÚBLICO URBANO | E5: ='TABLA_MA-cambiar nombres aqui'!E5 -> MA.2.1 | F5: ='TABLA_MA-cambiar nombres aqui'!F5 -> Ciudad de los 15 min. | H5: 0.022 | I5: ='Panel Control MA'!Q40 -> 0.022
D6: ='TABLA_MA-cambiar nombres aqui'!D7 -> CIUDAD DE LOS 15 MIN. APROPIACIÓN DEL ESPACIO PÚBLICO POR PARTE DE LA CIRCULACIÓN PEATONAL Y CICLISTA | E6: ='TABLA_MA-cambiar nombres aqui'!E6 -> MA.2.2 | F6: ='TABLA_MA-cambiar nombres aqui'!F6 -> Gestión de la demanda de la movilidad privada urbana | H6: 0.0205 | I6: ='Panel Control MA'!Q51 -> 0.0205
E7: ='TABLA_MA-cambiar nombres aqui'!E7 -> MA.2.3 | F7: ='TABLA_MA-cambiar nombres aqui'!F7 -> Gestión eficiente del aparcamiento | H7: 0.019 | I7: ='Panel Control MA'!Q66 -> 0.019
C8: ='TABLA_MA-cambiar nombres aqui'!C8 -> CIUDAD CON BALANCE NEUTRO | D8: ='TABLA_MA-cambiar nombres aqui'!D8:D8 -> TRANSICIÓN AL TRANSPORTE SOSTENIBLE, INTELIGENTE Y EMISIONES 0 | E8: ='TABLA_MA-cambiar nombres aqui'!E8 -> MA.3.1 | F8: ='TABLA_MA-cambiar nombres aqui'!F8 -> Smart City y reducción de emisiones de GEI | H8: 0.018 | I8: ='Panel Control MA'!Q80 -> 0.018
C9: ='TABLA_MA-cambiar nombres aqui'!C9:C10 -> INFRAESTRUCTURAS: RESILIENCIA, ADAPTACIÓN Y NATURALEZA | D9: ='TABLA_MA-cambiar nombres aqui'!D9 -> INFRAESTRUCTURAS RESISTENTES Y RESILIENTES INTEGRACIÓN DE LA NATURALEZA (SbN). PERMEABILIDAD DEL SUELO | E9: ='TABLA_MA-cambiar nombres aqui'!E9 -> MA.4.1 | F9: ='TABLA_MA-cambiar nombres aqui'!F9 -> Evaluación y gestión de riesgos | H9: 0.0217 | I9: ='Panel Control MA'!Q93 -> 0.0217
E10: ='TABLA_MA-cambiar nombres aqui'!E10 -> MA.4.2 | F10: ='TABLA_MA-cambiar nombres aqui'!F10 -> Adaptación, IV-A y permeabilidad del suelo | H10: 0.022 | I10: ='Panel Control MA'!Q107 -> 0.022
H11: =SUM(H3:H10) -> 0.1667

Sheet Panel Control MA
G2: Peso del criterio | H2: Cumplimiento | J2: Indicaciones | K2: Contribución del criterio | N2: Rango contribucion del criterio | O2: Porcentaje Contribución | P2: Puntuación inicial del criterio
B3: ='TABLA_MA-cambiar nombres aqui'!E3 -> MA.1.1 | C3: ='TABLA_MA-cambiar nombres aqui'!F3 -> Territorio de los 45 min (Conectividad rural y zonas periféricas) | G3: ='Tabla Resultados MA'!H3 -> 0.022
K4: Baja | L4: Moderada | M4: Sustancial
K5: =(G6/3) -> 0.0025 | L5: =(G6/3)*2 -> 0.005 | M5: =(G6/3)*3 -> 0.0075
C6: Vertebración territorial de las zonas rurales periféricas a través de sistemas de transporte público flexible | G6: 0.0075 | H6: Sí | I6: =IF(H6="Sí",1)+IF(H6="No",0) -> 1 | J6: ver MA.1.1 | N6: 3 | O6: =INDEX(K5:M5,N6) -> 0.0075 | P6: =O6*I6 -> 0.0075 | AB6: 1
K7: =(G8/3) -> 0.0025 | L7: =(G8/3)*2 -> 0.005 | M7: =(G8/3)*3 -> 0.0075
C8: Conectividad de los núcleos periféricos y dispersos con las dotaciones y equipamientos en transporte público | G8: 0.0075 | H8: Sí | I8: =IF(H8="Sí",1)+IF(H8="No",0) -> 1 | J8: ver MA.1.1 | N8: 3 | O8: =INDEX(K7:M7,N8) -> 0.0075 | P8: =O8*I8 -> 0.0075
K9: =(G10/3) -> 0.0023333333 | L9: =(G10/3)*2 -> 0.0046666667 | M9: =(G10/3)*3 -> 0.007
C10: Proximidad rural al transporte público | G10: 0.007 | H10: Sí | I10: =IF(H10="Sí",1)+IF(H10="No",0) -> 1 | J10: ver MA.1.1 | N10: 3 | O10: =INDEX(K9:M9,N10) -> 0.007 | P10: =O10*I10 -> 0.007 | Q10: =SUM(P6:P10) -> 0.022
G11: =SUM(G6:G10) -> 0.022
G13: Peso del criterio | H13: Cumplimiento | J13: Indicaciones | K13: Contribución del criterio | N13: Rango contribucion del criterio | O13: Porcentaje Contribución | P13: Puntuación inicial del criterio
B14: ='TABLA_MA-cambiar nombres aqui'!E4 -> MA.1.2 | C14: ='TABLA_MA-cambiar nombres aqui'!F4 -> Modelo de movilidad intermodal | G14: ='Tabla Resultados MA'!H4 -> 0.0215
K15: Baja | L15: Moderada | M15: Sustancial
H16: Sí | K16: =(G17/3) -> 0.001 | L16: =(G17/3)*2 -> 0.002 | M16: =(G17/3)*3 -> 0.003
C17: Planes de Transporte Público (PTP) con fomento de intercambiadores de transporte | G17: 0.003 | H17: Sí | I17: =IF(H17="Sí",1)+IF(H17="No",0) -> 1 | J17: ver MA.1.2 | N17: 3 | O17: =INDEX(K16:M16,N17) -> 0.003 | P17: =O17*I17 -> 0.003
H18: Sí | K18: =(G19/3) -> 0.0025 | L18: =(G19/3)*2 -> 0.005 | M18: =(G19/3)*3 -> 0.0075
C19: Estudio de Movilidad (EM) y/o Plan de Movilidad Sostenible (PMS) | G19: 0.0075 | H19: Sí | I19: =IF(H19="Sí",1)+IF(H19="No",0) -> 1 | J19: ver MA.1.2 | N19: 3 | O19: =INDEX(K18:M18,N19) -> 0.0075 | P19: =O19*I19 -> 0.0075
H20: Sí | K20: =(G21/3) -> 0.0026666667 | L20: =(G21/3)*2 -> 0.0053333333 | M20: =(G21/3)*3 -> 0.008
C21: Viabilizar la relación, conexión y combinación entre todos los medios de transporte | G21: 0.008 | H21: Sí | I21: =IF(H21="Sí",1)+IF(H21="No",0) -> 1 | J21: ver MA.1.2 | N21: 3 | O21: =INDEX(K20:M20,N21) -> 0.008 | P21: =O21*I21 -> 0.008
H22: Sí | K22: =(G23/3) -> 0.001 | L22: =(G23/3)*2 -> 0.002 | M22: =(G23/3)*3 -> 0.003
C23: Acciones de mejora de la calidad del servicio de transporte público | G23: 0.003 | H23: Sí | I23: =IF(H23="Sí",1)+IF(H23="No",0) -> 1 | J23: ver MA.1.2 | N23: 3 | O23: =INDEX(K22:M22,N23) -> 0.003 | P23: =O23*I23 -> 0.003 | Q23: =SUM(P17:P23) -> 0.0215
G24: =SUM(G17:G23) -> 0.0215
G26: Peso del criterio | H26: Cumplimiento | J26: Indicaciones | K26: Contribución del criterio | N26: Rango contribucion del criterio | O26: Porcentaje Contribución | P26: Puntuación inicial del criterio
B27: ='TABLA_MA-cambiar nombres aqui'!E5 -> MA.2.1 | C27: ='TABLA_MA-cambiar nombres aqui'!F5 -> Ciudad de los 15 min. | G27: ='Tabla Resultados MA'!H5 -> 0.022
K28: Baja | L28: Moderada | M28: Sustancial
K29: =(G30/3) -> 0.0013333333 | L29: =(G30/3)*2 -> 0.0026666667 | M29: =(G30/3)*3 -> 0.004
C30: Plan de Movilidad Urbana Sostenibile (PMUS) | G30: 0.004 | H30: Sí | I30: =IF(H30="Sí",1)+IF(H30="No",0) -> 1 | J30: ver MA.2.1 | N30: 3 | O30: =INDEX(K29:M29,N30) -> 0.004 | P30: =O30*I30 -> 0.004
H31: Sí | I31: =IF(H31="Sí",1)+IF(H31="No",0) -> 1 | K31: =(G32/3) -> 0.00083333333 | L31: =(G32/3)*2 -> 0.0016666667 | M31: =(G32/3)*3 -> 0.0025
C32: Plan Director de La Bicicleta (Políticas para promover el uso de la bicicleta) | G32: 0.0025 | H32: Sí | I32: =IF(H32="Sí",1)+IF(H32="No",0) -> 1 | J32: ver MA.2.1 | N32: 3 | O32: =INDEX(K31:M31,N32) -> 0.0025 | P32: =O32*I32 -> 0.0025
H33: Sí | I33: =IF(H33="Sí",1)+IF(H33="No",0) -> 1 | K33: =(G34/3) -> 0.0013333333 | L33: =(G34/3)*2 -> 0.0026666667 | M33: =(G34/3)*3 -> 0.004
C34: Proximidad al transporte público colectivo y mejora de la calidad del servicio | G34: 0.004 | H34: Sí | I34: =IF(H34="Sí",1)+IF(H34="No",0) -> 1 | J34: ver MA.2.1 | N34: 3 | O34: =INDEX(K33:M33,N34) -> 0.004 | P34: =O34*I34 -> 0.004
H35: Sí | I35: =IF(H35="Sí",1)+IF(H35="No",0) -> 1 | K35: =(G36/3) -> 0.0013333333 | L35: =(G36/3)*2 -> 0.0026666667 | M35: =(G36/3)*3 -> 0.004
C36: Reordenar el espacio público de cara a aumentar el espacio para los modos no motorizados | G36: 0.004 | H36: Sí | I36: =IF(H36="Sí",1)+IF(H36="No",0) -> 1 | J36: ver MA.2.1 | N36: 3 | O36: =INDEX(K35:M35,N36) -> 0.004 | P36: =O36*I36 -> 0.004
H37: Sí | I37: =IF(H37="Sí",1)+IF(H37="No",0) -> 1 | K37: =(G38/3) -> 0.0013333333 | L37: =(G38/3)*2 -> 0.0026666667 | M37: =(G38/3)*3 -> 0.004
C38: Accesibilidad universal | G38: 0.004 | H38: Sí | I38: =IF(H38="Sí",1)+IF(H38="No",0) -> 1 | J38: ver MA.2.1 | N38: 3 | O38: =INDEX(K37:M37,N38) -> 0.004 | P38: =O38*I38 -> 0.004
H39: Sí | I39: =IF(H39="Sí",1)+IF(H39="No",0) -> 1 | K39: =(G40/3) -> 0.0011666667 | L39: =(G40/3)*2 -> 0.0023333333 | M39: =(G40/3)*3 -> 0.0035
C40: Proximidad a la red ciclista | G40: 0.0035 | H40: Sí | I40: =IF(H40="Sí",1)+IF(H40="No",0) -> 1 | J40: ver MA.2.1 | N40: 3 | O40: =INDEX(K39:M39,N40) -> 0.0035 | P40: =O40*I40 -> 0.0035 | Q40: =SUM(P30:P40) -> 0.022
G41: =SUM(G30:G40) -> 0.022
G43: Peso del criterio | H43: Cumplimiento | J43: Indicaciones | K43: Contribución del criterio | N43: Rango contribucion del criterio | O43: Porcentaje Contribución | P43: Puntuación inicial del criterio
B44: ='TABLA_MA-cambiar nombres aqui'!E6 -> MA.2.2 | C44: ='TABLA_MA-cambiar nombres aqui'!F6 -> Gestión de la demanda de la movilidad privada urbana | G44: ='Tabla Resultados MA'!H6 -> 0.0205
...

Sheet MA 1.1
B2: ='Panel Control MA'!B3 -> MA.1.1 | C2: ='Panel Control MA'!C3 -> Territorio de los 45 min (Conectividad rural y zonas periféricas)
C5: Vertebración territorial de las zonas rurales periféricas a través de sistemas de transporte público flexible
K6: *Realizar sumatoria de puntos
D7: Se ha redactado un PMUS donde se tiene en cuenta la vertebración territorial y la conectividad de las zonas rurales y se valora la opción del transporte público flexible y /o a la demanda | M7: 1 pto
D8: Se ha redactado un Plan Territorial del Transporte Público (PTP) donde se tiene en cuenta conectividad de las zonas rurales mediante el transporte público valorando valorando el transporte flexible y/o a la demanda | M8: 1 pto
D9: El PTP y el PMUS incluye un proceso participativo para detectar la matriz origen de toda la población con el fin de establecer un servicio de transporte público equitativo e igualitario para toda la población | M9: 1 pto
D10: El PTP y el PMUS están coordinados para fomentar la iintermodalidad con otros medios de transporte | M10: 1 pto
K11: PUNTUACIÓN: | L11: 1 a 2 pto = Baja 3 ptos = Moderado 4 ptos = Sustancial
C13: Conectividad de los núcleos periféricos y dispersos con las dotaciones y equipamientos en transporte público
D15: La ordenación propone un modelo de movilidad rural en el que el tiempo máximo de desplazamiento a los servicios básicos es de 45 min en transporte público. | M15: Baja
D16: La ordenación propone un modelo de movilidad rural en el que el tiempo máximo de desplazamiento a los servicios básicos es de 30 min en transporte público. | M16: Moderada
D17: La ordenación propone un modelo de movilidad rural en el que el tiempo máximo de desplazamiento a los servicios básicos es de 15 min en transporte público. | M17: Sustancial
C19: Proximidad rural al transporte público
D21: Superficie de suelo con cobertura a <=1.200 m (30 min en modo no motorizado) de la parada de guagua | M21: Baja
D22: Superficie de suelo con cobertura hasta <=900 m (20 min en modo no motorizado) de la parada de guagua | M22: Moderada
D23: Superficie de suelo con cobertura a máximo <=600 m (15 min en modo no motorizado) de la parada de guagua | M23: Sustancial
C25: .

Sheet MA 1.2
B2: ='Panel Control MA'!B14 -> MA.1.2 | C2: ='Panel Control MA'!C14 -> Modelo de movilidad intermodal
C5: Planes de Transporte Público (PTP) con fomento de intercambiadores de transporte
D7: Existe Plan de Transporte Público | M7: Baja
D8: El Plan Territorial del Transporte Público (PTP) está coordinado con la ordenación urbanística | M8: Moderada
D9: El PTP está coordinado con la ordenación urbanística y además incluye un proceso participativo para detectar la matriz origen de toda la población con el fin de establecer un servicio de transporte público equitativo e igualitario para toda la población | M9: Sustancial
C11: Estudio de Movilidad (EM) y/o Plan de Movilidad Sostenible (PMS)
D13: Existe Estudio de Movilidad Sostenible (EMS) y/o un Plan de Movilidad Sostenible (PMS) | M13: Baja
D14: El EMS y/o un PMS está coordinado con la ordenación urbanística | M14: Moderada
D15: El EMU y/o un PMS está coordinado con la ordenación urbanística donde se ha desarrollado un proceso participativo y se mantuvieron reuniones con las autoridades locales y responsables de carreteras y otras redes de transportes a nivel local y/o regional | M15: Sustancial
C17: Acciones de mejora de la calidad del servicio de transporte público
D19: Existe Plan de Transporte Público (PTP) | M19: Baja
D20: El PTP propone acciones coordinadas con empresas público y privadas | M20: Moderada
D21: El PTP propone acciones coordinadas con empresas público y privadas y mejoran la conectividad rural y urbana a la par y de manera equitativa e igualitaria | M21: Sustancial

Sheet MA 2.1
B2: ='Panel Control MA'!B27 -> MA.2.1 | C2: ='Panel Control MA'!C27 -> Ciudad de los 15 min.
C5: Estudio de Movilidad Urbana (EMS) y/o Plan de Movilidad Urbana Sostenible (PMUS)
D7: Existe Estudio de Movilidad Urbana (EMU) y/o un Plan de Movilidad Urbana Sostenible (PMUS) | M7: Baja
D8: El EMU y/o un PMUS está coordinado con la ordenación urbanística | M8: Moderada
D9: El EMU y/o un PMUS está coordinado con la ordenación urbanística donde se ha desarrollado un proceso participativo y se mantuvieron reuniones con las autoridades locales y responsables de carreteras y otras redes de transportes a nivel local y/o regional | M9: Sustancial
C11: Plan Director de La Bicicleta (Políticas para promover el uso de la bicicleta)
D13: Existe un Plan Director de la Bicicleta | M13: Baja
D14: El Plan Director de la Bicicleta está coordinado con la ordenación urbanística | M14: Moderada
D15: El Plan Director de la Bicicleta está coordinado con la ordenación urbanística y además incluye un proceso participativo | M15: Sustancial
C17: Proximidad al transporte público colectivo y mejora de la calidad del servicio
K18: *Realizar sumatoria de puntos
D19: Existe un Plan de Transporte Público Urbano (PTPU) que propone acciones coordinadas con empresas público y privadas para mejorar el servicio de transpore público urbano y la intermodalidad con otros medios de transporte | M19: 1 pto
C20: MA-IND-02 | D20: Proximidad al transporte público
D21: 80% de la población a menos de 300m de paradas de transporte público | M21: 1 pto
D22: Entre 80 y 90% de la población menos de 300m a paradas de transporte público | M22: 2 ptos
D23: Entre el 90 y el 100% de la población a menos de 300m de paradas de transporte público | M23: 3 ptos
K24: PUNTUACIÓN: | L24: 1 pto = Baja 2 a 3 ptos = Moderado 4 ptos = Sustancial
C26: Reordenar el espacio público de cara a aumentar el espacio para los modos no motorizados
K27: *Realizar sumatoria de puntos
D28: Se ha elabotado un un estudio de viabilidad/un análisis teórico utilizando la información obtenida a partir del EMU o PMUS para determinar las opciones de transporte alternativo más apropiadas al desarrollo urbanístico. | M28: 1 pto
C29: MA-IND-16 | D29: Espacio destinado a infraestructuras viarias no rodadas
D30: 30 - 50% de espacio público destinado al peatón | M30: 1 pto
D31: 50 - 75% de espacio público destinado al peatón | M31: 2 ptos
D32: > 75%% de espacio público destinado al peatón | M32: 3 ptos
K33: PUNTUACIÓN: | L33: 1 pto = Baja 2 a 3 ptos = Moderado 4 ptos = Sustancial
C35: Accesibilidad universal
C37: MA-IND-15 | D37: Accesibilidad de los viarios peatonales
D38: 40% accesibilidad excelente, 50 % buena, 10% sin accesibilidad de los tramos de calle | M38: Baja
D39: 65% accesibilidad excelente, 35 % buena, 0% sin accesibilidad de los tramos de calle | M39: Moderada
D40: Más 65% accesibilidad excelente, 0% sin accesibilidad | M40: Sustancial
C42: Proximidad a la red ciclista
C44: MA-IND-04 | D44: Proximidad al transporte público
D45: 80% de la población a menos de 300m de algún elemento de la red ciclista | M45: Baja
D46: Entre 80 y 90% de la población menos de 300m de algún elemento de la red ciclista | M46: Moderada
D47: Entre el 90 y el 100% de la población a menos de 300m de algún elemento de la red ciclista | M47: Sustancial

Sheet MA 2.2
B2: ='Panel Control MA'!B44 -> MA.2.2 | C2: ='Panel Control MA'!C44 -> Gestión de la demanda de la movilidad privada urbana
C5: Estudio de Movilidad Urbana (EMS) y/o Plan de Movilidad Urbana Sostenible (PMUS)
D7: Existe Estudio de Movilidad Urbana (EMU) y/o un Plan de Movilidad Urbana Sostenible (PMUS) | M7: Baja
D8: El EMU y/o un PMUS está coordinado con la ordenación urbanística | M8: Moderada
D9: El EMU y/o un PMUS está coordinado con la ordenación urbanística donde se ha desarrollado un proceso participativo y se mantuvieron reuniones con las autoridades locales y responsables de carreteras y otras redes de transportes a nivel local y/o regional | M9: Sustancial
C11: Zonas de Bajas Emisiones (ZBE)
D13: Existe una estrategia de Zonas de Bajas Emisiones | M13: Baja
D14: Existe una estrategia de Zonas de Bajas Emisiones coordinada con el modelo de ordenación | M14: Moderada
D15: Existe una estrategia de Zonas de Bajas Emisiones coordinada con el modelo de ordenación, con el PMUS y además, para su desarrollo se ha realizado un proceso participativo | M15: Sustancial
C17: Reordenar el espacio público de cara a reducir el espacio para el vehículo privado
K18: *Realizar sumatoria de puntos
D19: Se ha elabotado un un estudio de viabilidad/un análisis teórico utilizando la información obtenida a partir del EMU o PMUS para determinar las opciones de transporte alternativo más apropiadas al desarrollo urbanístico. | M19: 1 pto
C20: MA-IND-10 | D20: Espacio destinado a infraestructuras viarias no rodadas
D21: Existencia de >75% de viarios rodados en el total de infraestructuras viarias del ámbito | M21: 1 pto
D22: Existencia de 75-55% de viarios rodados en el total de infraestructuras viarias del ámbito | M22: 2 ptos
D23: Existencia de <55% de viarios rodados en el total de infraestructuras viarias del ámbito | M23: 3 ptos
K24: PUNTUACIÓN: | L24: 1 pto = Baja 2 ptos = Moderado ≥3 ptos = Sustancial

Sheet MA 2.3
B2: ='Panel Control MA'!B55 -> MA.2.3 | C2: ='Panel Control MA'!C55 -> Gestión eficiente del aparcamiento
C5: Plan de Movilidad Urbana Sostenibile (PMUS)
D7: Existe Estudio de Movilidad Urbana (EMU) y/o un Plan de Movilidad Urbana Sostenible (PMUS) | M7: Baja
D8: El EMU y/o un PMUS está coordinado con la ordenación urbanística | M8: Moderada
D9: El EMU y/o un PMUS está coordinado con la ordenación urbanística donde se ha desarrollado un proceso participativo y se mantuvieron reuniones con las autoridades locales y responsables de carreteras y otras redes de transportes a nivel local y/o regional | M9: Sustancial
C11: Plan Director del Aparcamiento (PDA)
D13: Existe un Plan Director del Aparcamiento (PDA) | M13: Baja
D14: El PDA está coordinado con la ordenación urbanística | M14: Moderada
D15: El PDA está coordinado con la ordenación urbanística donde se ha desarrollado un proceso participativo | M15: Sustancial
C17: Potenciar la creación de aparcamientos disuasorios/Estaciones intermodales que contribuyan a reducir la presión del vehículo privado contribuyendo al aumento de la huella peatonal
K18: *Realizar sumatoria de puntos
D19: Se ha previsto la creación de aparcamientos disuasorios y/o estaciones intermodales con el fin de viabilizar la reducción del espacio público destinado a aparcamiento y convertirlo en espacio de esparcimiento y recreo | M19: 1 pto
D20: Del PMUS o Plan Director del Aparcamiento (si existiese) se analizan los resultados obtenidos en la participación coudadana asi como de las consultas o reuniones realizadas con las autoridades locales para viabilizar el establecimiento de un nivel de aparcamiento y o estación intermodal apropiada para se que promueva y potencie la intermodalidad con el transporte sostenible. | M20: 1 pto
C21: MA-IND-06 | D21: Dotación de plazas de aparcamiento
D22: 50% de plazas de aparcamiento fuera de calzada | M22: 1 pto
D23: 50-80% de plazas de aparcamiento fuera de calzada | M23: 2 ptos
D24: >80% de plazas de aparcamiento fuera de calzada | M24: 3 ptos
C25: MA-IND-07 | D25: Aparcamiento para el vehículo privado fuera de calzada
D26: <50% de plazas de aparcamiento fuera de calzada | M26: 1 pto
D27: 50-80% de plazas de aparcamiento fuera de calzada | M27: 2 ptos
D28: >80% de plazas de aparcamiento fuera de calzada | M28: 3 ptos
K29: PUNTUACIÓN: | L29: 1 a 3 pto = Baja 3 a 6 ptos = Moderada > 6 ptos = Sustancial
C31: Proximidad de las bolsas de aparcamiento al transporte público
D33: Espacios de aparcamiento fuera de calzada con cobertura a <=1.200 m (30 min en modo no motorizado) de la parada de guagua | M33: Baja
D34: Espacios de aparcamiento fuera de calzada con cobertura hasta <=900 m (20 min en modo no motorizado) de la parada de guagua | M34: Moderada
D35: Espacios de aparcamiento fuera de calzada con cobertura a máximo <=600 m (15 min en modo no motorizado) de la parada de guagua | M35: Sustancial
C37: Evaluación de la dotación de aparcamientos con el fin de reubicar y/o suprimir la superficie para incrementar el espacio no rodado
K38: *Realizar sumatoria de puntos
D39: Se ha realizado un estudio de la superficie de aparcamiento recuperada en la vía pública y que se ha destinado para la movilidad no motorizada o para la creación de espacios de esparcimiento y recreo | M39: 1 pto
C40: MA-IND-06 | D40: Dotación de plazas de aparcamiento
D41: 50% de plazas de aparcamiento fuera de calzada | M41: 1 pto
D42: 50-80% de plazas de aparcamiento fuera de calzada | M42: 2 ptos
D43: >80% de plazas de aparcamiento fuera de calzada | M43: 3 ptos
C44: MA-IND-07 | D44: Aparcamiento para el vehículo privado fuera de calzada
D45: <50% de plazas de aparcamiento fuera de calzada | M45: 1 pto
D46: 50-80% de plazas de aparcamiento fuera de calzada | M46: 2 ptos
D47: >80% de plazas de aparcamiento fuera de calzada | M47: 3 ptos
C48: MA-IND-08 | D48: Déficit de aparcamiento para el vehículo privado
D49: >30% de déficit de plazas de aparcamiento fuera de calzada | M49: 1 pto
D50: 20-30% de déficit de plazas de aparcamiento fuera de calzada | M50: 2 ptos
...

Sheet MA 3.1
B2: ='Panel Control MA'!B71 -> MA.3.1 | C2: ='Panel Control MA'!C71 -> Smart City y reducción de emisiones de GEI
C5: Mejorar la dotación de aparcamientos para vehículos eléctricos
C7: MA-IND-17 | D7: Dotación de aparcamiento para de recarga para vehículos eléctricos
D8: <50% de plazas de aparcamiento | M8: Baja
D9: 50-80% de plazas de aparcamiento | M9: Moderada
D10: >80% de plazas de aparcamiento | M10: Sustancial
C12: Reducir las emisiones de GEI generadas por el transporte terrestre
K13: *Realizar sumatoria de puntos
D14: Existe un EMU y/o un PMUS coordinado con la ordenación urbanística donde se ha desarrollado un proceso participativo y se mantuvieron reuniones con las autoridades locales y responsables de carreteras y otras redes de transportes a nivel local y/o regional | M14: 1 pto
D15: Se ha realizado el cálculo de la Huella de Carbono generada por el transporte terrestre | M15: 1 pto
D16: Se ha elabotado un un estudio de viabilidad/un análisis teórico utilizando la información obtenida a partir del EMU o PMUS para determinar las opciones de transporte alternativo más apropiadas al desarrollo urbanístico. | M16: 1 pto
D17: Se ha previsto o realizado un proceso participativo y de difusión de las opciones de transporte sostenible alternativo disponibles para garantizar que las personas las conozcan. | M17: 1 pto
C18: MA-IND-18 | D18: Emisiones de gases de efecto invernadero del transporte por carretera
D19: Se han reducido las emisiones de GEI en al menos el 50% de emisiones de GEI del transporte terrestre en el entorno urbano | M19: 1 pto
D20: Se han reducido las emisiones en torno al 25-50% de emisiones de GEI del transporte terrestre en el entorno urbano | M20: 2 ptos
D21: se han reducido las emisiones en <25% de emisiones de GEI del transporte terrestre en el entorno urbano | M21: 3 ptos
K22: PUNTUACIÓN: | L22: 1 a 3 pto = Baja 3 a 6 ptos = Moderada > 6 ptos = Sustancial
C24: Mejorar el confort urbano
K25: *Realizar sumatoria de puntos
D26: Se incrementa el espacio de estancia por habitante entre un 15 a 20 m2/hab | M26: 1 pto
D27: Se aumenta un 10% del volumen verde del 50% hasta el 75% de los tramos de calle | M27: 1 pto
D28: Se aumenta la cobertura a menos de 300m de la paradas de transporte público al menos del 80% de la población | M28: 1 pto
D29: Se han previsto actuaciones que viabilicen la mitigación de la contaminación acústica. | M29: 1 pto
D30: Se han previsto actuaciones que viabilicen la mitigación de la contaminación atmosférica. | M30: 1 pto
K31: PUNTUACIÓN: | L31: 1 pto = Baja 2 ptos = Moderada >2 ptos = Sustancial
C33: Políticas para limitar la circulación particular en áreas con una contaminación atmosférica elevada.
D35: Existe una estrategia de "Ciudades inteligentes" | M35: Baja
D36: Existe una estrategia de "Ciudades inteligentes" y esta coordinada con la ordenación | M36: Moderada
D37: Existe una estrategia de "Ciudades inteligentes" y esta coordinada con la ordenación y además cuenta con proceso participativo y un plan de coordinación público-privada | M37: Sustancial

Sheet MA 4.1
B2: ='Panel Control MA'!B86 -> MA.4.1 | C2: ='Panel Control MA'!C86 -> Evaluación y gestión de riesgos
C4: Plan de Gestión de Riesgos y reducción de las Vulnerabilidades de las infraestruturas
D6: Existe un plan de Gestión de Riesgos | M6: Baja
D7: Existe un plan de Gestión de Riesgos y esta coordinado con la ordenación | M7: Moderada
D8: Existe un plan de Gestión de Riesgos coordinado con la ordenación y además cuenta con proceso participativo y de concienciación, y se evidencian acciones de coordinación público-privada | M8: Sustancial
C10: Detección de zonas de riesgo para no prever nuevas infraestructuras
D12: Se detectan esas zonas en el Plan de Gestión de Riesgos | M12: Baja
D13: El Plan de Gestión de Riesgos detecta zonas con riesgo, infraestructuras en riesgo y propone acciones de adaptación y/o alternativas de actuación | M13: Moderada
D14: El Plan de Gestión de Riesgos detecta zonas con riesgo, infraestructuras en riesgo y acciones de adaptación y/o alternativas de actuación y se evidencian la coordinación público-privada | M14: Sustancial
C16: Valorar el coste de la no adaptación del SGI ante posibles riesgos
D18: Se ha bordado la valoración del coste de la no adaptación del SGI de forma cualitativa | M18: Baja
D19: Se ha bordado la valoración del coste de la no adaptación del SGI de forma cuantitativa | M19: Moderada
D20: Se ha bordado la valoración del coste de la no adaptación del SGI de forma cuantitativa y se ha utilizado com criterio de ponderación y/o selección para la toma de decisiones en el modelo de ordenación | M20: Sustancial

Sheet MA 4.2
B2: ='Panel Control MA'!B98 -> MA.4.2 | C2: ='Panel Control MA'!C98 -> Adaptación, IV-A y permeabilidad del suelo
C4: Calidad de las infraestructuras de transporte
D6: Se han detectado las Infraestructuras de transporte que se encuentran en mal estado de conservacion | M6: Baja
D7: Se han detectado las Infraestructuras de transporte que se encuentran en riesgo | M7: Moderada
D8: Se han detectado las Infraestructuras de transporte que se encuentran en riesgo y en mal estado de conservacion con el fin de adaptarlas | M8: Sustancial
C10: Integrar el verde como eje vertebrador en las Infraestructuras de transporte y movilidad para aumentar los servicios ecosistémicos
K11: *Realizar sumatoria de puntos
D12: Se incrementa la infraestructura, se potencia como es un elemento estructurante del núcleo y además se conecta con la infraestructura verde fuera del núcleo | M12: 1 pto
D13: Se incrementa la superficie verde por habitante del espacio público en 15 o más de 15m2/habitante | M13: 1 pto
D14: Se incrementa el número de árboles por metro lineal de calle entre el 20-30 % | M14: 1 pto
D15: Se incrementa el número de árboles por tramo de calle y espacios libres públicos en ≥0,2 árboles/m entre el 65 y el 75% de los tramos de calle (metros lineales) (Sobre el total de tramos de calle con un ancho entre fachadas superior a 8 metros.) | M15: 1 pto
D16: Existe un Plan de Infraestructura Verde donde se prevé la renaturalización de los viarios | M16: 1 pto
C17: MA-IND-23 | D17: Percepción visual del verde urbano
D18: 10% de volumen verde en <25% de los tramos de calle del ámbito de actuación. | M18: 1 pto
D19: 10% de volumen verde entre 25-50 % de los tramos de calle del ámbito de actuación. | M19: 2 ptos
D20: 10% de volumen verde en >75% de los tramos de calle del ámbito de actuación. | M20: 3 ptos
K21: PUNTUACIÓN: | L21: 1 a 3 pto = Baja 3 a 6 ptos = Moderada > 6 ptos = Sustancial
C23: Sistemas Urbanos de Drenaje Sostenible (SUDS)
D25: Se han establecido criterios en la normativa urbanística sin haber tenido en cuenta los criterios y principios de la Taxonomía Verde | M25: Baja
D26: Se han establecido criterios en la normativa urbanística alineados únicamente con los criterios técnicos de selección de la Taxonomía Verde | M26: Moderada
D27: Se han establecido criterios en la normativa urbanística alineados únicamente con los criterios técnicos de selección de la Taxonomía Verde y además los criterios genéricos DNSH. | M27: Sustancial
C29: Acciones para reducir el efecto isla de calor a través del aumento de la permeabilidad del suelo
K30: *Realizar sumatoria de puntos
C31: MA-IND-22 | D31: Índice de permeabilidad de las infraestructuras viarias
D32: Se incrementa la superficie permeable de las infraestructuras viarias en al menos el 15% de la superficie total | M32: 1 pto
D33: Se incrementa la superficie permeable de las infraestructuras viarias entre el 15-35% de la superficie total | M33: 2 pto
D34: Se incrementa la superficie permeable de las infraestructuras viarias en al menos en >35% de la superficie total | M34: 3 pto
C35: EU-IND.21 | D35: Índice de permeabilidad del suelo
D36: Se incrementa la superficie permeable de suelo hasta 0,3 (IPS) | M36: 1 pto
D37: Se incrementa la superficie permeable de 0,3 hasta un 0,35 (IPS) | M37: 2 ptos
D38: El incremento de superficie permeable es superior un 0,35 (IPS). | M38: 3 ptos
K39: PUNTUACIÓN: | L39: 1 a 2 pto = Baja 2 a 4 ptos = Moderada > 4 ptos = Sustancial
