Workbook

Sheet TABLA_EU
B2: ECOSISTEMA URBANO (EU) | C2: METAS | D2: EJES DE INTEGRACIÓN | E2: LÍNEAS DE ANÁLISIS | F2: CRITERIO (LO QUE TENGO QUE EJECUTAR)
C3: Impulso y participación de la infraestructura verde-azul en el diseño de la ciudad para incrementar la funcionalidad del espacio urbano y beneficiar a la ciudadanía. Sistemas basados en la naturaleza como elemento fundamental para la organización y distribución de la ciudad. | D3: EU.1 NATURALEZA COMO ALIADA | E3: Naturaleza como eje vertebrador de la ciudad. Simbiosis naturaleza-ciudad. | F3: EU.1.1 | G3: Renaturalización (SbN)
F5: EU.1.2 | G5: Confort urbano. Diseño urbano basado en la Naturaleza. I-VA
C6: Adaptación de los espacios urbanos frente a los riesgos y vulnerabilidades mediante el incremento de la infraestructura verde-azul para la obtención de condiciones óptimas de confort ambiental urbano, generando cobeneficios en los servicios ecosistémicos. | F6: EU.1.3 | G6: Adaptar mediante acciones en el espacio urbano sostenibles y resilientes
C7: Equilibrio y funcionalidad del modelo urbano compacto y de proximidad . | D7: EU.2 EQUILIBRIO, EFICIENCIA Y FUNCIONALIDAD URBANA | E7: Modelo de ciudad compacta, equilibrada y de proximidad. | F7: EU.2.1 | G7: Renovación y regeneración urbana
F8: EU.2.2 | G8: Ciudad de los 15´
C9: Modelo urbano eficiente y sostenible: Acelerar la eficiencia, la rehabilitación y la implantación de energías renovables | E9: Modelo urbano eficiente y sostenible.
F10: EU.2.3 | G10: Eficiencia y sostenibilidad de la urbanización. Planificación consciente
C11: Reducir la vulnerabilidad del modelo urbano consiguiendo espacios más resilientes y la rehabilitación de las edificaciones | E11: Adaptación del modelo de ciudad frente a los efectos del cambio climático | F11: EU.2.4 | G11: Actuar sobre usos y zonas vulnerables
C12: Priorizar tanto en el parque edificado como en las rehabilitaciones, reformas y nuevas edificaciones el consumo neutro y eficiente. Planteando soluciones basadas en la arquitectura bioclimático. | D12: EU.3 ARQUITECTURA ADAPTADA Y RESILIENTE | E12: Edificación eficiente y de consumo neutro.
F13: EU.3.1 | G13: Edificaciones eficientes y de consumo casi nulo.
C14: Lograr que los procesos y los sistemas constructivos de las edificaciones vayan en pro de la descarbonización y del menor consumo de recursos y energía, bajo las condiciones de la arquitectura circular y autosuficiencia conectada. | E14: Sistemas constructivos como herramienta de resiliencia
C16: Alcanzar edificaciones adaptadas y resilientes, teniendo en cuenta el entorno y su adecuación al mismo, así como la rehabilitación del parque construido. | E16: Adaptación y resiliencia del patrimonio edificado. | F16: EU.3.2 | G16: Protección y resiliencia de la edificacion y la población
C18: Garantizar desde la planificación urbanística hábitos de vida saludable y espacios resilientes. | D18: EU.4 SALUD Y BIENESTAR | E18: Salud integral. | F18: EU.4.1 | G18: Diseño de superficies y edificaciones saludables
C20: Reforzar la resiliencia del conjunto de la ciudadanía ante los factores de riesgo derivados del cambio climático. | E20: El confort ambiental. | F20: EU.4.2 | G20: Propiciar entornos confortables
E21: Espacios de interacción social: La importancia de los vínculos afectivos | F21: EU.4.3 | G21: Atender a la diversidad de la comunidad

Sheet Tabla Resultados EU
B2: ECOSISTEMA URBANO (EU) | C2: EJES DE INTEGRACIÓN | D2: LÍNEAS DE ANÁLISIS | E2: CRITERIO | G2: Peso del área | H2: Peso Eje | I2: Peso del Criterio | J2: Puntuacion inicial del criterio | K2: Porcentaje de cumplimiento
C3: NATURALEZA COMO ALIADA | D3: Naturaleza como eje vertebrador de la ciudad. Simbiosis naturaleza-ciudad. | E3: EU.1.1 | F3: Renaturalización (SbN) | G3: =100%/6 -> 0.16666667 | H3: =($G$3)*35% -> 0.058333333 | I3: =($H$3/3) -> 0.019444444 | J3: ='Panel Control EU'!Q16 -> 0.019444444 | K3: =SUM(J3:J14) -> 0.16666667
E4: EU.1.2 | F4: Confort urbano. Diseño urbano basado en la Naturaleza. I-VA | I4: =($H$3/3) -> 0.019444444 | J4: ='Panel Control EU'!Q32 -> 0.019444444
E5: EU.1.3 | F5: Adaptar mediante acciones en el espacio urbano sostenibles y resilientes | I5: =($H$3/3) -> 0.019444444 | J5: ='Panel Control EU'!Q45 -> 0.019444444
C6: EQUILIBRIO, EFICIENCIA Y FUNCIONALIDAD URBANA | D6: Modelo de ciudad compacta, equilibrada y de proximidad. | E6: EU.2.1 | F6: Renovación y regeneración urbana | H6: =($G$3)*35% -> 0.058333333 | I6: =($H$6/4) -> 0.014583333 | J6: ='Panel Control EU'!Q62 -> 0.014583333
E7: EU.2.2 | F7: Ciudad de los 15´ | I7: =($H$6/4) -> 0.014583333 | J7: ='Panel Control EU'!Q79 -> 0.014583333
D8: Modelo urbano eficiente y sostenible. | E8: EU.2.3 | F8: Eficiencia y sostenibilidad de la urbanización. Planificación consciente | I8: =($H$6/4) -> 0.014583333 | J8: ='Panel Control EU'!Q92 -> 0.014583333
D9: Adaptación del modelo de ciudad frente a los efectos del cambio climático | E9: EU.2.4 | F9: Actuar sobre usos y zonas vulnerables | I9: =($H$6/4) -> 0.014583333 | J9: ='Panel Control EU'!Q103 -> 0.014583333
C10: ARQUITECTURA ADAPTADA Y RESILIENTE | D10: Edificación eficiente y de consumo neutro. | E10: EU.3.1 | F10: Edificaciones eficientes y de consumo casi nulo. | H10: =($G$3)*15% -> 0.025 | I10: =$H$10/2 -> 0.0125 | J10: ='Panel Control EU'!Q120 -> 0.0125
D11: Adaptación y resiliencia del patrimonio edificado. | E11: EU.3.2 | F11: Protección y resiliencia de la edificacion y la población | I11: =$H$10/2 -> 0.0125 | J11: ='Panel Control EU'!Q133 -> 0.0125
C12: SALUD Y BIENESTAR | D12: Salud integral. | E12: EU.4.1 | F12: Diseño de superficies y edificaciones saludables | H12: =($G$3)*15% -> 0.025 | I12: =($H$12*0.45) -> 0.01125 | J12: ='Panel Control EU'!Q144 -> 0.01125
D13: El confort ambiental. | E13: EU.4.2 | F13: Propiciar entornos confortables | I13: =($H$12*0.35) -> 0.00875 | J13: ='Panel Control EU'!Q159 -> 0.00875
D14: Espacios de interacción social: La importancia de los vínculos afectivos | E14: EU.4.3 | F14: Atender a la diversidad de la comunidad | I14: =($H$12*0.2) -> 0.005 | J14: ='Panel Control EU'!Q168 -> 0.005
H15: =SUM(H3:H14) -> 0.16666667

Sheet Panel Control EU
G2: Peso del criterio | H2: Cumplimiento | J2: Indicaciones | K2: Contribución del criterio | N2: Rango contribucion del criterio | O2: Porcentaje Contribución | P2: Puntuación inicial del criterio
B3: =TABLA_EU!F3 -> EU.1.1 | C3: =TABLA_EU!G3 -> Renaturalización (SbN) | G3: ='Tabla Resultados EU'!I3 -> 0.019444444
K4: Baja | L4: Moderada | M4: Sustancial
K5: =(G6/3) -> 0.0019444444 | L5: =(G6/3)*2 -> 0.0038888889 | M5: =(G6/3)*3 -> 0.0058333333
C6: Se incrementa la superficie verde por habitante | G6: =$G$3*0.3 -> 0.0058333333 | H6: Sí | I6: =IF(H6="Sí",1)+IF(H6="No",0) -> 1 | J6: ver EU.1.1 | N6: 3 | O6: =INDEX(K5:M5,N6) -> 0.0058333333 | P6: =O6*I6 -> 0.0058333333 | AF6: 1
K7: =(G8/3) -> 0.00064814815 | L7: =(G8/3)*2 -> 0.0012962963 | M7: =(G8/3)*3 -> 0.0019444444
C8: Funcionalidad de la Infraestructura Ecológica. | G8: =$G$3*0.1 -> 0.0019444444 | H8: Sí | I8: =IF(H8="Sí",1)+IF(H8="No",0) -> 1 | J8: ver EU.1.1 | N8: 3 | O8: =INDEX(K7:M7,N8) -> 0.0019444444 | P8: =O8*I8 -> 0.0019444444
K9: =(G10/3) -> 0.0019444444 | L9: =(G10/3)*2 -> 0.0038888889 | M9: =(G10/3)*3 -> 0.0058333333
C10: Se potencia la conectividad de la infraestructura verde y azul en la ciudad | G10: =$G$3*0.3 -> 0.0058333333 | H10: Sí | I10: =IF(H10="Sí",1)+IF(H10="No",0) -> 1 | J10: ver EU.1.1 | N10: 3 | O10: =INDEX(K9:M9,N10) -> 0.0058333333 | P10: =O10*I10 -> 0.0058333333
K11: =(G12/3) -> 0.00064814815 | L11: =(G12/3)*2 -> 0.0012962963 | M11: =(G12/3)*3 -> 0.0019444444
C12: Se incrementan cubiertas verdes, fachadas verdes, huertos urbanos y/o jardines de lluvia | G12: =$G$3*0.1 -> 0.0019444444 | H12: Sí | I12: =IF(H12="Sí",1)+IF(H12="No",0) -> 1 | J12: ver EU.1.1 | N12: 3 | O12: =INDEX(K11:M11,N12) -> 0.0019444444 | P12: =O12*I12 -> 0.0019444444
K13: =(G14/3) -> 0.00064814815 | L13: =(G14/3)*2 -> 0.0012962963 | M13: =(G14/3)*3 -> 0.0019444444
C14: Se incrementan la superficies permeables | G14: =$G$3*0.1 -> 0.0019444444 | H14: Sí | I14: =IF(H14="Sí",1)+IF(H14="No",0) -> 1 | J14: ver EU.1.1 | N14: 3 | O14: =INDEX(K13:M13,N14) -> 0.0019444444 | P14: =O14*I14 -> 0.0019444444
K15: =(G16/3) -> 0.00064814815 | L15: =(G16/3)*2 -> 0.0012962963 | M15: =(G16/3)*3 -> 0.0019444444
C16: Aumentar la vegetación para minimizar las islas de calor | G16: =$G$3*0.1 -> 0.0019444444 | H16: Sí | I16: =IF(H16="Sí",1)+IF(H16="No",0) -> 1 | J16: ver EU.1.1 | N16: 3 | O16: =INDEX(K15:M15,N16) -> 0.0019444444 | P16: =O16*I16 -> 0.0019444444 | Q16: =SUM(P6:P16) -> 0.019444444
G17: =SUM(G6:G16) -> 0.019444444
G20: Peso del criterio | H20: Cumplimiento | J20: Indicaciones | K20: Contribución del criterio | N20: Rango contribucion del criterio | O20: Porcentaje Contribución | P20: Puntuación inicial del criterio
B21: =TABLA_EU!F5 -> EU.1.2 | C21: =TABLA_EU!G5 -> Confort urbano. Diseño urbano basado en la Naturaleza. I-VA | G21: ='Tabla Resultados EU'!I4 -> 0.019444444
K22: Baja | L22: Moderada | M22: Sustancial
K23: =(G24/3) -> 0.0016203704 | L23: =(G24/3)*2 -> 0.0032407407 | M23: =(G24/3)*3 -> 0.0048611111
C24: Se aumenta la percepción espacial del verde urbano | G24: =$G$21*0.25 -> 0.0048611111 | H24: Sí | I24: =IF(H24="Sí",1)+IF(H24="No",0) -> 1 | J24: ver EU.1.2 | N24: 3 | O24: =INDEX(K23:M23,N24) -> 0.0048611111 | P24: =O24*I24 -> 0.0048611111
I25: =IF(H25="Sí",1)+IF(H25="No",0) -> 0 | K25: =(G26/3) -> 0.0019444444 | L25: =(G26/3)*2 -> 0.0038888889 | M25: =(G26/3)*3 -> 0.0058333333
C26: Aumento del confort térmico | G26: =$G$21*0.3 -> 0.0058333333 | H26: Sí | I26: =IF(H26="Sí",1)+IF(H26="No",0) -> 1 | J26: ver EU.1.2 | N26: 3 | O26: =INDEX(K25:M25,N26) -> 0.0058333333 | P26: =O26*I26 -> 0.0058333333
I27: =IF(H27="Sí",1)+IF(H27="No",0) -> 0 | K27: =(G28/3) -> 0.00097222222 | L27: =(G28/3)*2 -> 0.0019444444 | M27: =(G28/3)*3 -> 0.0029166667
C28: Fortalecimiento de zonas con I-VA. Se incrementa la diversidad de arbolado | G28: =$G$21*0.15 -> 0.0029166667 | H28: Sí | I28: =IF(H28="Sí",1)+IF(H28="No",0) -> 1 | J28: ver EU.1.2 | N28: 3 | O28: =INDEX(K27:M27,N28) -> 0.0029166667 | P28: =O28*I28 -> 0.0029166667
I29: =IF(H29="Sí",1)+IF(H29="No",0) -> 0 | K29: =(G28/3) -> 0.00097222222 | L29: =(G28/3)*2 -> 0.0019444444 | M29: =(G28/3)*3 -> 0.0029166667
C30: Incremento de elementos de sombra naturales y reducción de isla de calor | G30: =$G$21*0.15 -> 0.0029166667 | H30: Sí | I30: =IF(H30="Sí",1)+IF(H30="No",0) -> 1 | J30: ver EU.1.2 | N30: 3 | O30: =INDEX(K29:M29,N30) -> 0.0029166667 | P30: =O30*I30 -> 0.0029166667
I31: =IF(H31="Sí",1)+IF(H31="No",0) -> 0 | K31: =(G30/3) -> 0.00097222222 | L31: =(G30/3)*2 -> 0.0019444444 | M31: =(G30/3)*3 -> 0.0029166667
C32: Confort ambiental | G32: =$G$21*0.15 -> 0.0029166667 | H32: Sí | I32: =IF(H32="Sí",1)+IF(H32="No",0) -> 1 | J32: ver EU.1.2 | N32: 3 | O32: =INDEX(K31:M31,N32) -> 0.0029166667 | P32: =O32*I32 -> 0.0029166667 | Q32: =SUM(P24:P32) -> 0.019444444
G33: =SUM(G24:G32) -> 0.019444444
G35: Peso del criterio | H35: Cumplimiento | J35: Indicaciones | K35: Contribución del criterio | N35: Rango contribucion del criterio | O35: Porcentaje Contribución | P35: Puntuación inicial del criterio
B36: =TABLA_EU!F6 -> EU.1.3 | C36: =TABLA_EU!G6 -> Adaptar mediante acciones en el espacio urbano sostenibles y resilientes | G36: ='Tabla Resultados EU'!I5 -> 0.019444444
K37: Baja | L37: Moderada | M37: Sustancial
K38: =(G39/3) -> 0.0016203704 | L38: =(G39/3)*2 -> 0.0032407407 | M38: =(G39/3)*3 -> 0.0048611111
C39: Incremento de la vegetación en zonas vulnerables | G39: =$G$36*0.25 -> 0.0048611111 | H39: Sí | I39: =IF(H39="Sí",1)+IF(H39="No",0) -> 1 | J39: ver 1.3 | N39: 3 | O39: =INDEX(K38:M38,N39) -> 0.0048611111 | P39: =O39*I39 -> 0.0048611111
I40: =IF(H40="Sí",1)+IF(H40="No",0) -> 0 | K40: =(G41/3) -> 0.0016203704 | L40: =(G41/3)*2 -> 0.0032407407 | M40: =(G41/3)*3 -> 0.0048611111
C41: Permeabilización del suelo Naturaleza I-VA en zonas vulnerables | G41: =$G$36*0.25 -> 0.0048611111 | H41: Sí | I41: =IF(H41="Sí",1)+IF(H41="No",0) -> 1 | J41: ver 1.3 | N41: 3 | O41: =INDEX(K40:M40,N41) -> 0.0048611111 | P41: =O41*I41 -> 0.0048611111
I42: =IF(H42="Sí",1)+IF(H42="No",0) -> 0 | K42: =(G43/3) -> 0.0016203704 | L42: =(G43/3)*2 -> 0.0032407407 | M42: =(G43/3)*3 -> 0.0048611111
C43: Se aplican soluciones basadas en la naturaleza y /o SUDS como espacios de retención | G43: =$G$36*0.25 -> 0.0048611111 | H43: Sí | I43: =IF(H43="Sí",1)+IF(H43="No",0) -> 1 | J43: ver 1.3 | N43: 3 | O43: =INDEX(K42:M42,N43) -> 0.0048611111 | P43: =O43*I43 -> 0.0048611111
I44: =IF(H44="Sí",1)+IF(H44="No",0) -> 0 | K44: =(G45/3) -> 0.0016203704 | L44: =(G45/3)*2 -> 0.0032407407 | M44: =(G45/3)*3 -> 0.0048611111
...

Sheet EU1.1
B2: =TABLA_EU!F3 -> EU.1.1 | C2: =TABLA_EU!G3 -> Renaturalización (SbN)
C4: ='Panel Control EU'!C6:F6 -> Se incrementa la superficie verde por habitante
C5: EU-IND.6; Indicador Superficie verde por habitante.
D6: De 10 a 12m2/habitante | M6: Baja
D7: De 13 a 14m2/habitante | M7: Moderada
D8: 15 o más de 15m2/habitante | M8: Sustancial
C10: ='Panel Control EU'!C8:F8 -> Funcionalidad de la Infraestructura Ecológica.
C11: EU-IND.5 Indicador de Funcionalidad de los parques urbanos.
D12: < 7 | M12: Baja
D13: 7-7,5 | M13: Moderada
D14: > 7,5 | M14: Sustancial
C16: ='Panel Control EU'!C10:F10 -> Se potencia la conectividad de la infraestructura verde y azul en la ciudad
D18: Se crea infraestructura IV-A | M18: Baja
D19: Se incrementa la infraestructura y se potencia como es un elemento estructurante del núcleo | M19: Moderada
D20: Se incrementa la infraestructura, se potencia como es un elemento estructurante del núcleo y ademas se conecta con la infraestructura verde fuera del núcleo | M20: Sustancial
C22: ='Panel Control EU'!C12:F12 -> Se incrementan cubiertas verdes, fachadas verdes, huertos urbanos y/o jardines de lluvia
C23: EU-IND.22: Indicador de Coberturas verdes urbanas.
D24: Se incrementan las superficies de cubiertas verdes urbanas del 5-10% | M24: Baja
D25: Se incrementan las superficies de cubiertas verdes urbanas del 11-30% | M25: Moderada
D26: Se incrementan las superficies de cubiertas verdes urbanas, superior a 30% | M26: Sustancial
C28: ='Panel Control EU'!C14:F14 -> Se incrementan la superficies permeables
C29: EU-IND.21: Índice de permeabilidad del suelo
D30: Se incrementa la superficie permeable de suelo hasta 0,3 (IPS) | M30: Baja
D31: Se incrementa la superficie permeable de 0,3 hasta un 0,35 (IPS) | M31: Moderada
D32: El incremento de superficie permeable es superior un 0,35 (IPS). | M32: Sustancial
C34: ='Panel Control EU'!C16:F16 -> Aumentar la vegetación para minimizar las islas de calor
D36: Se incrementa la superficie de suelo en estado natural | M36: Baja
D37: Se incrementa la superficiede suelo en estado natural y la superficie de vegetación y arbolado | M37: Moderada
D38: Se incrementa la superficie de suelo en estado natural, la superficie de vegetación y arbolado con porte que aporte sombra y se implementan acabados con materiales sostenibles. | M38: Sustancial

Sheet EU1.2
B2: ='Panel Control EU'!B21 -> EU.1.2 | C2: ='Panel Control EU'!C21 -> Confort urbano. Diseño urbano basado en la Naturaleza. I-VA
C4: ='Panel Control EU'!C24:F24 -> Se aumenta la percepción espacial del verde urbano
C5: EU-IND.02 : Percepción espacial del verde urbano.
D6: Se aumenta hasta un 10% del volumen verde más del 50% de los tramos de calle | M6: Baja
D7: Se aumenta un 10% del volumen verde del 50% hasta el 75% de los tramos de calle | M7: Moderada
D8: Se aumenta un 10% ddel volumen verde de más del 75% de los tramos de calle | M8: Sustancial
C10: ='Panel Control EU'!C26:F26 -> Aumento del confort térmico
C11: EU-IND.24. Confort térmico
D12: > 50% a 65% de horas de confort para a un mínimo del 50% de la superficie total de calles | M12: Baja
D13: > 65% a 80% de horas de confort para a un mínimo del 50% de la superficie total de calles | M13: Moderada
D14: > 80% de horas de confort para a un mínimo del 50% de la superficie total de calles | M14: Sustancial
C17: ='Panel Control EU'!C28:F28 -> Fortalecimiento de zonas con I-VA. Se incrementa la diversidad de arbolado
C18: EU-IND.4: Diversidad de arbolado urbano *El valor deseable de diversidad de arbolado dependerán de los criterios paisajísticos adoptados, sin embargo asegurar una diversidad vegetal mínima en la ciudad es un factor clave para potenciar la biodiversidad urbana
D19: Se contempla el incremento de diversidad de arbolado por malla en suelos urbanos consolidados de 1,5 a 3 Bit | M19: Baja
D20: Se contempla el incremento de diversidad de arbolado por malla en suelos urbanos consolidados entre 3 y 5 Bit | M20: Moderada
D21: Se contempla el incremento de diversidad de arbolado por malla en suelos urbanos consolidados más de 5 Bit | M21: Sustancial
C23: ='Panel Control EU'!C30:F30 -> Incremento de elementos de sombra naturales y reducción de isla de calor
C24: EU-IND.23: Cobertura arbórea de sombra | J24: *Realizar sumatoria de puntos de los tres indicadores
D25: Se incrementa el número de árboles por metro lineal de calle entre un 10-20% | M25: 1 pto
D26: Se incrementa el número de árboles por metro lineal de calle entre un 20-30% | M26: 2 pto
D27: Se incrementa el número de árboles por metro lineal de calle entre más de un 30% | M27: 3 pto
C29: EU-IND.03: Nº de árboles por tramo de calle y espacios libres públicos * Sobre el total de tramos de calle con un ancho entre fachadas superior a 8 metros.
D30: Tramo de calle
D31: ≥0,2 árboles/m entre el 50 y el 65% de los tramos de calle ( metros lineales) | M31: 1 pto
D32: ≥0,2 árboles/m entre el 65 y el 75% de los tramos de calle ( metros lineales) | M32: 2 pto
D33: ≥0,2 árboles/m en más del 75% de los tramos de calle ( metros lineales) | M33: 3 pto
C35: EU-IND.03: Nº de árboles por tramo de calle y espacios libres públicos * Sobre el total de tramos de calle con un ancho entre fachadas superior a 8 metros.
D36: Espacios públicos
D37: ≥0,2 árboles/m entre el 50 y el 65% en los espacios libres públicos (m2) | M37: 1 pto
D38: ≥0,2 árboles/m entre el 65 y el 75% en los espacios libres públicos (m2) | M38: 2 pto
D39: ≥0,2 árboles/m en más del 75% en los espacios libres públicos (m2) | M39: 3 pto
J41: PUNTUACIÓN: | K41: 3 a 4 puntos = Baja 5 a 7 puntos = Moderada 8 a 9 puntos = Sustancial
C43: ='Panel Control EU'!C32:F32 -> Confort ambiental
C44: EU.IND.29 Contaminación Atmosférica
C45: EU-IND.28 Contaminación acústica
C46: EU-IND.02 Percepción espacial del verde urbano.
D47: Cumple con el umbral de sostenibilidad de uno de los indicadores | M47: Baja
D48: Cumple con el umbral de sostenibilidad de dos de los indicadores | M48: Moderada
D49: Cumple con el umbral de sostenibilidad de los 3 indicadores | M49: Sustancial

Sheet EU1.3
B2: ='Panel Control EU'!B36 -> EU.1.3 | C2: ='Panel Control EU'!C36 -> Adaptar mediante acciones en el espacio urbano sostenibles y resilientes
C4: ='Panel Control EU'!C39:F39 -> Incremento de la vegetación en zonas vulnerables
C5: EU-IND.06. Superficie verde por habitante ***aplicar este indicador tan solo sobre la superficie de las zonas vulnerables
D6: Hasta 10m2/habitante en las zonas vulnerables | M6: Baja
D7: De 10 hasta 14m2/habitante en las zonas vulnerables | M7: Moderada
D8: 15 o más de 15m2/habitante en las zonas vulnerables | M8: Sustancial
C10: ='Panel Control EU'!C41:F41 -> Permeabilización del suelo Naturaleza I-VA en zonas vulnerables
C11: EU-IND.21: Índice de permeabilidad del suelo ***aplicar este indicador tan solo sobre la superficie de las zonas vulnerables
D12: Se incrementa la superficie permeable de suelo hasta 0,3 (IPS) en las zonas vulnerables | M12: Baja
D13: Se incrementa la superficie permeable de 0,3 hasta un 0,35 (IPS) en las zonas vulnerables | M13: Moderada
D14: El incremento de superficie permeable es superior un 0,35 (IPS) en las zonas vulnerables | M14: Sustancial
C16: ='Panel Control EU'!C43:F43 -> Se aplican soluciones basadas en la naturaleza y /o SUDS como espacios de retención
C17: Creación de espacios adaptados de retención y/o SUDS en las zonas vulnerables por inundación
D18: Reducción de la vulnerabilidad del 10 al 30 % de las zonas inundables | M18: Baja
D19: Reducción de la vulnerabilidad del 30 al 60 % de las zonas inundables | M19: Moderada
D20: Reducción de la vulnerabilidad del 60 al 100 % de las zonas inundables | M20: Sustancial
C22: ='Panel Control EU'!C45:F45 -> Soluciones vegetales en envolventes de edificios
C23: EU-IND.22: Indicador de Coberturas verdes urbanas. ***aplicar este indicador tan solo sobre la superficie del parque edificado de las zonas vulnerables
D24: Se incrementan las superficies de cubiertas verdes urbanas del 5-10% del parque edificado | M24: Baja
D25: Se incrementan las superficies de cubiertas verdes urbanas del 11-30% del parque edificado | M25: Moderada
D26: Se incrementan las superficies de cubiertas verdes urbanas, superior a 30% del parque edificado | M26: Sustancial

Sheet EU2.1
B2: ='Panel Control EU'!B49 -> EU.2.1 | C2: ='Panel Control EU'!C36 -> Adaptar mediante acciones en el espacio urbano sostenibles y resilientes
C4: ='Panel Control EU'!C52:F52 -> Re- densificar, optimizar tejidos infrautilizados y de baja densidad
C5: EU-IND.37 Densidad de viviendas
D6: 100-120 viv/ha (>250hab/ha, en turístico 150 plazas/ha) | M6: Baja
D7: 120-140 viv/ha (>250hab/ha, en turístico 175 plazas/ha) | M7: Moderada
D8: 140-160viv./ha.(>250hab/ha-máx 400hab/ha o 500 en renovación urbana o , en suelos turístico, 200 plazas por ha) | M8: Sustancial
C10: ='Panel Control EU'!C54:F54 -> Incrementar la compacidad de los suelos urbanos
C11: MOT.IND.13- Compacidad absoluta
D12: De 2,5 a 3,5 metros | M12: Baja
D13: De 3,5 a 5 metros | M13: Moderada
D14: Superior a 5 metros | M14: Sustancial
C16: ='Panel Control EU'!C56:F56 -> Equilibrios usos residenciales y terciarios
C17: EU.IND.09: Equilibrio entre actividad y residencia
D18: >20% de sup. Construida destinada a usos no residenciales en más del 50 hasta 65% de la sup. de suelo urbano (Tejido central) >15% de sup. Construida destinada a usos no residenciales en más del 50 hasta 65% de la sup. De suelo urbano (Tejido medio) >10% de sup. Construida destinada a usos no residenciales en más del 50 hasta 65% de la sup. De suelo urbano (Tejido residencial) | M18: Baja
D19: >20% de sup. Construida destinada a usos no residenciales en más del 65 hasta 80% de la sup. de suelo urbano (Tejido central) >15% de sup. Construida destinada a usos no residenciales en más del 65 hasta 80% de la sup. De suelo urbano (Tejido medio) >10% de sup. Construida destinada a usos no residenciales en más del 65 hasta 80% de la sup. De suelo urbano (Tejido residencial) | M19: Moderada
D20: >20% de sup. Construida destinada a usos no residenciales en más del 80% de la sup. De suelo urbano (Tejido central) >15% de sup. Construida destinada a usos no residenciales en más del 80% de la sup. De suelo urbano (Tejido medio) >10% de sup. Construida destinada a usos no residenciales en más del 80% de la sup. De suelo urbano (Tejido residencial) | M20: Sustancial
C22: ='Panel Control EU'!C58:F58 -> Se incrementa el grado interacción mediante la Re-cualificar tejidos obsoletos monofuncionales infrautilizados y la Mixticidad de usos y funciones urbanas.
C23: EU-IND.10: Grado de interacción de la calle
D24: 25 - 35% de los tramos de calle con plantas bajas comerciales y >10 actividades por cada 100metros lineales de calle | M24: Baja
D25: 35 -50 % de los tramos de calle con plantas bajas comerciales y >10 actividades por cada 100metros lineales de calle | M25: Moderada
D26: >50% de los tramos de calle con plantas bajas comerciales y >10 actividades por cada 100metros lineales de calle | M26: Sustancial
C28: ='Panel Control EU'!C60:F60 -> Predominio de tipología colectiva
C29: EU-IND.8: Tipología de vivienda
D30: Variabilidad tipológica que garantice la mixtura de usos | M30: Baja
D31: Variabilidad tipológica que garantice la mixtura de usos con alta presencia de tipología colectiva | M31: Moderada
D32: Predominio de la tipología colectiva frente a otras tipologías | M32: Sustancial
C34: ='Panel Control EU'!C62:F62 -> Incrementar el grado de polivalencia de los espacios públicos
C35: Incremento de diversidad de usos en espacios públicos
D36: Se incrementa entre un 10 a 30% la diversidad de usos | M36: Baja
D37: Se incrementa entre un 30 a 60% la diversidad de usos | M37: Moderada
D38: Se incrementa entre un 60 a 100% la diversidad de usos | M38: Sustancial

Sheet EU2.2
B2: ='Panel Control EU'!B66 -> EU.2.2 | C2: ='Panel Control EU'!C66 -> Ciudad de los 15´
C4: ='Panel Control EU'!C69:F69 -> Se localizan comercio y servicios básicos cotidiano cercano
C5: EU-IND.11 Proximidad a los servicios básicos y las actividades comerciales
D6: Entre 75 al 85% de la población tiene acceso a los servicios básicos y actividades comerciales a pie. | M6: Baja
D7: Entre 86 al 90% de la población tiene acceso a los servicios básicos y actividades comerciales a pie. | M7: Moderada
D8: Entre 91 al 100% de la población tiene acceso a los servicios básicos y actividades comerciales a pie. | M8: Sustancial
C10: ='Panel Control EU'!C71:F71 -> Proximidad de los distintos tipos de espacio libre
C11: EU-IND.12: Proximidad a los distintos tipos de espacio libre
D12: Acceso simultáneo a 2 tipologías para el 100% del ámbito de estudio | M12: Baja
D13: Acceso simultáneo a 3 tipologías para el 100% del ámbito de estudio | M13: Moderada
D14: Acceso simultáneo a las 4 tipologías para el 100% del ámbito de estudio | M14: Sustancial
C16: ='Panel Control EU'!C73:F73 -> Proximidad al transporte público
C17: MA-IND.02 Proximidad a la red de transporte público
D18: 80% de la población a menos de 300m de paradas de transporte público | M18: Baja
D19: Entre 80 y 90% de la población menos de 300m a paradas de transporte público | M19: Moderada
D20: Entre el 90 y el 100% de la población a menos de 300m de paradas de transporte público | M20: Sustancial
C22: ='Panel Control EU'!C75:F75 -> Proximidad de los espacios verdes.
C23: EU.IND.7: Proximidad de los espacios verdes
D24: 100% población con cobertura a un mínimo de 2 categorías de espacio verde | M24: Baja
D25: 100% población con cobertura a un mínimo de 3 categorías de espacio verde | M25: Moderada
D26: 100% población con cobertura a las 4 categorías de espacio verde | M26: Sustancial
C28: ='Panel Control EU'!C77:F77 -> Se incrementa el espacio de estancia por habitante
C29: EU-IND.14 Espacio de estancia por habitante
D30: De 10 a 15 m2/hab | M30: Baja
D31: De 15 a 20 m2/hab | M31: Moderada
D32: Más de 20 m2/hab | M32: Sustancial
C34: ='Panel Control EU'!C79:F79 -> Accesibilidad universal
C35: MA-IND.15 Accesibilidad universal de los viario peatonales
D36: 40% accesibilidad excelente, 50 % buena, 10% sin accesibilidad de los tramos de calle | M36: Baja
D37: 65% accesibilidad excelente, 35 % buena, 0% sin accesibilidad de los tramos de calle | M37: Moderada
D38: Más 65% accesibilidad excelente, 0% sin accesibilidad | M38: Sustancial

Sheet EU2.3
B2: ='Panel Control EU'!B83 -> EU.2.3 | C2: ='Panel Control EU'!C83 -> Eficiencia y sostenibilidad de la urbanización. Planificación consciente
C4: ='Panel Control EU'!C86:F86 -> Potenciación de Medidas pasivas (disposición usos, forma y orientación, altura y tipología, envolvente, recursos locales)
D6: Acciones sólo en la edificación | M6: Baja
D7: Acciones sólo en la urbanización | M7: Moderada
D8: Acciones tanto en la edificacion como en la urbanización | M8: Sustancial
C10: ='Panel Control EU'!C88:F88 -> Potenciación de Medidas activas ( Captación, Autosuficiencia, reutilizacion de recursos.)
K11: *sumatoria de puntos por cada medida
D12: Aprovechamiento de agua de lluvia, de recursos hídricos | M12: 1 pto
D13: Aprovechamientos de recursos solares o energéticos | M13: 1 pto
D14: Minimizar depedencia de red | M14: 1 pto
K16: PUNTUACIÓN: | L16: 1 pto = Baja 2 ptos = Moderada 3 ptos = Sustancial
C18: ='Panel Control EU'!C90:F90 -> Reducción de la obsolescencia del tejido urbano
C19: EU-IND.16: Grado de obsolescencia del tejido urbano
D20: Reducción de la obsolescencia en menos de un 30% de la superficie | M20: Baja
D21: Reducción de la obsolescencia en un 30-50 % de la superficie | M21: Moderada
D22: Reduccción de la obsolscencia en más del 50% | M22: Sustancial
C24: ='Panel Control EU'!C92:F92 -> Habitabilidad global urbana
C25: EU-IND.15 Índice de habitabilidad global: referida a la habitabilidad del espacio público y proximidad a los servicios básicos
D26: >75 puntos en una cobertura del 50 al 60% del ámbito de estudio | M26: Baja
D27: >75 puntos en una cobertura del 60 al 70% del ámbito de estudio | M27: Moderada
D28: >75 puntos en una cobertura del 70 al 75% del ámbito de estudio | M28: Sustancial

Sheet EU2.4
B2: ='Panel Control EU'!B96 -> EU.2.4 | C2: ='Panel Control EU'!C96 -> Actuar sobre usos y zonas vulnerables
C4: ='Panel Control EU'!C99:F99 -> Se regeneran las urbanizaciones
C5: EU-IND.16: Grado de obsolescencia del tejido urbano. Umbral de sostenibilidad 100% en buen estado
D6: Se regeneran del 10 al 30% | M6: Baja
D7: Se regeneranen entre el 30-70% de los ambitos o zonas obsoletos | M7: Moderada
D8: Se regenera mas del 70% | M8: Sustancial
C10: ='Panel Control EU'!C101:F101 -> Se mejora la relación entre la calle y la edificación
C11: EU-IND.19 Proporcion de la calle.
D12: h/d de 0,25 a 2,2 del 50 al 65% de los tramos de calle del ámbito de actuación. | M12: Baja
D13: h/d de 0,25 a 2,2 del 65 al 80% de los tramos de calle del ámbito de actuación. | M13: Moderada
D14: h/d de 0,25 a 2,2 en más del 80% de los tramos de calle del ámbito de actuación. | M14: Sustancial
C16: ='Panel Control EU'!C103:F103 -> Se llevan a cabo acciones de adaptacion. Reducción de superficies en zona de riesgo.
C17: EU-IND.20 Superficie urbana en zona de riesgo. | G17: *Comprende los riesgos asociados a fuertes vientos, inundaciones, deslizamientos-desprendimientos y/o incendios forestales.
D18: Reducir a un 15-10% de superficies en zona de riesgo | M18: Baja
D19: Reducir a un 10 al 5% de superficies en zona de riesgo | M19: Moderada
D20: Reducir a un 5 al 0% de superficies en zona de riesgo | M20: Sustancial

Sheet EU3.1
B2: ='Panel Control EU'!B107 -> EU.3.1 | C2: ='Panel Control EU'!C107 -> Edificaciones eficientes y de consumo casi nulo.
C4: ='Panel Control EU'!C110:F110 -> Se realizan acciones para alcanzar edificaciones eficientes energéticamente
D6: Se establecen acciones para viabilizar los edificios de consumo casi nulo en hasta el 30% de la superficie con edificación existente | M6: Bajo
D7: Se establecen acciones para viabilizar los edificios de consumo casi nulo en hasta el 50% de la superficie con edificación existente | M7: Moderado
D8: Se establecen acciones para viabilizar los edificios de consumo casi nulo en más del 50% de la superficie con edificación existente | M8: Sustancial
C10: ='Panel Control EU'!C112:F112 -> Se potencia la construcción mediante la implementación de Arquitectura bioclimática , Passivhaus y optimizacion de la demanda de recursos
C11: EU-IND.18 Optimización de la demanda energética de la edificación pública y privada
D12: Se establecen medidas para que entre un 70%-80% de las edificaciones que cuentan con criterios de eficiencia y/o bioclimáticos | M12: Bajo
D13: Se establecen medidas para que entre un 81%-90% de las edificaciones que cuentan con criterios de eficiencia y/o bioclimáticos | M13: Moderado
D14: Se establecen medidas para que más de el 90% de las edificaciones que cuenten con criterios de eficiencia y/o bioclimáticos | M14: Sustancial
C16: ='Panel Control EU'!C114:F114 -> Se llevan a cabo accciones para la mejora del Confort ambiental de la edificación
D18: Se establecen medidas para promover la mejora del confort ambiental en hastas el 30 % del parque edificado | M18: Baja
D19: Se establecen medidas para promover la mejora del confort ambiental en el 30% al 60% del parque edificado | M19: Moderada
D20: Se establecen medidas para promover la mejora del confort ambiental en más del 60 % del parque edificado | M20: Sustancial
C22: ='Panel Control EU'!C116:F116 -> Se fomenta la vida util de los materiales de la construcción y la economía circular
L23: *sumatoria de puntos por cada medida
D24: Se establecen determinaciones para fomentar la utilizacion de materiales reciclados en los procesos constructivos | M24: 1 pto
D25: Se establecen determinaciones para fomentar el reciclaje de los materiales utilizados | M25: 1 pto
D26: Se establecen determinaciones para fomentar la economía circular de los elementos constructivos utilizados | M26: 1 pto
K28: PUNTUACIÓN: | L28: 1 pto = Baja 2 ptos = Moderada 3 ptos = Sustancial
C30: ='Panel Control EU'!C118:F118 -> Se establecen medidas para viabilizar la arquitectura circular.
D32: Se contempla la implantacion de medidas para la autosuficiencia, el diseño sostenible y la reducción de resíduos del parque edificado público | M32: Baja
D33: Se contempla la implantacion de medidas para la autosuficiencia, el diseño sostenible y la reducción de resíduos del parque edificado público y del 30 al 50% del parque edificado privado | M33: Moderada
D34: Se contempla la implantacion de medidas para la autosuficiencia, el diseño sostenible y la reducción de resíduos del parque edificado público y del 50 al 100% del parque edificado privado | M34: Sustancial
C36: ='Panel Control EU'!C120:F120 -> Se rehabilitan edificaciones con el fin de mejorar la calidad.
C37: EU-IND.17: Calidad de la construcción_ Antigüedad/ Estado deficiente
D38: Se establecen acciones para el acondicionamiento del 50 al 60 % del parque edificado del ámbito de actuación | M38: Baja
D39: Se establecen acciones para el acondicionamiento del 61 al 70 % del parque edificado del ámbito de actuación | M39: Moderada
D40: Se establecen acciones para el acondicionamiento en más del 70 % del parque edificado del ámbito de actuación | M40: Sustancial

Sheet EU3.2
B2: ='Panel Control EU'!B124 -> EU.3.2 | C2: ='Panel Control EU'!C124 -> Protección y resiliencia de la edificacion y la población
C4: ='Panel Control EU'!C127:F127 -> Se llevan a cabo acciones para Evitar los daños en el patrimonio edificado
C5: EU-IND.25 Amenaza al patrimonio edificado por efecto fel cambio climático
D6: Adecuación, para evitar el daño en edificaciones vulnerables, desde 10 al 30 % de la superficie afectada | M6: Baja
D7: Adecuación, para evitar el daño en edificaciones vulnerables, desde 30 al 60 % de la superficie afectada | M7: Moderada
D8: Adecuación, para evitar el daño en edificaciones vulnerables, desde 60 al 100 % de la superficie afectada | M8: Sustancial
C10: ='Panel Control EU'!C129:F129 -> Se llevan a cabo acciones para Resistir los daños en el patrimonio edificado
D12: Adecuación, para resistir el daño en edificaciones vulnerables, desde 10 al 30 % de la superficie afectada donde no pueda evitarse el daño | M12: Baja
D13: Adecuación, para evitar el daño en edificaciones vulnerables, desde 30 al 60 % de la superficie afectada donde no pueda evitarse el daño | M13: Moderada
D14: Adecuación, para evitar el daño en edificaciones vulnerables, desde 60 al 100 % de la superficie afectada donde no pueda evitarse el daño | M14: Sustancial
C16: ='Panel Control EU'!C131:F131 -> Se llevan a cabo acciones para Tolerar los daños en el patrimonio edificado
D18: Adecuación, para resistir el daño en edificaciones vulnerables, desde 10 al 30 % de la superficie afectada donde no pueda evitarse ni resistir al daño | M18: Baja
D19: Adecuación, para evitar el daño en edificaciones vulnerables, desde 30 al 60 % de la superficie afectada donde no pueda evitarse, ni resistir al daño | M19: Moderada
D20: Adecuación, para evitar el daño en edificaciones vulnerables, desde 60 al 100 % de la superficie afectada donde no pueda evitarse, ni resistir el daño | M20: Sustancial
C22: ='Panel Control EU'!C133:F133 -> Se realiza un plan de acción para Retirar la edificación que no permita ser adaptada
C23: MTU-IND-38 Infraestructuras en riesgo
D24: Adecuación, para resistir el daño en edificaciones vulnerables, desde 10 al 30 % de la superficie afectada donde no pueda evitarse ni resistir, ni tolerar al daño | M24: Baja
D25: Adecuación, para evitar el daño en edificaciones vulnerables, desde 30 al 60 % de la superficie afectada donde no pueda evitarse, ni resistir, ni tolerar al daño | M25: Moderada
D26: Adecuación, para evitar el daño en edificaciones vulnerables, desde 60 al 100 % de la superficie afectada donde no pueda evitarse, ni resistir, ni tolerar el daño | M26: Sustancial

Sheet EU4.1
B2: ='Panel Control EU'!B137 -> EU.4.1 | C2: ='Panel Control EU'!C137 -> Diseño de superficies y edificaciones saludables
C4: ='Panel Control EU'!C140:F140 -> Incremento de las superficies saludables
C5: INCREMENTO DE LAS SUPERFICIES SALUDABLES | L5: *sumatoria de puntos por cada medida
D6: Se incrementa la sueprficie de huertos urbanos ecológicos | M6: 1 pto
D7: Se Incrementan de zonas de esparcimeinto, relajación, reunión al aire libre e interacción social. | M7: 1 pto
D8: Se incrementan los espacios urbanos para la realizacion de actividad física | M8: 1 pto
K10: PUNTUACIÓN: | L10: 1 pto = Baja 2 ptos = Moderada 3 ptos = Sustancial
C12: ='Panel Control EU'!C142:F142 -> Confot del espacio público
C13: EU-IND.23: Cobertura arbórea de sombra
C14: EU-IND.24. Confort térmico
C15: EU.IND.29 Contaminación Atmosférica
D16: Cumple con el umbral de sostenibilidad de uno de los indicadores | M16: Baja
D17: Cumple con el umbral de sostenibilidad de dos de los indicadores | M17: Moderada
D18: Cumple con el umbral de sostenibilidad de los 3 indicadores | M18: Sustancial
C20: ='Panel Control EU'!C144:F144 -> Se establecen medidas para minimizar los edificios enfermos
D22: Hacer diagnóstico de edificios enfermos | M22: Baja
D23: Se establecen ámbitos de actuación para la rehabilitación de las zonas con edificios enfermos | M23: Moderada
D24: Se cruzan el diagnóstico de los edificios enfermos con la vulnerabilidad social | M24: Sustancial

Sheet EU4.2
B2: ='Panel Control EU'!B150 -> EU.4.2 | C2: ='Panel Control EU'!C150 -> Propiciar entornos confortables
C4: ='Panel Control EU'!C151:F151 -> Se propicia el confort olfativo (Control de resíduos, inclusión de I-VA)
D6: Minimizar los impactos y Calibrar el confort olfativo de entre 70-80% de las zonas afectadas | M6: Baja
D7: Minimizar los impactos y Calibrar el confort olfativo de entre 80-90% de las zonas afectadas | M7: Moderada
D8: Minimizar los impactos y Calibrar el confort olfativo de entre 90-100% de las zonas afectadas | M8: Sustancial
C10: ='Panel Control EU'!C153:F153 -> Se propicia el confort térmico (Inclusión de vegetación con porte que genere sombra)
C11: EU-IND.24. Confort térmico
D12: > 50% a 65% de horas de confort para a un mínimo del 50% de la superficie total de calles | M12: Baja
D13: > 65% a 80% de horas de confort para a un mínimo del 50% de la superficie total de calles | M13: Moderada
D14: > 80% de horas de confort para a un mínimo del 50% de la superficie total de calles | M14: Sustancial
C16: ='Panel Control EU'!C155:F155 -> Se propicia confort visual (Integración paisajística, aumento de las zonas de sombra y evitar el efecto albedo)
C17: EU-IND.36. Confort visual
D18: Minimizar los impactos y Calibrar el confort de entre 70-80% de las zonas afectadas | M18: Baja
D19: Minimizar los impactos y Calibrar el confort de entre 80-90% de las zonas afectadas | M19: Moderada
D20: Minimizar los impactos y Calibrar el confort de entre 90-100% de las zonas afectadas | M20: Sustancial
C22: ='Panel Control EU'!C157:F157 -> Se propicia confort emocional (aumentar seguridad, integracion con el entorno)
C23: EU-IND.32. Disponibilidad de espacios de interacción.
C24: EU-IND.33. Tipología de los espacios de interacción.
D25: Detectar y potenciar la disponibilidad de los espacios de interaccion | M25: Baja
D26: Detectar y potenciar la tipología de los espacios de interacción | M26: Moderada
D27: Detectar y potenciar la disponibilidad y la tipología de los espacios de interacción | M27: Sustancial
C29: ='Panel Control EU'!C159:F159 -> Se propicia confort auditivo ( Disminuir la contaminción acustica y aumentar el confort auditivo)
C30: EU-IND.28. Contaminación acustica.
D31: Entre un 70 y 80 del territorio por debajo de 65 dB durante el día y 55 dB durante la noche | M31: Baja
D32: Entre un 80 y 90 del territorio por debajo de 65 dB durante el día y 55 dB durante la noche | M32: Moderada
D33: Entre un 90 y 100% del territorio por debajo de 65 dB durante el día y 55 dB durante la noche | M33: Sustancial

Sheet EU4.3
B2: ='Panel Control EU'!B164 -> EU.4.3 | C2: ='Panel Control EU'!C164 -> Atender a la diversidad de la comunidad
C4: ='Panel Control EU'!C166:F166 -> Se fomentan acciones para adaptar los espacios a la diversidad social y a los efectos del cambio climático.
D6: Se adecúan los espacios de interacción existentes a la diversidad social | M6: Baja
D7: Se adecúan los espacios de interacción existentes a la diversidad social y se facilitan la conexión entre ellos | M7: Moderada
D8: Se adecuan los espacios de interacción existentes, se facilita la conexión entre ellos y se generan nuevos espacios adaptados a la diversidad social y /o como refugios climáticos | M8: Sustancial
C10: ='Panel Control EU'!C168:F168 -> Se ubican y adecuan edificaciones para atender la demanda de la comunidad y a los efectos del cambio climático.
D12: Se adecuan de las edificaciones de uso e interacción social actuales para atender la demanda de la comunidad | M12: Baja
D13: Se adecúan las edificaciones de uso e interacción social actuales para atender a la demanda de la comunidad y ubicación de nuevas. | M13: Moderada
D14: Se adecúan las edificaciones de uso e interacción social actuales para atender a la demanda de la comunidad y ubicación de nuevas, asi como refugios climáticos | M14: Sustancial
