Workbook
Name _Toc149554731: 'TPB 1.1'!$D$7

Sheet Tabla Resultados TPB
B2: TERRITORIO, PAISAJE Y BIODIVERSIDAD (TPB) | C2: EJES DE INTEGRACIÓN | D2: LÍNEAS DE ANÁLISIS | E2: CRITERIO | G2: Peso del área | H2: Peso del Criterio | I2: Puntuacion inicial del criterio | J2: Porcentaje de cumplimiento
C3: ECOSISTEMAS NATURALES | D3: INFRAESTRUCTURA VERDE Y AZUL | E3: TPB.1.1 | F3: Continuidad y funcionalidad ecológica de la Infraestructura Verde-Azul | G3: =SUM(H3:H9) -> 0.1667 | H3: 0.0315 | I3: ='Panel Control TPB'!M13 -> 0.0315 | J3: =SUM(I3:I9) -> 0.1667
D4: VULNERABILIDAD ECOLÓGICA Y RIESGOS NATURALES | E4: TPB.1.2 | F4: Conservación, restauración y puesta en valor de los ecosistemas naturales frente al cambio climático | H4: 0.0307 | I4: ='Panel Control TPB'!M27 -> 0.0307
D5: BENEFICIOS DE LOS SERVICIOS ECOSISTÉMICOS | E5: TPB.1.3 | F5: Refuerzo e implementación de los Servicios Ecosistémicos en el territorio | H5: 0.025 | I5: ='Panel Control TPB'!M39 -> 0.025
C6: PATRIMONIO Y PAISAJE | D6: IDENTIDAD DEL LUGAR | E6: TPB.2.1 | F6: Recuperación, puesta en valor y utilización de técnicas tradicionales para la gestión sostenible de los recursos naturales | H6: 0.022 | I6: ='Panel Control TPB'!M53 -> 0.022
C7: [ECO]SISTEMA RURAL | D7: AGROSISTEMAS SOSTENIBLES Y RESILIENTES | E7: TPB.3.1 | F7: Potenciación de las actividades primarias, impulsando la eficiencia de recursos, manejo ecológico sostenible y la soberanía alimentaria | H7: 0.0225 | I7: ='Panel Control TPB'!M65 -> 0.0225
C8: SINERGIAS ECOSISTÉMICAS | D8: SOLUCIONES BASADAS EN LA NATURALEZA | E8: TPB.4.1 | F8: Introducir Soluciones basadas en la Naturaleza para reducir la vulnerabilidad frente a los efectos del cambio climático | H8: 0.02 | I8: ='Panel Control TPB'!M75 -> 0.02
D9: ECOTONOS: PAISAJES HETEROGÉNEOS Y ENSAMBLADOS | E9: TPB.4.2 | F9: Multifuncionalidad del territorio y los recursos naturales frente al cambio climático | H9: 0.015 | I9: ='Panel Control TPB'!M84 -> 0.015

Sheet Panel Control TPB
C1: Peso del criterio | D1: Cumplimiento | F1: Indicaciones | G1: Contribución del criterio | J1: Rango contribucion del criterio | K1: Porcentaje Contribución | L1: Puntuación inicial del criterio
C2: ='Tabla Resultados TPB'!H3 -> 0.0315
A3: ='Tabla Resultados TPB'!E3 -> TPB.1.1 | B3: ='Tabla Resultados TPB'!F3 -> Continuidad y funcionalidad ecológica de la Infraestructura Verde-Azul | G3: Baja | H3: Moderada | I3: Sustancial
G4: =(C5/3) -> 0.0025666667 | H4: =(C5/3)*2 -> 0.0051333333 | I4: =(C5/3)*3 -> 0.0077
B5: ¿Con la ordenación se impulsa la restauración y la permeabilidad territorial a través de los diferentes elementos de la Infraestructura Verde-Azul? | C5: 0.0077 | D5: Sí | E5: =IF(D5="Sí",1)+IF(D5="No",0) -> 1 | F5: ver TPB 1.1 | J5: 3 | K5: =INDEX(G4:I4,J5) -> 0.0077 | L5: =K5*E5 -> 0.0077 | AB5: 1
D6: Sí | G6: =(C7/3) -> 0.0027333333 | H6: =(C7/3)*2 -> 0.0054666667 | I6: =(C7/3)*3 -> 0.0082
B7: ¿Se asegura la capacidad y apoyo del mantenimiento de la Infraestructura Verde-Azul? | C7: 0.0082 | D7: Sí | E7: =IF(D7="Sí",1)+IF(D7="No",0) -> 1 | F7: ver TPB 1.1 | J7: 3 | K7: =INDEX(G6:I6,J7) -> 0.0082 | L7: =K7*E7 -> 0.0082
D8: Sí | G8: =(C9/3) -> 0.0017333333 | H8: =(C9/3)*2 -> 0.0034666667 | I8: =(C9/3)*3 -> 0.0052
B9: ¿Se promueve soluciones para asegurar la conectividad de las especies y de los hábitats? | C9: 0.0052 | D9: Sí | E9: =IF(D9="Sí",1)+IF(D9="No",0) -> 1 | F9: ver TPB 1.1 | J9: 3 | K9: =INDEX(G8:I8,J9) -> 0.0052 | L9: =K9*E9 -> 0.0052
D10: Sí | G10: =(C11/3) -> 0.0020666667 | H10: =(C11/3)*2 -> 0.0041333333 | I10: =(C11/3)*3 -> 0.0062
B11: ¿Se emplea criterios de sostenibilidad en el proceso de renaturalización? | C11: 0.0062 | D11: Sí | E11: =IF(D11="Sí",1)+IF(D11="No",0) -> 1 | F11: ver TPB 1.1 | J11: 3 | K11: =INDEX(G10:I10,J11) -> 0.0062 | L11: =K11*E11 -> 0.0062
D12: Sí | G12: =(C13/3) -> 0.0014 | H12: =(C13/3)*2 -> 0.0028 | I12: =(C13/3)*3 -> 0.0042
B13: ¿Se limita o elimina las presiones antrópicas sobre los sistemas acuáticos? | C13: 0.0042 | D13: Sí | E13: =IF(D13="Sí",1)+IF(D13="No",0) -> 1 | F13: ver TPB 1.1 | J13: 3 | K13: =INDEX(G12:I12,J13) -> 0.0042 | L13: =K13*E13 -> 0.0042 | M13: =SUM(L5:L13) -> 0.0315
G14: =(#REF!/3) -> #REF! | H14: =(#REF!/3)*2 -> #REF! | I14: =(#REF!/3)*3 -> #REF!
C15: =SUM(C5:C14) -> 0.0315
C17: Peso del criterio | D17: Cumplimiento | F17: Leyenda Contribución del Criterio | G17: Contribución del criterio | J17: Rango contribucion del criterio | K17: Porcentaje Contribución | L17: Puntuación inicial del criterio
C18: ='Tabla Resultados TPB'!H4 -> 0.0307
A19: ='Tabla Resultados TPB'!E4 -> TPB.1.2 | B19: ='Tabla Resultados TPB'!F4 -> Conservación, restauración y puesta en valor de los ecosistemas naturales frente al cambio climático | G19: Baja | H19: Moderada | I19: Sustancial
G20: =(C21/3) -> 0.0031 | H20: =(C21/3)*2 -> 0.0062 | I20: =(C21/3)*3 -> 0.0093
B21: ¿Se protege y pone en valor el patrimonio natural existente? | C21: 0.0093 | D21: Sí | E21: =IF(D21="Sí",1)+IF(D21="No",0) -> 1 | F21: ver TPB 1.2 | J21: 3 | K21: =INDEX(G20:I20,J21) -> 0.0093 | L21: =K21*E21 -> 0.0093
D22: Sí | G22: =(C23/3) -> 0.0029 | H22: =(C23/3)*2 -> 0.0058 | I22: =(C23/3)*3 -> 0.0087
B23: ¿Se apuesta por la restauración de ecosistemas? | C23: 0.0087 | D23: Sí | E23: =IF(D23="Sí",1)+IF(D23="No",0) -> 1 | F23: ver TPB 1.2 | J23: 3 | K23: =INDEX(G22:I22,J23) -> 0.0087 | L23: =K23*E23 -> 0.0087
D24: Sí | G24: =(C25/3) -> 0.0023333333 | H24: =(C25/3)*2 -> 0.0046666667 | I24: =(C25/3)*3 -> 0.007
B25: ¿Se potencia los ecosistemas para la prevención de riesgos naturales? | C25: 0.007 | D25: Sí | E25: =IF(D25="Sí",1)+IF(D25="No",0) -> 1 | F25: ver TPB 1.2 | J25: 3 | K25: =INDEX(G24:I24,J25) -> 0.007 | L25: =K25*E25 -> 0.007
D26: Sí | G26: =(C27/3) -> 0.0019 | H26: =(C27/3)*2 -> 0.0038 | I26: =(C27/3)*3 -> 0.0057
B27: ¿Se introduce algún marco de acción vinculado a la conservación de especies y/o ecosistemas? | C27: 0.0057 | D27: Sí | E27: =IF(D27="Sí",1)+IF(D27="No",0) -> 1 | F27: ver TPB 1.2 | J27: 3 | K27: =INDEX(G26:I26,J27) -> 0.0057 | L27: =K27*E27 -> 0.0057 | M27: =SUM(L21:L27) -> 0.0307
G28: =(#REF!/3) -> #REF! | H28: =(#REF!/3)*2 -> #REF! | I28: =(#REF!/3)*3 -> #REF!
C29: =SUM(C21:C28) -> 0.0307
C31: Peso del criterio | D31: Cumplimiento | F31: Leyenda Contribución del Criterio | G31: Contribución del criterio | J31: Rango contribucion del criterio | K31: Porcentaje Contribución | L31: Puntuación inicial del criterio
C32: ='Tabla Resultados TPB'!H5 -> 0.025
A33: ='Tabla Resultados TPB'!E5 -> TPB.1.3 | B33: ='Tabla Resultados TPB'!F5 -> Refuerzo e implementación de los Servicios Ecosistémicos en el territorio | G33: Baja | H33: Moderada | I33: Sustancial
G34: =(C35/3) -> 0.0023333333 | H34: =(C35/3)*2 -> 0.0046666667 | I34: =(C35/3)*3 -> 0.007
B35: ¿Se cuenta con un diagnóstico de los Servicios Ecosistémicos disponibles? | C35: 0.007 | D35: Sí | E35: =IF(D35="Sí",1)+IF(D35="No",0) -> 1 | F35: ver TPB 1.3 | J35: 3 | K35: =INDEX(G34:I34,J35) -> 0.007 | L35: =K35*E35 -> 0.007
D36: Sí | E36: =IF(D36="Sí",1)+IF(D36="No",0) -> 1 | G36: =(C37/3) -> 0.0031333333 | H36: =(C37/3)*2 -> 0.0062666667 | I36: =(C37/3)*3 -> 0.0094
B37: ¿Desde las actividades antrópicas se crean sinergias positivas sobre los ecosistemas? | C37: 0.0094 | D37: Sí | E37: =IF(D37="Sí",1)+IF(D37="No",0) -> 1 | F37: ver TPB 1.3 | J37: 3 | K37: =INDEX(G36:I36,J37) -> 0.0094 | L37: =K37*E37 -> 0.0094
D38: Sí | E38: =IF(D38="Sí",1)+IF(D38="No",0) -> 1 | G38: =(C39/3) -> 0.0028666667 | H38: =(C39/3)*2 -> 0.0057333333 | I38: =(C39/3)*3 -> 0.0086
B39: ¿Se crean y/o fortalecen sinergias positivas con los servicios ecosistémicos? | C39: 0.0086 | D39: Sí | E39: =IF(D39="Sí",1)+IF(D39="No",0) -> 1 | F39: ver TPB 1.3 | J39: 3 | K39: =INDEX(G38:I38,J39) -> 0.0086 | L39: =K39*E39 -> 0.0086 | M39: =SUM(L35:L40) -> 0.025
E40: =IF(D40="Sí",1)+IF(D40="No",0) -> 0 | G40: =(#REF!/3) -> #REF! | H40: =(#REF!/3)*2 -> #REF! | I40: =(#REF!/3)*3 -> #REF!
C41: =SUM(C35:C40) -> 0.025
C43: Peso del criterio | D43: Cumplimiento | F43: Leyenda Contribución del Criterio | G43: Contribución del criterio | J43: Rango contribucion del criterio | K43: Porcentaje Contribución | L43: Puntuación inicial del criterio
...

Sheet TPB 1.1
B2: TPB.1.1 | C2: Continuidad y funcionalidad ecológica de la Infraestructura Verde-Azul
C5: ¿Con la ordenación se impulsa la restauración y la permeabilidad territorial a través de los diferentes elementos de la Infraestructura Verde-Azul?
B7: Indicador asociado | C7: TPB-IND.03 | D7: CONECTIVIDAD ECOSISTÉMICA DE LA INFRAESTRUCTURA VERDE
D8: La restauración y permeabilidad de la Red de IV-A únicamente se impulsa en el sistema natural. | M8: Baja
D9: La restauración y permeabilidad de la Red de IV-A se impulsa en dos sistemas territoriales (natural-rural o natural-urbano). | M9: Moderada
D10: Se impulsa la restauración y permeabilidad de la Red de IV-A en toda la matriz territorial. | M10: Sustancial
C12: ¿Se asegura la capacidad y apoyo del mantenimiento de la Infraestructura Verde-Azul?
B14: Indicador asociado | C14: TPB-IND.01 | D14: GRADO DE NATURALIZACIÓN
D15: A corto plazo (menos de un año). | M15: Baja
D16: A medio plazo (entre 1 a 10 años). | M16: Moderada
D17: Más de 10 años. | M17: Sustancial
C19: ¿Se promueve soluciones para asegurar la conectividad de las especies y de los hábitats?
B21: Indicador asociado | C21: TPB-IND.03 | D21: CONECTIVIDAD ECOSISTÉMICA DE LA INFRAESTRUCTURA VERDE
D22: Únicamente de especies animales. | M22: Baja
D23: Se favorece la continuidad de especies animales y vegetales. | M23: Moderada
D24: Se actúa de manera directa para la continuidad de especies animales, vegetales y dinámicas naturales de los ecosistemas. | M24: Sustancial
C26: ¿Se emplea criterios de sostenibilidad en el proceso de renaturalización?
D28: Es únicamente eficiente con los recursos (suelo, agua y materias primas de origen biológico). | M28: Baja
D29: Además del empleo eficiente de los recursos (suelo, agua y materias primas de origen biológico), intercala en la IV algunas especies de flora autóctona. | M29: Moderada
D30: Además del empleo eficiente de los recursos (suelo, agua y materias primas de origen biológico), la IV la compone predominantemente especies vegetales autóctonas. | M30: Sustancial
C32: ¿Se limita o elimina las presiones antrópicas sobre los sistemas acuáticos?
B34: Indicadores asociados | C34: TPB-IND.06 | D34: PROPORCIÓN DE MASAS DE AGUA DE BUENA CALIDAD
C35: TPB-IND.07 | D35: VERTIDOS Y CONTROL DE LA CALIDAD DEL AGUA LITORAL
D36: Únicamente en el agua superficial terrestre. | M36: Baja
D37: En las aguas superficiales terrestres y marinas. | M37: Moderada
D38: En las aguas superficiales (terrestres-marinas) y en las aguas subterráneas. | M38: Sustancial

Sheet TPB 1.2
B2: TPB.1.2 | C2: Conservación, restauración y puesta en valor de los ecosistemas naturales frente al cambio climático
C5: ¿Se protege y pone en valor el patrimonio natural existente?
B7: Indicadores asociados | C7: TPB-IND.08 | D7: VULNERABILIDAD E IMPACTOS EN EL SISTEMAS NATURAL
C8: TPB-IND.09 | D8: GRADO DE OCUPACIÓN DE ÁREAS NATURALES VULNERABLES
C9: TPB-IND.13 | D9: PROTECCIÓN DE ESPACIOS Y HÁBITATS DE INTERÉS NATURAL
D10: Únicamente de la Red Canaria de Espacios Naturales Protegidos. | M10: Baja
D11: Se protege y pone en valor la Red Canaria de Espacios Naturales Protegidos, la Red Natura 2000 y los Hábitats de Interés Comunitarios. | M11: Moderada
D12: Se protege y pone en valor la Red Canaria de Espacios Naturales Protegidos, la Red Natura 2000, los Hábitats de Interés Comunitarios, las especies vulnerables y en peligro de extinción. | M12: Sustancial
C14: ¿Se apuesta por la restauración de ecosistemas?
B16: Indicador asociado | C16: TPB-IND.13 | D16: PROTECCIÓN DE ESPACIOS Y HÁBITATS DE INTERÉS NATURAL
D17: Se conserva únicamente los ecosistemas existentes. | M17: Baja
D18: Se conserva y restaura los ecosistemas actualmente existentes buscando reducir la presión antrópica. | M18: Moderada
D19: Se conserva, restaura y/o reconstruyen los ecosistemas buscando que el funcionamiento de la dinámica natural sea resiliente a los efectos del cambio climático. | M19: Sustancial
C21: ¿Se potencia los ecosistemas para la prevención de riesgos naturales?
D23: Menos del 40 % de la superficie con riesgo. | M23: Baja
D24: Entre el 40 al 70 % de la superficie con riesgo. | M24: Moderada
D25: Más del 70 % de la superficie con riesgo. | M25: Sustancial
C27: ¿Se introduce algún marco de acción vinculado a la conservación de especies y/o ecosistemas?
D29: Medidas de mantenimiento y restauración de especies y hábitats relacionadas con lugares Natura 2000. | M29: Baja
D30: Medidas adicionales de infraestructura verde más allá de Natura 2000. | M30: Moderada
D31: Medidas adicionales de IV más allá de Natura 2000 y de especies o ecosistemas vulnerables al cambio climático. | M31: Sustancial

Sheet TPB 2.1
B2: TPB.2.1 | C2: Recuperación, puesta en valor y utilización de técnicas tradicionales para la gestión sostenible de los recursos naturales
C5: ¿Se produce sinergias positivas entre el patrimonio natural y el patrimonio cultural?
B7: Indicador asociado | C7: TPB-IND.10 | D7: DIAGNÓSTICO BASADO EN LOS SERVICIOS ECOSISTÉMICO
D8: Se producen sinergias únicamente sobre bienes materiales de carácter antrópico. | M8: Baja
D9: Se producen sinergias sobre valores naturales y bienes materiales de carácter antrópico. | M9: Moderada
D10: Se producen sinergias sobre valores naturales, bienes materiales y patrimonio inmaterial de carácter antrópico. | M10: Sustancial
C12: ¿Se conserva y restaura infraestructuras tradicionales (presas, gavias, bancales, estanques,…) para reforzar la resiliencia territorial?
B14: Indicadores asociados | C14: TPB-IND.14 | D14: PROTECCIÓN DE ELEMENTOS DE INTERÉS CULTURAL
C15: TPB-IND.15 | D15: ESTADO DE CONSERVACIÓN DEL PATRIMONIO EDIFICADO
C16: TPB-IND.16 | D16: AMENAZA AL PATRIMONIO EDIFICADO POR EFECTOS DEL CAMBIO CLIMÁTICO
C17: TPB-IND.17 | D17: SOSTENIBILIDAD DEL PATRIMONIO
D18: Únicamente se conservan las infraestructuras tradicionales. | M18: Baja
D19: Se conservan y restauran las infraestructuras tradicionales. | M19: Moderada
D20: A las infraestructuras tradicionales se le otorga multifuncionalidad para combatir los efectos del cambio climático. | M20: Sustancial
C22: ¿Se integra conocimientos y prácticas bioculturales tradicionales que contribuyan a la sostenibilidad ecológica, social y cultural?
D24: Se pone en valor de manera testimonial. | M24: Baja
D25: Se impulsa los conocimientos y prácticas bioculturales tradicionales en el sector agropecuario. | M25: Moderada
D26: Se impulsa los conocimientos y prácticas bioculturales tradicionales de manera multisectorial (ajardinamiento, economía circular, etc). | M26: Sustancial
C28: ¿Se recupera el paisaje tradicional otorgándole multifuncionalidad?
B30: Indicador asociado | C30: TPB-IND.10 | D30: GRADO DE DEGRADACIÓN DEL PAISAJE
D31: Se recupera el paisaje por su valor escénico. | M31: Baja
D32: Se recupera el paisaje teniendo en consideración los beneficios que aporta a la sociedad. | M32: Moderada
D33: Se recupera el paisaje optimizando el manejo tradicional del paisaje en relación a la recuperabilidad de los recursos naturales y los cobeneficios que proporciona a la sociedad. | M33: Sustancial

Sheet TPB 1.3
B2: TPB.1.3 | C2: Refuerzo e implementación de los Servicios Ecosistémicos en el territorio
C5: ¿Se cuenta con un diagnóstico de los Servicios Ecosistémicos disponibles?
B7: Indicador asociado | C7: TPB-IND.10 | D7: DIAGNÓSTICO BASADO EN LOS SERVICIOS ECOSISTÉMICO
D8: Solamente se realiza un diagnóstico sobre los recursos naturales. | M8: Baja
D9: Se realiza un diagnóstico sobre los recursos naturales y el funcionamiento de los ecosistemas. | M9: Moderada
D10: Se realiza un diagnóstico sobre los recursos naturales, el funcionamiento de los ecosistemas y los beneficios que proporcionan a los diferentes sectores de la sociedad, contemplando la vulnerabilidad social y ecológica. | M10: Sustancial
C12: ¿Desde las actividades antrópicas se crean sinergias positivas sobre los ecosistemas?
D14: Se efectúan sinergias indirectas para el mantenimiento de los ecosistemas frente a la presión antrópica. | M14: Baja
D15: Se efectúan sinergias directas para el mantenimiento de los ecosistemas frente a la presión antrópica. | M15: Moderada
D16: Se efectúan sinergias directas para el mantenimiento de los ecosistemas frente a la presión antrópica y a los efectos del cambio climático. | M16: Sustancial
C18: ¿Se crean y/o fortalecen sinergias positivas con los servicios ecosistémicos?
D20: Se impulsan menos de 8 subservicios ecosistémicos. | M20: Baja
D21: Se impulsan entre 9 a 16 subservicios ecosistémicos. | M21: Moderada
D22: Se impulsan más de 17 subservicios ecosistémicos. | M22: Sustancial
J24: PUNTUACIÓN: - Prevención de inundaciones, regulación de escorrentías (1 punto). - Reducción de los riesgos derivados de las inundaciones, regulación de avenidas (1 punto). - Incremento de la recarga de agua de los acuíferos (1 punto). - Regulación térmica y disminución de las islas urbanas de calor (1 punto). - Mejora de la permeabilidad ecológica ante condiciones climáticas extremas (1 punto). - Aumento del secuestro de carbono (efecto sumidero) (1 punto). - Reducción de emisiones de carbono provenientes de los vehículos motorizados. - Generación de fuentes de energía renovable (“edificios verdes”) (1 punto). - Reducción del consumo de energía (1 punto). - Mantenimiento, protección y mejora de los hábitats naturales, la vida y la biodiversidad (1 punto). - Incremento de la biocapacidad (1 punto). - Mejora de la calidad del aire (1 punto). - Mejora de la calidad del agua (purificación del agua) (1 punto). - Reducción de los niveles de ruido (1 punto). - Mejora y mantenimiento de los valores del suelo agrícola (aumento de la fertilidad del suelo) (1 punto). - Control de la erosión del suelo (1 punto). - Mejora de los valores estéticos (1 punto). - Incremento de recursos para la práctica de deporte y del ocio (1 punto). - Incremento de recursos para la contemplación y el bienestar espiritual (1 punto). - Generación de recursos para la formación y la educación (1 punto). - Generación de recursos comunitarios (implicación de la ciudadanía) (1 punto). - Incremento del sentimiento de pertenencia e identidad (1 punto). - Agricultura urbana y producción de alimentos de proximidad (1 punto).

Sheet TPB 3.1
B2: TPB 3.1 | C2: Potenciación de las actividades primarias, impulsando la eficiencia de recursos, manejo ecológico sostenible y la soberanía alimentaria
C5: ¿Desde la ordenación se potencia la correcta conservación de los lugares de interés agroecológico considerando los efectos del cambio climático?
D7: Se protege los lugares de interés agroecológico en explotación. | M7: Baja
D8: Se protege e impulsa la recuperación de todos los lugares de interés agroecológico. | M8: Moderada
D9: Se protege e impulsa la recuperación de todos los lugares de interés agroecológico, y además, se proponen nuevos espacios a esta categoría (procedente de áreas altamente antropizadas). | M9: Sustancial
C11: ¿Se favorece el impulso de los agrosistemas sostenibles y diversificados?
B13: Indicadores asociados | C13: TPB-IND.19 | D13: GRADO DE APROVECHAMIENTO AGRÍCOLA DEL TERRITORIO
C14: TPB-IND.20 | D14: GRADO DE PRODUCCIONES AGRARIAS RESILIENTES
C15: TPB-IND.21 | D15: GRADO DE PRODUCCIÓN EN AGROSISTEMAS TRADICIONALES
C16: TPB-IND.22 | D16: ESTADO DE USO LOS AGROSISTEMAS TRADICIONALES
C17: TPB-IND.23 | D17: GRADO DE PRODUCCIÓN AGRARIA LOCAL
D18: 1 punto. | M18: Baja
D19: Entre 2 a 4 puntos. | M19: Moderada
D20: Más de 5 puntos. | M20: Sustancial
J21: PUNTUACIÓN: - Diversidad de especies en conjunción con la biodiversidad (1 punto). - Adecuación a una estrategia agroecológica sectorial local, municipal, insular y/o autonómico (1 punto). - Inclusión de sabiduría sostenible local (1 punto). - Inclusión sostenible de nuevas tecnologías (1 punto). - Disminución de impactos ambientales negativos preexistentes (1 punto). - Creación de cobeneficios con otras actividades antrópicas y/o naturales (1 punto).
C27: ¿Se favorece a través de los usos la recuperación de la trashumancia en las vías pecuarias?
D29: Las vías pecuarias desempeñan únicamente una labor económica. | M29: Baja
D30: Las vías pecuarias desempeñan una labor multifuncional desde el punto de vista económico, social y ambiental. | M30: Moderada
D31: Se integran las vías pecuarias desde un punto de vista multifuncional y considerando los cobeneficios que pueden aportar (sensibilización ciudadana, prevención de incendios forestales, labores de reforestación y restauración del suelo, corredores ecológicos,...). | M31: Sustancial

Sheet TPB 4.1
B2: TPB 4.1 | C2: Introducir Soluciones basadas en la Naturaleza para reducir la vulnerabilidad frente a los efectos del cambio climático.
C5: ¿Se implementa los principios fundamentales de las Soluciones basadas en la Naturaleza?
B7: Indicador asociado | C7: TPB-IND.01 | D7: GRADO DE NATURALIZACIÓN
C8: TPB-IND.24 | D8: INFRAESTRUCTURA VERDE EJECUTADA
D9: Menos de 3 puntos. | M9: Baja
D10: Entre 4 a 6 puntos. | M10: Moderada
D11: Más de 6 puntos. | M11: Sustancial
J12: PUNTUACIÓN: - Las SbN adoptan las normas (y principios) de la conservación de la naturaleza (1 punto). - Las SbN se pueden implementar de forma autónoma o integrada con otras soluciones a retos de la sociedad (por ejemplo, soluciones tecnológicas y de ingeniería) (1 punto). - Las SbN son locales, en el sentido de que vienen determinadas por contextos naturales y culturales específicos de los sitios, que incluyen conocimientos tradicionales, locales y científicos (1 punto). - Las SbN aportan beneficios sociales de un modo justo y equitativo que promueve la transparencia y una participación amplia (1 punto). - Las SbN mantienen la diversidad biológica y cultural y la capacidad de los ecosistemas de evolucionar con el tiempo (1 punto). - Las SbN se aplican a escala de un paisaje (1 punto). - Las SbN reconocen y abordan las compensaciones entre la obtención de unos pocos beneficios económicos para el desarrollo inmediatos y las opciones futuras para la producción de la gama completa de servicios de los ecosistemas (1 punto). - Las SbN forman parte integrante del diseño general de las políticas y medidas o acciones encaminadas a hacer frente un reto concreto de la sociedad (1 punto). Fuente de referencia: Soluciones basadas en la Naturaleza (CONAMA, 2018). http://www.conama.org/conama/download/files/conama2018//GTs%202018/10_final.pd
C25: ¿Se alcanza los objetivos aplicados en el Instrumento utilizando el enfoque de las Soluciones basadas en la Naturaleza?
D27: Menos de 2 puntos. | M27: Baja
D28: Entre 3 a 5 puntos. | M28: Moderada
D29: Más de 5 puntos. | M29: Sustancial
J30: PUNTUACIÓN: - Regeneración urbana (1 punto). - Mejora bienestar en áreas urbanas (1 punto). - Resiliencia costera (1 punto). - Gestión multifuncional cuencas hidrológicas (1 punto). - Restauración de ecosistemas (1 punto). - Uso sostenible de materia y energía (1 punto). - Valor de los ecosistemas (1 punto). - Aumentar el secuestro de carbono (1 punto). Fuente: Nature-Based Solutions & Re-Naturing Cities. Comisión Europea. https://ec.europa.eu/research/environment/index.cfm?pg=nbs

Sheet TPB 4.2
B2: TPB 4.2 | C2: Multifuncionalidad del territorio y los recursos naturales frente al cambio climático
C5: ¿Desde la ordenación se impulsan los ecotonos y se potencian sus atributos en la matriz territorial para la Acción Climática?
B7: Indicadores asociados | C7: TPB-IND.25 | D7: ÍNDICE DE FRAGMENTACIÓN
C8: TPB-IND.26 | D8: ESTADO DE LOS ECOTONOS EN EL TERRITORIO
D9: 1 punto. | M9: Baja
D10: 2 puntos. | M10: Moderada
D11: 3 puntos. | M11: Sustancial
J13: PUNTUACIÓN: - Se considera el grado de fragmentación, representada por el tamaño de las manchas, o sea por su número (y no por la superficie total) que puede tener un tipo de mancha en una matriz (1 punto). - Se considera la heterogeneidad, indicando la diversidad de estructuras del paisaje(1 punto).. -Se considera la conectividad, reflejando la capacidad de un patrón paisajístico de permitir el movimiento de las especies entre las manchas de un mismo tipo o no (1 punto).
