Workbook

Sheet AUX-base graduacion
C1: Peso máximo del Factor de Corrección | D1: Contribución al Factor de Corrección DNSH3 Uso Sostenible del Agua y Protección de los recursos hídricos y marinos | G1: Rango contribucion | H1: Porcentaje Contribución | I1: Puntuación Factor corrreción DNSH 3 | K1: Peso máximo del Factor de Corrección | M1: Contribución al Factor de Corrección DNSH4 Transición hacia una Economía Circular | P1: Rango contribucion | Q1: Porcentaje Contribución | R1: Puntuación Factor corrreción DNSH·4 | T1: Peso máximo del Factor de Corrección | V1: Contribución al Factor de Corrección DNSH5 Control de la contaminación | Y1: Rango contribucion | Z1: Porcentaje Contribución | AA1: Puntuación Factor corrreción DNSH 5 | AC1: Peso máximo del Factor de Corrección | AE1: Contribución al Factor de Corrección DNSH6 Protección y recuperación de la biodiversidad y los ecosistemas | AH1: Rango contribucion | AI1: Porcentaje Contribución | AJ1: Puntuación Factor corrreción DNSH 6 | AK1: Puntuación Total Factor Corrección Ambiental
A2: ='Tabla Resultados FC'!C3 -> TPB.1.1 | B2: ='Tabla Resultados FC'!D3 -> Continuidad y funcionalidad ecológica de la Infraestructura Verde-Azul | C2: =100%/4 -> 0.25 | J2: =B2 -> Continuidad y funcionalidad ecológica de la Infraestructura Verde-Azul | K2: =100%/4 -> 0.25 | S2: =B2 -> Continuidad y funcionalidad ecológica de la Infraestructura Verde-Azul | T2: =100%/4 -> 0.25 | AB2: =J2 -> Continuidad y funcionalidad ecológica de la Infraestructura Verde-Azul | AC2: =100%/4 -> 0.25
D3: Baja | E3: Moderada | F3: Sustancial | M3: Baja | N3: Moderada | O3: Sustancial | V3: Baja | W3: Moderada | X3: Sustancial | AE3: Baja | AF3: Moderada | AG3: Sustancial
D4: =C5*50% -> 0.041666667 | E4: =C5*75% -> 0.0625 | F4: =C5*100% -> 0.083333333 | M4: =K5*50% -> 0.041666667 | N4: =K5*75% -> 0.0625 | O4: =K5*100% -> 0.083333333 | V4: =T5*50% -> 0.041666667 | W4: =T5*75% -> 0.0625 | X4: =T5*100% -> 0.083333333 | AE4: =AC5*50% -> 0.041666667 | AF4: =AC5*75% -> 0.0625 | AG4: =AC5*100% -> 0.083333333
B5: Se incoporan medidas para el uso sostenible del agua | C5: =C2/3 -> 0.083333333 | G5: 3 | H5: =INDEX(D4:F4,G5) -> 0.083333333 | I5: =H5 -> 0.083333333 | J5: Se diseña con vistas a una alta durabilidad, la reciclabilidad …. | K5: =K2/3 -> 0.083333333 | L5: =IF(#REF!="Sí",1)+IF(#REF!="No",0) -> #REF! | P5: 3 | Q5: =INDEX(M4:O4,P5) -> 0.083333333 | R5: =Q5 -> 0.083333333 | S5: Se realiza un análisis de la composición de los productos asegurando que no contienen productos peligrosos | T5: =T2/3 -> 0.083333333 | U5: =IF(#REF!="Sí",1)+IF(#REF!="No",0) -> #REF! | Y5: 3 | Z5: =INDEX(V4:X4,Y5) -> 0.083333333 | AA5: =Z5 -> 0.083333333 | AB5: Se ha evaluado el impacto impacto ambiental sobre la Biodiversidad y los Ecosistemas | AC5: =AC2/3 -> 0.083333333 | AD5: =IF(#REF!="Sí",1)+IF(#REF!="No",0) -> #REF! | AH5: 3 | AI5: =INDEX(AE4:AG4,AH5) -> 0.083333333 | AJ5: =AI5 -> 0.083333333 | AQ5: 1
D6: =C7*50% -> 0.041666667 | E6: =C7*75% -> 0.0625 | F6: =C7*100% -> 0.083333333 | M6: =K7*50% -> 0.041666667 | N6: =K7*75% -> 0.0625 | O6: =K7*100% -> 0.083333333 | V6: =T7*50% -> 0.041666667 | W6: =T7*75% -> 0.0625 | X6: =T7*100% -> 0.083333333 | AE6: =AC7*50% -> 0.041666667 | AF6: =AC7*75% -> 0.0625 | AG6: =AC7*100% -> 0.083333333
B7: Se determinan y afrontan los riesgos de degradación medioambiental relacionados con la preservación de la calidad del agua y la prevención del estrés hídrico | C7: =C2/3 -> 0.083333333 | G7: 3 | H7: =INDEX(D6:F6,G7) -> 0.083333333 | I7: =H7 -> 0.083333333 | J7: Promueve la reutilización y el uso de materias primas secundarios y componentes reutilizados ó Al menos el 70% de los residuos no peligrosos de construcción y demolición se prepararan para la reutilización, el reciclado y la valoración de los materiales, incluidas las operaciones de relleno.... | K7: =K2/3 -> 0.083333333 | L7: =IF(#REF!="Sí",1)+IF(#REF!="No",0) -> #REF! | P7: 3 | Q7: =INDEX(M6:O6,P7) -> 0.083333333 | R7: =Q7 -> 0.083333333 | S7: xxxx | T7: =T2/3 -> 0.083333333 | U7: =IF(#REF!="Sí",1)+IF(#REF!="No",0) -> #REF! | Y7: 3 | Z7: =INDEX(V6:X6,Y7) -> 0.083333333 | AA7: =Z7 -> 0.083333333 | AB7: Apendice D-Taxonomía: Se incluyen medidas ambientales de protección de la biodiversidad y los ecosistemas | AC7: =AC2/3 -> 0.083333333 | AD7: =IF(#REF!="Sí",1)+IF(#REF!="No",0) -> #REF! | AH7: 3 | AI7: =INDEX(AE6:AG6,AH7) -> 0.083333333 | AJ7: =AI7 -> 0.083333333
D8: =C9*50% -> 0.041666667 | E8: =C9*75% -> 0.0625 | F8: =C9*100% -> 0.083333333 | M8: =K9*50% -> 0.041666667 | N8: =K9*75% -> 0.0625 | O8: =K9*100% -> 0.083333333 | V8: =T9*50% -> 0.041666667 | W8: =T9*75% -> 0.0625 | X8: =T9*100% -> 0.083333333 | AE8: =AC9*50% -> 0.041666667 | AF8: =AC9*75% -> 0.0625 | AG8: =AC9*100% -> 0.083333333
B9: No se obstaculiza la consecución del buen estado medioambiental de las aguas marinas ni deteriora las aguas marinas | C9: =C2/3 -> 0.083333333 | G9: 3 | H9: =INDEX(D8:F8,G9) -> 0.083333333 | I9: =H9 -> 0.083333333 | J9: La gestión de residuos da prioridad al reciclado sobre la eliminación | K9: =K2/3 -> 0.083333333 | L9: =IF(#REF!="Sí",1)+IF(#REF!="No",0) -> #REF! | P9: 3 | Q9: =INDEX(M8:O8,P9) -> 0.083333333 | R9: =Q9 -> 0.083333333 | S9: xxxx | T9: =T2/3 -> 0.083333333 | U9: =IF(#REF!="Sí",1)+IF(#REF!="No",0) -> #REF! | Y9: 3 | Z9: =INDEX(V8:X8,Y9) -> 0.083333333 | AA9: =Z9 -> 0.083333333 | AB9: Se ha considerado la contiguidad a un espacio natural protegido | AC9: =AC2/3 -> 0.083333333 | AD9: =IF(#REF!="Sí",1)+IF(#REF!="No",0) -> #REF! | AH9: 3 | AI9: =INDEX(AE8:AG8,AH9) -> 0.083333333 | AJ9: =AI9 -> 0.083333333 | AK9: =SUM(I10,R10,AA10,AJ10) -> 1
C10: =SUM(C5:C9) -> 0.25 | I10: =I5+I7+I9 -> 0.25 | K10: =SUM(K5:K9) -> 0.25 | R10: =R5+R7+R9 -> 0.25 | T10: =SUM(T5:T9) -> 0.25 | U10: =SUM(U5:U9) -> #REF! | AA10: =AA5+AA7+AA9 -> 0.25 | AC10: =SUM(AC5:AC9) -> 0.25 | AJ10: =AJ5+AJ7+AJ9 -> 0.25
C13: Peso máximo del Factor de Corrección | D13: Contribución al Factor de Corrección DNSH3 Protección de los recursos hídricos y marinos | G13: Rango contribucion | H13: Porcentaje Contribución | I13: Puntuación Factor corrreción DNSH 3 | K13: Peso máximo del Factor de Corrección | M13: Contribución al Factor de Corrección DNSH4 Transición hacia una Economía Circular | P13: Rango contribucion | Q13: Porcentaje Contribución | R13: Puntuación Factor corrreción DNSH·4 | T13: Peso máximo del Factor de Corrección | V13: Contribución al Factor de Corrección DNSH5 Control de la contaminación | Y13: Rango contribucion | Z13: Porcentaje Contribución | AA13: Puntuación Factor corrreción DNSH 5 | AC13: Peso máximo del Factor de Corrección | AE13: Contribución al Factor de Corrección DNSH6 Protección y recuperación de la biodiversidad y los ecosistemas | AH13: Rango contribucion | AI13: Porcentaje Contribución | AJ13: Puntuación Factor corrreción DNSH 6 | AK13: Puntuación Total Factor Corrección Ambiental
A14: ='Tabla Resultados FC'!C4 -> TPB.1.2 | B14: ='Tabla Resultados FC'!D4 -> Conservación, restauración y puesta en valor de los ecosistemas naturales frente al cambio climático | C14: =100%/4 -> 0.25 | J14: =B14 -> Conservación, restauración y puesta en valor de los ecosistemas naturales frente al cambio climático | K14: =100%/4 -> 0.25 | S14: =B14 -> Conservación, restauración y puesta en valor de los ecosistemas naturales frente al cambio climático | T14: =100%/4 -> 0.25 | AB14: =J14 -> Conservación, restauración y puesta en valor de los ecosistemas naturales frente al cambio climático | AC14: =100%/4 -> 0.25
D15: Baja | E15: Moderada | F15: Sustancial | M15: Baja | N15: Moderada | O15: Sustancial | V15: Baja | W15: Moderada | X15: Sustancial | AE15: Baja | AF15: Moderada | AG15: Sustancial
D16: =C17*50% -> 0.041666667 | E16: =C17*75% -> 0.0625 | F16: =C17*100% -> 0.083333333 | M16: =K17*50% -> 0.041666667 | N16: =K17*75% -> 0.0625 | O16: =K17*100% -> 0.083333333 | V16: =T17*50% -> 0.041666667 | W16: =T17*75% -> 0.0625 | X16: =T17*100% -> 0.083333333 | AE16: =AC17*50% -> 0.041666667 | AF16: =AC17*75% -> 0.0625 | AG16: =AC17*100% -> 0.083333333
B17: Lorem ipsum | C17: =C14/3 -> 0.083333333 | G17: 3 | H17: =INDEX(D16:F16,G17) -> 0.083333333 | I17: =H17 -> 0.083333333 | J17: Lorem ipsum | K17: =K14/3 -> 0.083333333 | L17: =IF(#REF!="Sí",1)+IF(#REF!="No",0) -> #REF! | P17: 3 | Q17: =INDEX(M16:O16,P17) -> 0.083333333 | R17: =Q17 -> 0.083333333 | T17: =T14/3 -> 0.083333333 | U17: =IF(#REF!="Sí",1)+IF(#REF!="No",0) -> #REF! | Y17: 3 | Z17: =INDEX(V16:X16,Y17) -> 0.083333333 | AA17: =Z17 -> 0.083333333 | AB17: Lorem ipsum | AC17: =AC14/3 -> 0.083333333 | AD17: =IF(#REF!="Sí",1)+IF(#REF!="No",0) -> #REF! | AH17: 3 | AI17: =INDEX(AE16:AG16,AH17) -> 0.083333333 | AJ17: =AI17 -> 0.083333333
D18: =C19*50% -> 0.041666667 | E18: =C19*75% -> 0.0625 | F18: =C19*100% -> 0.083333333 | M18: =K19*50% -> 0.041666667 | N18: =K19*75% -> 0.0625 | O18: =K19*100% -> 0.083333333 | V18: =T19*50% -> 0.041666667 | W18: =T19*75% -> 0.0625 | X18: =T19*100% -> 0.083333333 | AE18: =AC19*50% -> 0.041666667 | AF18: =AC19*75% -> 0.0625 | AG18: =AC19*100% -> 0.083333333
B19: Lorem ipsum | C19: =C14/3 -> 0.083333333 | G19: 3 | H19: =INDEX(D18:F18,G19) -> 0.083333333 | I19: =H19 -> 0.083333333 | J19: Lorem ipsum | K19: =K14/3 -> 0.083333333 | L19: =IF(#REF!="Sí",1)+IF(#REF!="No",0) -> #REF! | P19: 3 | Q19: =INDEX(M18:O18,P19) -> 0.083333333 | R19: =Q19 -> 0.083333333 | T19: =T14/3 -> 0.083333333 | U19: =IF(#REF!="Sí",1)+IF(#REF!="No",0) -> #REF! | Y19: 3 | Z19: =INDEX(V18:X18,Y19) -> 0.083333333 | AA19: =Z19 -> 0.083333333 | AB19: Lorem ipsum | AC19: =AC14/3 -> 0.083333333 | AD19: =IF(#REF!="Sí",1)+IF(#REF!="No",0) -> #REF! | AH19: 3 | AI19: =INDEX(AE18:AG18,AH19) -> 0.083333333 | AJ19: =AI19 -> 0.083333333
D20: =(C21/2)*1 -> 0.041666667 | E20: =(C21/2)*1.5 -> 0.0625 | F20: =(C21/2)*2 -> 0.083333333 | M20: =(K21/2)*1 -> 0.041666667 | N20: =(K21/2)*1.5 -> 0.0625 | O20: =(K21/2)*2 -> 0.083333333 | V20: =(R21/2)*1 -> 0.041666667 | W20: =(R21/2)*1.5 -> 0.0625 | X20: =(R21/2)*2 -> 0.083333333 | AE20: =(AC21/2)*1 -> 0.041666667 | AF20: =(AC21/2)*1.5 -> 0.0625 | AG20: =(AC21/2)*2 -> 0.083333333
B21: Lorem ipsum | C21: =C14/3 -> 0.083333333 | G21: 3 | H21: =INDEX(D20:F20,G21) -> 0.083333333 | I21: =H21 -> 0.083333333 | J21: Lorem ipsum | K21: =K14/3 -> 0.083333333 | L21: =IF(#REF!="Sí",1)+IF(#REF!="No",0) -> #REF! | P21: 3 | Q21: =INDEX(M20:O20,P21) -> 0.083333333 | R21: =Q21 -> 0.083333333 | T21: =T14/3 -> 0.083333333 | U21: =IF(#REF!="Sí",1)+IF(#REF!="No",0) -> #REF! | Y21: 3 | Z21: =INDEX(V20:X20,Y21) -> 0.083333333 | AA21: =Z21 -> 0.083333333 | AB21: Lorem ipsum | AC21: =AC14/3 -> 0.083333333 | AD21: =IF(#REF!="Sí",1)+IF(#REF!="No",0) -> #REF! | AH21: 3 | AI21: =INDEX(AE20:AG20,AH21) -> 0.083333333 | AJ21: =AI21 -> 0.083333333 | AK21: =SUM(I22,R22,AA22,AJ22) -> 1
I22: =SUM(I17+I19+I21) -> 0.25 | R22: =SUM(R17+R19+R21) -> 0.25 | AA22: =SUM(AA17+AA19+AA21) -> 0.25 | AJ22: =SUM(AJ17+AJ19+AJ21) -> 0.25
C24: Peso máximo del Factor de Corrección | D24: Contribución al Factor de Corrección DNSH3 Protección de los recursos hídricos y marinos | G24: Rango contribucion | H24: Porcentaje Contribución | I24: Puntuación Factor corrreción DNSH 3 | K24: Peso máximo del Factor de Corrección | M24: Contribución al Factor de Corrección DNSH4 Transición hacia una Economía Circular | P24: Rango contribucion | Q24: Porcentaje Contribución | R24: Puntuación Factor corrreción DNSH·4 | T24: Peso máximo del Factor de Corrección | V24: Contribución al Factor de Corrección DNSH5 Control de la contaminación | Y24: Rango contribucion | Z24: Porcentaje Contribución | AA24: Puntuación Factor corrreción DNSH 5 | AC24: Peso máximo del Factor de Corrección | AE24: Contribución al Factor de Corrección DNSH6 Protección y recuperación de la biodiversidad y los ecosistemas | AH24: Rango contribucion | AI24: Porcentaje Contribución | AJ24: Puntuación Factor corrreción DNSH 6 | AK24: Puntuación Total Factor Corrección Ambiental
A25: ='Tabla Resultados FC'!C5 -> TPB.1.3 | B25: ='Tabla Resultados FC'!D5 -> Refuerzo e implementación de los Servicios Ecosistémicos en el territorio | C25: =100%/4 -> 0.25 | J25: =B25 -> Refuerzo e implementación de los Servicios Ecosistémicos en el territorio | K25: =100%/4 -> 0.25 | S25: =B25 -> Refuerzo e implementación de los Servicios Ecosistémicos en el territorio | T25: =100%/4 -> 0.25 | AB25: =J25 -> Refuerzo e implementación de los Servicios Ecosistémicos en el territorio | AC25: =100%/4 -> 0.25
D26: Baja | E26: Moderada | F26: Sustancial | M26: Baja | N26: Moderada | O26: Sustancial | V26: Baja | W26: Moderada | X26: Sustancial | AE26: Baja | AF26: Moderada | AG26: Sustancial
D27: =C28*50% -> 0.041666667 | E27: =C28*75% -> 0.0625 | F27: =C28*100% -> 0.083333333 | M27: =K28*50% -> 0.041666667 | N27: =K28*75% -> 0.0625 | O27: =K28*100% -> 0.083333333 | V27: =T28*50% -> 0.041666667 | W27: =T28*75% -> 0.0625 | X27: =T28*100% -> 0.083333333 | AE27: =AC28*50% -> 0.041666667 | AF27: =AC28*75% -> 0.0625 | AG27: =AC28*100% -> 0.083333333
B28: Lorem ipsum | C28: =C25/3 -> 0.083333333 | G28: 1 | H28: =INDEX(D27:F27,G28) -> 0.041666667 | I28: =H28 -> 0.041666667 | J28: Lorem ipsum | K28: =K25/3 -> 0.083333333 | L28: =IF(#REF!="Sí",1)+IF(#REF!="No",0) -> #REF! | P28: 3 | Q28: =INDEX(M27:O27,P28) -> 0.083333333 | R28: =Q28 -> 0.083333333 | T28: =T25/3 -> 0.083333333 | U28: =IF(#REF!="Sí",1)+IF(#REF!="No",0) -> #REF! | Y28: 2 | Z28: =INDEX(V27:X27,Y28) -> 0.0625 | AA28: =Z28 -> 0.0625 | AB28: Lorem ipsum | AC28: =AC25/3 -> 0.083333333 | AD28: =IF(#REF!="Sí",1)+IF(#REF!="No",0) -> #REF! | AH28: 3 | AI28: =INDEX(AE27:AG27,AH28) -> 0.083333333 | AJ28: =AI28 -> 0.083333333
D29: =(C30/2)*1 -> 0.041666667 | E29: =(C30/2)*1.5 -> 0.0625 | F29: =(C30/2)*2 -> 0.083333333 | M29: =(K30/2)*1 -> 0.041666667 | N29: =(K30/2)*1.5 -> 0.0625 | O29: =(K30/2)*2 -> 0.083333333 | V29: =(R30/2)*1 -> 0.041666667 | W29: =(R30/2)*1.5 -> 0.0625 | X29: =(R30/2)*2 -> 0.083333333 | AE29: =(AC30/2)*1 -> 0.041666667 | AF29: =(AC30/2)*1.5 -> 0.0625 | AG29: =(AC30/2)*2 -> 0.083333333
B30: Lorem ipsum | C30: =C25/3 -> 0.083333333 | G30: 1 | H30: =INDEX(D29:F29,G30) -> 0.041666667 | I30: =H30 -> 0.041666667 | J30: Lorem ipsum | K30: =K25/3 -> 0.083333333 | L30: =IF(#REF!="Sí",1)+IF(#REF!="No",0) -> #REF! | P30: 3 | Q30: =INDEX(M29:O29,P30) -> 0.083333333 | R30: =Q30 -> 0.083333333 | T30: =T25/3 -> 0.083333333 | U30: =IF(#REF!="Sí",1)+IF(#REF!="No",0) -> #REF! | Y30: 2 | Z30: =INDEX(V29:X29,Y30) -> 0.0625 | AA30: =Z30 -> 0.0625 | AB30: Lorem ipsum | AC30: =AC25/3 -> 0.083333333 | AD30: =IF(#REF!="Sí",1)+IF(#REF!="No",0) -> #REF! | AH30: 3 | AI30: =INDEX(AE29:AG29,AH30) -> 0.083333333 | AJ30: =AI30 -> 0.083333333
D31: =(C32/2)*1 -> 0.041666667 | E31: =(C32/2)*1.5 -> 0.0625 | F31: =(C32/2)*2 -> 0.083333333 | M31: =(K32/2)*1 -> 0.041666667 | N31: =(K32/2)*1.5 -> 0.0625 | O31: =(K32/2)*2 -> 0.083333333 | V31: =(R32/2)*1 -> 0.041666667 | W31: =(R32/2)*1.5 -> 0.0625 | X31: =(R32/2)*2 -> 0.083333333 | AE31: =(AC32/2)*1 -> 0.041666667 | AF31: =(AC32/2)*1.5 -> 0.0625 | AG31: =(AC32/2)*2 -> 0.083333333
B32: Lorem ipsum | C32: =C25/3 -> 0.083333333 | G32: 1 | H32: =INDEX(D31:F31,G32) -> 0.041666667 | I32: =H32 -> 0.041666667 | J32: Lorem ipsum | K32: =K25/3 -> 0.083333333 | L32: =IF(#REF!="Sí",1)+IF(#REF!="No",0) -> #REF! | P32: 3 | Q32: =INDEX(M31:O31,P32) -> 0.083333333 | R32: =Q32 -> 0.083333333 | T32: =T25/3 -> 0.083333333 | U32: =IF(#REF!="Sí",1)+IF(#REF!="No",0) -> #REF! | Y32: 2 | Z32: =INDEX(V31:X31,Y32) -> 0.0625 | AA32: =Z32 -> 0.0625 | AB32: Lorem ipsum | AC32: =AC25/3 -> 0.083333333 | AD32: =IF(#REF!="Sí",1)+IF(#REF!="No",0) -> #REF! | AH32: 3 | AI32: =INDEX(AE31:AG31,AH32) -> 0.083333333 | AJ32: =AI32 -> 0.083333333 | AK32: =SUM(I33,R33,AA33,AJ33) -> 0.8125
I33: =SUM(I28+I30+I32) -> 0.125 | R33: =SUM(R28+R30+R32) -> 0.25 | AA33: =SUM(AA28+AA30+AA32) -> 0.1875 | AJ33: =SUM(AJ28+AJ30+AJ32) -> 0.25
C35: Peso máximo del Factor de Corrección | D35: Contribución al Factor de Corrección DNSH3 Protección de los recursos hídricos y marinos | G35: Rango contribucion | H35: Porcentaje Contribución | I35: Puntuación Factor corrreción DNSH 3 | K35: Peso máximo del Factor de Corrección | M35: Contribución al Factor de Corrección DNSH4 Transición hacia una Economía Circular | P35: Rango contribucion | Q35: Porcentaje Contribución | R35: Puntuación Factor corrreción DNSH·4 | T35: Peso máximo del Factor de Corrección | V35: Contribución al Factor de Corrección DNSH5 Control de la contaminación | Y35: Rango contribucion | Z35: Porcentaje Contribución | AA35: Puntuación Factor corrreción DNSH 5 | AC35: Peso máximo del Factor de Corrección | AE35: Contribución al Factor de Corrección DNSH6 Protección y recuperación de la biodiversidad y los ecosistemas | AH35: Rango contribucion | AI35: Porcentaje Contribución | AJ35: Puntuación Factor corrreción DNSH 6 | AK35: Puntuación Total Factor Corrección Ambiental
A36: ='Tabla Resultados FC'!C6 -> TPB.2.1 | B36: ='Tabla Resultados FC'!D6 -> Recuperación, puesta en valor y utilización de técnicas tradicionales para la gestión sostenible de los recursos naturales | C36: =100%/4 -> 0.25 | J36: =B36 -> Recuperación, puesta en valor y utilización de técnicas tradicionales para la gestión sostenible de los recursos naturales | K36: =100%/4 -> 0.25 | S36: =B36 -> Recuperación, puesta en valor y utilización de técnicas tradicionales para la gestión sostenible de los recursos naturales | T36: =100%/4 -> 0.25 | AB36: =J36 -> Recuperación, puesta en valor y utilización de técnicas tradicionales para la gestión sostenible de los recursos naturales | AC36: =100%/4 -> 0.25
D37: Baja | E37: Moderada | F37: Sustancial | M37: Baja | N37: Moderada | O37: Sustancial | V37: Baja | W37: Moderada | X37: Sustancial | AE37: Baja | AF37: Moderada | AG37: Sustancial
D38: =C39*50% -> 0.041666667 | E38: =C39*75% -> 0.0625 | F38: =C39*100% -> 0.083333333 | M38: =K39*50% -> 0.041666667 | N38: =K39*75% -> 0.0625 | O38: =K39*100% -> 0.083333333 | V38: =T39*50% -> 0.041666667 | W38: =T39*75% -> 0.0625 | X38: =T39*100% -> 0.083333333 | AE38: =AC39*50% -> 0.041666667 | AF38: =AC39*75% -> 0.0625 | AG38: =AC39*100% -> 0.083333333
B39: Lorem ipsum | C39: =C36/3 -> 0.083333333 | G39: 1 | H39: =INDEX(D38:F38,G39) -> 0.041666667 | I39: =H39 -> 0.041666667 | J39: Lorem ipsum | K39: =K36/3 -> 0.083333333 | L39: =IF(#REF!="Sí",1)+IF(#REF!="No",0) -> #REF! | P39: 3 | Q39: =INDEX(M38:O38,P39) -> 0.083333333 | R39: =Q39 -> 0.083333333 | T39: =T36/3 -> 0.083333333 | U39: =IF(#REF!="Sí",1)+IF(#REF!="No",0) -> #REF! | Y39: 3 | Z39: =INDEX(V38:X38,Y39) -> 0.083333333 | AA39: =Z39 -> 0.083333333 | AB39: Lorem ipsum | AC39: =AC36/3 -> 0.083333333 | AD39: =IF(#REF!="Sí",1)+IF(#REF!="No",0) -> #REF! | AH39: 3 | AI39: =INDEX(AE38:AG38,AH39) -> 0.083333333 | AJ39: =AI39 -> 0.083333333
D40: =(C41/2)*1 -> 0.041666667 | E40: =(C41/2)*1.5 -> 0.0625 | F40: =(C41/2)*2 -> 0.083333333 | M40: =(K41/2)*1 -> 0.041666667 | N40: =(K41/2)*1.5 -> 0.0625 | O40: =(K41/2)*2 -> 0.083333333 | V40: =(R41/2)*1 -> 0.041666667 | W40: =(R41/2)*1.5 -> 0.0625 | X40: =(R41/2)*2 -> 0.083333333 | AE40: =(AC41/2)*1 -> 0.041666667 | AF40: =(AC41/2)*1.5 -> 0.0625 | AG40: =(AC41/2)*2 -> 0.083333333
B41: Lorem ipsum | C41: =C36/3 -> 0.083333333 | G41: 1 | H41: =INDEX(D40:F40,G41) -> 0.041666667 | I41: =H41 -> 0.041666667 | J41: Lorem ipsum | K41: =K36/3 -> 0.083333333 | L41: =IF(#REF!="Sí",1)+IF(#REF!="No",0) -> #REF! | P41: 3 | Q41: =INDEX(M40:O40,P41) -> 0.083333333 | R41: =Q41 -> 0.083333333 | T41: =T36/3 -> 0.083333333 | U41: =IF(#REF!="Sí",1)+IF(#REF!="No",0) -> #REF! | Y41: 3 | Z41: =INDEX(V40:X40,Y41) -> 0.083333333 | AA41: =Z41 -> 0.083333333 | AB41: Lorem ipsum | AC41: =AC36/3 -> 0.083333333 | AD41: =IF(#REF!="Sí",1)+IF(#REF!="No",0) -> #REF! | AH41: 3 | AI41: =INDEX(AE40:AG40,AH41) -> 0.083333333 | AJ41: =AI41 -> 0.083333333
D42: =(C43/2)*1 -> 0.041666667 | E42: =(C43/2)*1.5 -> 0.0625 | F42: =(C43/2)*2 -> 0.083333333 | M42: =(K43/2)*1 -> 0.041666667 | N42: =(K43/2)*1.5 -> 0.0625 | O42: =(K43/2)*2 -> 0.083333333 | V42: =(R43/2)*1 -> 0.041666667 | W42: =(R43/2)*1.5 -> 0.0625 | X42: =(R43/2)*2 -> 0.083333333 | AE42: =(AC43/2)*1 -> 0.041666667 | AF42: =(AC43/2)*1.5 -> 0.0625 | AG42: =(AC43/2)*2 -> 0.083333333
B43: Lorem ipsum | C43: =C36/3 -> 0.083333333 | G43: 1 | H43: =INDEX(D42:F42,G43) -> 0.041666667 | I43: =H43 -> 0.041666667 | J43: Lorem ipsum | K43: =K36/3 -> 0.083333333 | L43: =IF(#REF!="Sí",1)+IF(#REF!="No",0) -> #REF! | P43: 3 | Q43: =INDEX(M42:O42,P43) -> 0.083333333 | R43: =Q43 -> 0.083333333 | T43: =T36/3 -> 0.083333333 | U43: =IF(#REF!="Sí",1)+IF(#REF!="No",0) -> #REF! | Y43: 3 | Z43: =INDEX(V42:X42,Y43) -> 0.083333333 | AA43: =Z43 -> 0.083333333 | AB43: Lorem ipsum | AC43: =AC36/3 -> 0.083333333 | AD43: =IF(#REF!="Sí",1)+IF(#REF!="No",0) -> #REF! | AH43: 3 | AI43: =INDEX(AE42:AG42,AH43) -> 0.083333333 | AJ43: =AI43 -> 0.083333333 | AK43: =SUM(I44,R44,AA44,AJ44) -> 0.875
I44: =SUM(I39+I41+I43) -> 0.125 | R44: =SUM(R39+R41+R43) -> 0.25 | AA44: =SUM(AA39+AA41+AA43) -> 0.25 | AJ44: =SUM(AJ39+AJ41+AJ43) -> 0.25
...

Sheet AUX-FC Soc_xx BASE
C1: Peso máximo del Factor de Corrección I | D1: Cumplimiento | F1: Puntuación Factor Corrección I | H1: Peso máximo del Factor de Corrección II | I1: Cumplimiento | K1: Puntuación Factor Corrección II
A2: ='Tabla Resultados.'!C3 -> TPB.1.1 | B2: ='[1]TABLA_MTU-cambiar nombres aqui'!G3 -> Aumento generación EERR | C2: 0.5 | G2: =B2 -> Aumento generación EERR | H2: 0.5
B4: Factor de Corección I | G4: Factor de Corección II
B5: Participación Ciudadana inclusiva y transversal | C5: =C2*0.5 -> 0.25 | D5: Sí | E5: =IF(D5="Sí",1)+IF(D5="No",0) -> 1 | F5: =C5*E5 -> 0.25 | G5: Medidas específicas dirigidas a reducir el impacto del cambio climático sobre las condiciones de vida de las personas | H5: =H2 -> 0.5 | I5: Sí | J5: =IF(I5="Sí",1)+IF(I5="No",0) -> 1 | K5: =H5*J5 -> 0.5
B7: Inclusión de los indicadores sociodemográificos | C7: =C2*0.5 -> 0.25 | D7: Sí | E7: =IF(D7="Sí",1)+IF(D7="No",0) -> 1 | F7: =C7*E7 -> 0.25 | I7: Sí | J7: =IF(I7="Sí",1)+IF(I7="No",0) -> 1 | K7: =H7*J7 -> 0
E9: =IF(D9="Sí",1)+IF(D9="No",0) -> 0 | F9: =C9*E9 -> 0 | I9: Sí | J9: =IF(I9="Sí",1)+IF(I9="No",0) -> 1 | K9: =H9*J9 -> 0 | L9: =F10+K10 -> 1
C10: =SUM(C5:C9) -> 0.5 | F10: =SUM(F5:F9) -> 0.5 | H10: =SUM(H5:H9) -> 0.5 | K10: =SUM(K5:K9) -> 0.5
C13: Peso máximo del Factor de Corrección I | D13: Cumplimiento | F13: Puntuación Factor Corrección I | H13: Peso máximo del Factor de Corrección II | I13: Cumplimiento | K13: Puntuación Factor Corrección II
A14: ='Tabla Resultados.'!C4 -> TPB.1.2 | B14: ='[1]TABLA_MTU-cambiar nombres aqui'!G4 -> Reducción de emisiones de GEI | C14: 0.5 | G14: =B14 -> Reducción de emisiones de GEI | H14: 0.5
B16: Factor de Corección I | G16: Factor de Corección II
B17: Participación Ciudadana inclusiva y transversal | C17: =C14*0.5 -> 0.25 | D17: Sí | E17: =IF(D17="Sí",1)+IF(D17="No",0) -> 1 | F17: =C17*E17 -> 0.25 | G17: Medidas específicas dirigidas a reducir el impacto del cambio climático sobre las condiciones de vida de las personas | H17: =H14 -> 0.5 | I17: Sí | J17: =IF(I17="Sí",1)+IF(I17="No",0) -> 1 | K17: =H17*J17 -> 0.5
B19: Inclusión de los indicadores sociodemográificos | C19: =C14*0.5 -> 0.25 | D19: Sí | E19: =IF(D19="Sí",1)+IF(D19="No",0) -> 1 | F19: =C19*E19 -> 0.25 | I19: Sí | J19: =IF(I19="Sí",1)+IF(I19="No",0) -> 1 | K19: =H19*J19 -> 0
E21: =IF(D21="Sí",1)+IF(D21="No",0) -> 0 | F21: =C21*E21 -> 0 | I21: Sí | J21: =IF(I21="Sí",1)+IF(I21="No",0) -> 1 | K21: =H21*J21 -> 0 | L21: =F22+K22 -> 1
C22: =SUM(C17:C21) -> 0.5 | F22: =SUM(F17:F21) -> 0.5 | H22: =SUM(H17:H21) -> 0.5 | K22: =SUM(K17:K21) -> 0.5
C24: Peso máximo del Factor de Corrección I | D24: Cumplimiento | F24: Puntuación Factor Corrección I | H24: Peso máximo del Factor de Corrección II | I24: Cumplimiento | K24: Puntuación Factor Corrección II
A25: ='Tabla Resultados.'!C5 -> TPB.1.3 | B25: ='[1]TABLA_MTU-cambiar nombres aqui'!G5 -> Potenciación de la autosuficiencia conectada | C25: 0.5 | G25: =B25 -> Potenciación de la autosuficiencia conectada | H25: 0.5
B27: Factor de Corección I | G27: Factor de Corección II
B28: Participación Ciudadana inclusiva y transversal | C28: =C25*0.5 -> 0.25 | D28: Sí | E28: =IF(D28="Sí",1)+IF(D28="No",0) -> 1 | F28: =C28*E28 -> 0.25 | G28: Medidas específicas dirigidas a reducir el impacto del cambio climático sobre las condiciones de vida de las personas | H28: =H25 -> 0.5 | I28: Sí | J28: =IF(I28="Sí",1)+IF(I28="No",0) -> 1 | K28: =H28*J28 -> 0.5
B30: Inclusión de los indicadores sociodemográificos | C30: =C25*0.5 -> 0.25 | D30: Sí | E30: =IF(D30="Sí",1)+IF(D30="No",0) -> 1 | F30: =C30*E30 -> 0.25 | I30: Sí | J30: =IF(I30="Sí",1)+IF(I30="No",0) -> 1 | K30: =H30*J30 -> 0
E32: =IF(D32="Sí",1)+IF(D32="No",0) -> 0 | F32: =C32*E32 -> 0 | I32: Sí | J32: =IF(I32="Sí",1)+IF(I32="No",0) -> 1 | K32: =H32*J32 -> 0 | L32: =F33+K33 -> 1
C33: =SUM(C28:C32) -> 0.5 | F33: =SUM(F28:F32) -> 0.5 | H33: =SUM(H28:H32) -> 0.5 | K33: =SUM(K28:K32) -> 0.5
C35: Peso máximo del Factor de Corrección I | D35: Cumplimiento | F35: Puntuación Factor Corrección I | H35: Peso máximo del Factor de Corrección II | I35: Cumplimiento | K35: Puntuación Factor Corrección II
A36: ='Tabla Resultados.'!C6 -> TPB.2.1 | B36: ='[1]TABLA_MTU-cambiar nombres aqui'!G6 -> Autosuficiencia hídrica conectada | C36: 0.5 | G36: =B36 -> Autosuficiencia hídrica conectada | H36: 0.5
B38: Factor de Corección I | G38: Factor de Corección II
B39: Participación Ciudadana inclusiva y transversal | C39: =C36*0.5 -> 0.25 | D39: Sí | E39: =IF(D39="Sí",1)+IF(D39="No",0) -> 1 | F39: =C39*E39 -> 0.25 | G39: Medidas específicas dirigidas a reducir el impacto del cambio climático sobre las condiciones de vida de las personas | H39: =H36 -> 0.5 | I39: Sí | J39: =IF(I39="Sí",1)+IF(I39="No",0) -> 1 | K39: =H39*J39 -> 0.5
B41: Inclusión de los indicadores sociodemográificos | C41: =C36*0.5 -> 0.25 | D41: Sí | E41: =IF(D41="Sí",1)+IF(D41="No",0) -> 1 | F41: =C41*E41 -> 0.25 | I41: Sí | J41: =IF(I41="Sí",1)+IF(I41="No",0) -> 1 | K41: =H41*J41 -> 0
E43: =IF(D43="Sí",1)+IF(D43="No",0) -> 0 | F43: =C43*E43 -> 0 | I43: Sí | J43: =IF(I43="Sí",1)+IF(I43="No",0) -> 1 | K43: =H43*J43 -> 0 | L43: =F44+K44 -> 1
C44: =SUM(C39:C43) -> 0.5 | F44: =SUM(F39:F43) -> 0.5 | H44: =SUM(H39:H43) -> 0.5 | K44: =SUM(K39:K43) -> 0.5
C46: Peso máximo del Factor de Corrección I | D46: Cumplimiento | F46: Puntuación Factor Corrección I | H46: Peso máximo del Factor de Corrección II | I46: Cumplimiento | K46: Puntuación Factor Corrección II
A47: ='Tabla Resultados.'!C7 -> TPB.2.2 | B47: ='[1]TABLA_MTU-cambiar nombres aqui'!G7 -> Eficiencia en la producción y tratamiento de las aguas | C47: 0.5 | G47: =B47 -> Eficiencia en la producción y tratamiento de las aguas | H47: 0.5
B49: Factor de Corección I | G49: Factor de Corección II
B50: Participación Ciudadana inclusiva y transversal | C50: =C47*0.5 -> 0.25 | D50: Sí | E50: =IF(D50="Sí",1)+IF(D50="No",0) -> 1 | F50: =C50*E50 -> 0.25 | G50: Medidas específicas dirigidas a reducir el impacto del cambio climático sobre las condiciones de vida de las personas | H50: =H47 -> 0.5 | I50: Sí | J50: =IF(I50="Sí",1)+IF(I50="No",0) -> 1 | K50: =H50*J50 -> 0.5
B52: Inclusión de los indicadores sociodemográificos | C52: =C47*0.5 -> 0.25 | D52: Sí | E52: =IF(D52="Sí",1)+IF(D52="No",0) -> 1 | F52: =C52*E52 -> 0.25 | I52: Sí | J52: =IF(I52="Sí",1)+IF(I52="No",0) -> 1 | K52: =H52*J52 -> 0
E54: =IF(D54="Sí",1)+IF(D54="No",0) -> 0 | F54: =C54*E54 -> 0 | I54: Sí | J54: =IF(I54="Sí",1)+IF(I54="No",0) -> 1 | K54: =H54*J54 -> 0 | L54: =F55+K55 -> 1
C55: =SUM(C50:C54) -> 0.5 | F55: =SUM(F50:F54) -> 0.5 | H55: =SUM(H50:H54) -> 0.5 | K55: =SUM(K50:K54) -> 0.5
C57: Peso máximo del Factor de Corrección I | D57: Cumplimiento | F57: Puntuación Factor Corrección I | H57: Peso máximo del Factor de Corrección II | I57: Cumplimiento | K57: Puntuación Factor Corrección II
A58: ='Tabla Resultados.'!C8 -> TPB.2.3 | B58: ='[1]TABLA_MTU-cambiar nombres aqui'!G8 -> Eficiencia y optimización en la demanda hídrica | C58: 0.5 | G58: =B58 -> Eficiencia y optimización en la demanda hídrica | H58: 0.5
B60: Factor de Corección I | G60: Factor de Corección II
B61: Participación Ciudadana inclusiva y transversal | C61: =C58*0.5 -> 0.25 | D61: Sí | E61: =IF(D61="Sí",1)+IF(D61="No",0) -> 1 | F61: =C61*E61 -> 0.25 | G61: Medidas específicas dirigidas a reducir el impacto del cambio climático sobre las condiciones de vida de las personas | H61: =H58 -> 0.5 | I61: Sí | J61: =IF(I61="Sí",1)+IF(I61="No",0) -> 1 | K61: =H61*J61 -> 0.5
B63: Inclusión de los indicadores sociodemográificos | C63: =C58*0.5 -> 0.25 | D63: Sí | E63: =IF(D63="Sí",1)+IF(D63="No",0) -> 1 | F63: =C63*E63 -> 0.25 | I63: Sí | J63: =IF(I63="Sí",1)+IF(I63="No",0) -> 1 | K63: =H63*J63 -> 0
...

Sheet Tabla Resultados.
B2: TERRITORIO, PAISAJE Y BIODIVERSIDAD (TPB) | C2: CRITERIO
C3: TPB.1.1 | D3: Continuidad y funcionalidad ecológica de la IV-A
C4: TPB.1.2 | D4: Conservación, restauración y puesta en valor de los ecosistemas naturales frente al CC
C5: TPB.1.3 | D5: Refuerzo e implementación de los Servicios Ecosistémicos en el territorio
C6: TPB.2.1 | D6: Recuperación y conservación del patrimonio natural y cultural
C7: TPB.2.2 | D7: Puesta en valor y utilización de técnicas tradicionales para la gestión sostenible de los recursos naturales
C8: TPB.2.3 | D8: Recuperación multifuncional del paisaje tradicional
C9: TPB.3.1 | D9: Recuperación del suelo agricola en estado de abandono
C10: TPB.3.2 | D10: Potenciación de agrosistemas diversificados, impulsando la eficiencia de recursos y el manejo ecológico sostenible
C11: TPB.3.3 | D11: Utilización responsable de los recursos necesarios para producir alimentos
C12: TPB.3.4 | D12: Localización eficiente de las infraestructuras básicas para la provisión de alimentos
C13: TPB.4.1 | D13: Introducir Soluciones basadas en la Naturaleza para reducir la vulnerabilidad de los ecosistemas
C14: TPB.4.2 | D14: Introducir Soluciones basadas en la Naturaleza para enfrentar los desafios sociales y económicos
C15: TPB.4.3 | D15: Multifuncionalidad del territorio y los recursos naturales frente al CC
B16: MORFOLOGÍA Y MODELO DE OCUPACIÓN DEL TERRITORIO (MOT) | C16: MOT.1.01 | D16: IV-A Elemento estructurante del territorio
C17: MOT.1.02 | D17: Servicios ecosistémicos
C18: MOT.1.03 | D18: Potenciación sistemas agrarios
C19: MOT.1.04 | D19: Desarrollo policéntrico núcleos rurales
C20: MOT.1.05 | D20: Renaturalización ciudades
C21: MOT.1.06 | D21: Ordenación sistémica, resiliente y adaptada
C22: MOT.1.07 | D22: Centralidades escalonadas
C23: MOT.2.01 | D23: Modelo de ordenación orientado a la neutralidad climática
C24: MOT.2.02 | D24: Transición ecológica justa
C25: MOT.3.01 | D25: Ocupación del suelo racional y equilibrada. Regeneración frente a expansión
C26: MOT.3.02 | D26: Descarbonización del sistema urbano
C27: MOT.3.03 | D27: Heterogenizar el territorio
C28: MOT.3.04 | D28: Densificación de lo disperso
... C32: MOT.4.04 | D32: Adaptación del territorio para minimización de riesgos
B33: METABOLISMO TERRITORIAL Y URBANO (MTU) | C33: MTU.1.1 | D33: Aumento generación EERR
C34: MTU.1.2 | D34: Reducción de emisiones de GEI
C35: MTU.1.3 | D35: Potenciación de la autosuficiencia conectada
C36: MTU.2.1 | D36: Autosuficiencia hídrica conectada
C37: MTU.2.2 | D37: Eficiencia en la producción y tratamiento de las aguas
C38: MTU.2.3 | D38: Eficiencia y optimización en la demanda hídrica
C39: MTU.2.4 | D39: Potenciación de las SbN
C40: MTU.3.1 | D40: Compatibilidad de la protección del sistema natural con la gestión de residuos
C41: MTU.3.2 | D41: Reducción de la contaminación del suelo
C42: MTU.3.3 | D42: Viabilizar el principio de autosuficiencia
C43: MTU.3.4 | D43: Reducción de emisiones de GEI
C44: MTU.3.5 | D44: Economía circular
...

Sheet Tabla Resultados FC
B2: ='Tabla Resultados.'!B2:B15 -> TERRITORIO, PAISAJE Y BIODIVERSIDAD (TPB) | C2: CRITERIO | E2: Factor de Corrección Social | F2: Factor de Corrección Económico | G2: Factor de Corrección Ambiental | H2: Factor Correcion Total
C3: ='[2]Tabla Resultados TPB'!$E$3 -> TPB.1.1 | D3: ='[2]Tabla Resultados TPB'!$F$3 -> Continuidad y funcionalidad ecológica de la Infraestructura Verde-Azul | E3: ='Panel Control FC Social-TPB'!O8 -> 1 | F3: ='Panel Control FC Economico-TPB'!Q8 -> 1 | H3: =AVERAGE(E3:G3) -> 1
C4: ='[2]Tabla Resultados TPB'!$E$4 -> TPB.1.2 | D4: ='[2]Tabla Resultados TPB'!$F$4 -> Conservación, restauración y puesta en valor de los ecosistemas naturales frente al cambio climático | E4: ='Panel Control FC Social-TPB'!O17 -> 1 | F4: ='Panel Control FC Economico-TPB'!Q19 -> 1 | H4: =AVERAGE(E4:G4) -> 1
C5: ='[2]Tabla Resultados TPB'!$E$5 -> TPB.1.3 | D5: ='[2]Tabla Resultados TPB'!$F$5 -> Refuerzo e implementación de los Servicios Ecosistémicos en el territorio | E5: ='Panel Control FC Social-TPB'!O27 -> 1 | F5: ='Panel Control FC Economico-TPB'!Q29 -> 1 | H5: =AVERAGE(E5:G5) -> 1
C6: ='[2]Tabla Resultados TPB'!$E$6 -> TPB.2.1 | D6: ='[2]Tabla Resultados TPB'!$F$6 -> Recuperación, puesta en valor y utilización de técnicas tradicionales para la gestión sostenible de los recursos naturales | E6: ='Panel Control FC Social-TPB'!O37 -> 1 | F6: ='Panel Control FC Economico-TPB'!Q39 -> 1 | H6: =AVERAGE(E6:G6) -> 1
C7: ='[2]Tabla Resultados TPB'!$E$7 -> TPB.3.1 | D7: ='[2]Tabla Resultados TPB'!$F$7 -> Potenciación de las actividades primarias, impulsando la eficiencia de recursos, manejo ecológico sostenible y la soberanía alimentaria | E7: ='Panel Control FC Social-TPB'!O47 -> 1 | F7: ='Panel Control FC Economico-TPB'!Q49 -> 1 | H7: =AVERAGE(E7:G7) -> 1
C8: ='[2]Tabla Resultados TPB'!$E$8 -> TPB.4.1 | D8: ='[2]Tabla Resultados TPB'!$F$8 -> Introducir Soluciones basadas en la Naturaleza para reducir la vulnerabilidad frente a los efectos del cambio climático | E8: ='Panel Control FC Social-TPB'!O57 -> 1 | F8: ='Panel Control FC Economico-TPB'!Q59 -> 1 | H8: =AVERAGE(E8:G8) -> 1
C9: ='[2]Tabla Resultados TPB'!$E$9 -> TPB.4.2 | D9: ='[2]Tabla Resultados TPB'!$F$9 -> Multifuncionalidad del territorio y los recursos naturales frente al cambio climático | E9: ='Panel Control FC Social-TPB'!O67 -> 1 | F9: ='Panel Control FC Economico-TPB'!Q69 -> 1 | H9: =AVERAGE(E9:G9) -> 1
B10: MORFOLOGÍA Y MODELO DE OCUPACIÓN DEL TERRITORIO (MOT) | C10: ='[3]Tabla Resultados MOT'!$F$3 -> MOT.1.1 | D10: ='[3]Tabla Resultados MOT'!$G$3 -> IV-A Elemento estructurante del territorio | E10: ='Panel Control FC Social-MOT'!O8 -> 1 | F10: ='Panel Control FC Economico-MOT'!Q8 -> 1 | G10: ='Panel Control FC Ambiental-MOT'!W14 -> 1 | H10: =AVERAGE(E10:G10) -> 1
C11: ='[3]Tabla Resultados MOT'!$F$4 -> MOT.1.2 | D11: ='[3]Tabla Resultados MOT'!$G$4 -> Servicios ecosistémicos | E11: ='Panel Control FC Social-MOT'!O17 -> 1 | F11: ='Panel Control FC Economico-MOT'!Q19 -> 1 | G11: ='Panel Control FC Ambiental-MOT'!W31 -> 1 | H11: =AVERAGE(E11:G11) -> 1
C12: ='[3]Tabla Resultados MOT'!$F$5 -> MOT.1.3 | D12: ='[3]Tabla Resultados MOT'!$G$5 -> Potenciación sistemas agrarios | E12: ='Panel Control FC Social-MOT'!O27 -> 1 | F12: ='Panel Control FC Economico-MOT'!Q29 -> 1 | G12: ='Panel Control FC Ambiental-MOT'!W47 -> 1 | H12: =AVERAGE(E12:G12) -> 1
C13: ='[3]Tabla Resultados MOT'!$F$6 -> MOT.1.4 | D13: ='[3]Tabla Resultados MOT'!$G$6 -> Desarrollo policéntrico de núcleos rurales | E13: ='Panel Control FC Social-MOT'!O37 -> 1 | F13: ='Panel Control FC Economico-MOT'!Q39 -> 1 | G13: ='Panel Control FC Ambiental-MOT'!W63 -> 1 | H13: =AVERAGE(E13:G13) -> 1
C14: ='[3]Tabla Resultados MOT'!$F$7 -> MOT.1.5 | D14: ='[3]Tabla Resultados MOT'!$G$7 -> Ocupación del suelo y distribución de usos eficiente | E14: ='Panel Control FC Social-MOT'!O47 -> 1 | F14: ='Panel Control FC Economico-MOT'!Q49 -> 1 | G14: ='Panel Control FC Ambiental-MOT'!W79 -> 1 | H14: =AVERAGE(E14:G14) -> 1
C15: ='[3]Tabla Resultados MOT'!$F$8 -> MOT.1.6 | D15: ='[3]Tabla Resultados MOT'!$G$8 -> Sistema urbano con estructura policéntrica, compacto, complejo y eficiente | E15: ='Panel Control FC Social-MOT'!O57 -> 1 | F15: ='Panel Control FC Economico-MOT'!Q59 -> 1 | G15: ='Panel Control FC Ambiental-MOT'!W95 -> 1 | H15: =AVERAGE(E15:G15) -> 1
C16: ='[3]Tabla Resultados MOT'!$F$9 -> MOT.2.1 | D16: ='[3]Tabla Resultados MOT'!$G$9 -> Modelo de ordenación orientado a la neutralidad climática | E16: ='Panel Control FC Social-MOT'!O67 -> 1 | F16: ='Panel Control FC Economico-MOT'!Q69 -> 1 | G16: ='Panel Control FC Ambiental-MOT'!W111 -> 1 | H16: =AVERAGE(E16:G16) -> 1
C17: ='[3]Tabla Resultados MOT'!$F$10 -> MOT.2.2 | D17: ='[3]Tabla Resultados MOT'!$G$10 -> Transición ecológica justa | E17: ='Panel Control FC Social-MOT'!O77 -> 1 | F17: ='Panel Control FC Economico-MOT'!Q79 -> 1 | G17: ='Panel Control FC Ambiental-MOT'!W127 -> 1 | H17: =AVERAGE(E17:G17) -> 1
C18: ='[3]Tabla Resultados MOT'!$F$11 -> MOT.3.1 | D18: ='[3]Tabla Resultados MOT'!$G$11 -> Ocupación del suelo racional y equilibrada. Regeneración frente a expansión | E18: ='Panel Control FC Social-MOT'!O87 -> 1 | F18: ='Panel Control FC Economico-MOT'!Q89 -> 1 | G18: ='Panel Control FC Ambiental-MOT'!W143 -> 1 | H18: =AVERAGE(E18:G18) -> 1
C19: ='[3]Tabla Resultados MOT'!$F$12 -> MOT.3.2 | D19: ='[3]Tabla Resultados MOT'!$G$12 -> Ocupación y ordenación de los suelos hacia la eficiencia del metabolismo territorial y la movilidad sostenible | E19: ='Panel Control FC Social-MOT'!O97 -> 1 | F19: ='Panel Control FC Economico-MOT'!Q99 -> 1 | G19: ='Panel Control FC Ambiental-MOT'!W159 -> 1 | H19: =AVERAGE(E19:G19) -> 1
C20: ='[3]Tabla Resultados MOT'!$F$13 -> MOT.4.1 | D20: ='[3]Tabla Resultados MOT'!$G$13 -> Identificación y evaluación de riesgos, vulnerabilidades y capacidad de adaptación | E20: ='Panel Control FC Social-MOT'!O107 -> 1 | F20: ='Panel Control FC Economico-MOT'!Q109 -> 1 | G20: ='Panel Control FC Ambiental-MOT'!W175 -> 1 | H20: =AVERAGE(E20:G20) -> 1
C21: ='[3]Tabla Resultados MOT'!$F$14 -> MOT.4.2 | D21: ='[3]Tabla Resultados MOT'!$G$14 -> Ocupación del territorio resiliente: adaptada e integrada | E21: ='Panel Control FC Social-MOT'!O117 -> 1 | F21: ='Panel Control FC Economico-MOT'!Q119 -> 1 | G21: ='Panel Control FC Ambiental-MOT'!W191 -> 1 | H21: =AVERAGE(E21:G21) -> 1
B22: METABOLISMO TERRITORIAL Y URBANO (MTU) | C22: ='[4]Tabla Resultados MTU'!$E$3 -> MTU.1.1 | D22: ='[4]Tabla Resultados MTU'!$F$3 -> Aumento generación EERR | E22: ='Panel Control FC Social-MTU'!O8 -> 1 | F22: ='Panel Control FC Economico-MTU'!Q8 -> 1 | G22: ='Panel Control FC Ambiental-MTU'!W14 -> 1 | H22: =AVERAGE(E22:G22) -> 1
C23: ='[4]Tabla Resultados MTU'!$E$4 -> MTU.1.2 | D23: ='[4]Tabla Resultados MTU'!$F$4 -> Reducción de emisiones de GEI | E23: ='Panel Control FC Social-MTU'!O17 -> 1 | F23: ='Panel Control FC Economico-MTU'!Q19 -> 1 | G23: ='Panel Control FC Ambiental-MTU'!W31 -> 1 | H23: =AVERAGE(E23:G23) -> 1
C24: ='[4]Tabla Resultados MTU'!$E$5 -> MTU.1.3 | D24: ='[4]Tabla Resultados MTU'!$F$5 -> Potenciación de la autosuficiencia conectada | E24: ='Panel Control FC Social-MTU'!O27 -> 1 | F24: ='Panel Control FC Economico-MTU'!Q29 -> 1 | G24: ='Panel Control FC Ambiental-MTU'!W47 -> 1 | H24: =AVERAGE(E24:G24) -> 1
C25: ='[4]Tabla Resultados MTU'!$E$6 -> MTU.2.1 | D25: ='[4]Tabla Resultados MTU'!$F$6 -> Autosuficiencia hídrica conectada | E25: ='Panel Control FC Social-MTU'!O37 -> 1 | F25: ='Panel Control FC Economico-MTU'!Q39 -> 1 | G25: ='Panel Control FC Ambiental-MTU'!W63 -> 1 | H25: =AVERAGE(E25:G25) -> 1
C26: ='[4]Tabla Resultados MTU'!$E$7 -> MTU.2.2 | D26: ='[4]Tabla Resultados MTU'!$F$7 -> Eficiencia en la producción, tratamiento de las aguas y consumo hídrico | E26: ='Panel Control FC Social-MTU'!O47 -> 1 | F26: ='Panel Control FC Economico-MTU'!Q49 -> 1 | G26: ='Panel Control FC Ambiental-MTU'!W79 -> 1 | H26: =AVERAGE(E26:G26) -> 1
C27: ='[4]Tabla Resultados MTU'!$E$8 -> MTU.2.3 | D27: ='[4]Tabla Resultados MTU'!$F$8 -> Potenciación de las SbN | E27: ='Panel Control FC Social-MTU'!O57 -> 1 | F27: ='Panel Control FC Economico-MTU'!Q59 -> 1 | G27: ='Panel Control FC Ambiental-MTU'!W95 -> 1 | H27: =AVERAGE(E27:G27) -> 1
C28: ='[4]Tabla Resultados MTU'!$E$9 -> MTU.3.1 | D28: ='[4]Tabla Resultados MTU'!$F$9 -> Compatibilidad de la protección del sistema natural con la gestión de residuos | E28: ='Panel Control FC Social-MTU'!O67 -> 1 | F28: ='Panel Control FC Economico-MTU'!Q69 -> 1 | G28: ='Panel Control FC Ambiental-MTU'!W111 -> 1 | H28: =AVERAGE(E28:G28) -> 1
C29: ='[4]Tabla Resultados MTU'!$E$10 -> MTU.3.2 | D29: ='[4]Tabla Resultados MTU'!$F$10 -> Viabilizar el principio de autosuficiencia | E29: ='Panel Control FC Social-MTU'!O77 -> 1 | F29: ='Panel Control FC Economico-MTU'!Q79 -> 1 | G29: ='Panel Control FC Ambiental-MTU'!W127 -> 1 | H29: =AVERAGE(E29:G29) -> 1
C30: ='[4]Tabla Resultados MTU'!$E$11 -> MTU.3.3 | D30: ='[4]Tabla Resultados MTU'!$F$11 -> Reducción de emisiones de GEI | E30: ='Panel Control FC Social-MTU'!O87 -> 1 | F30: ='Panel Control FC Economico-MTU'!Q89 -> 1 | G30: ='Panel Control FC Ambiental-MTU'!W143 -> 1 | H30: =AVERAGE(E30:G30) -> 1
C31: ='[4]Tabla Resultados MTU'!$E$12 -> MTU.3.4 | D31: ='[4]Tabla Resultados MTU'!$F$12 -> Economía circular | E31: ='Panel Control FC Social-MTU'!O97 -> 1 | F31: ='Panel Control FC Economico-MTU'!Q99 -> 1 | G31: ='Panel Control FC Ambiental-MTU'!W159 -> 1 | H31: =AVERAGE(E31:G31) -> 1
C32: ='[4]Tabla Resultados MTU'!$E$13 -> MTU.4.1 | D32: ='[4]Tabla Resultados MTU'!$F$13 -> Evaluación y gestión de riesgos | E32: ='Panel Control FC Social-MTU'!O107 -> 1 | F32: ='Panel Control FC Economico-MTU'!Q109 -> 1 | G32: ='Panel Control FC Ambiental-MTU'!W175 -> 1 | H32: =AVERAGE(E32:G32) -> 1
C33: ='[4]Tabla Resultados MTU'!$E$14 -> MTU.4.2 | D33: ='[4]Tabla Resultados MTU'!$F$14 -> Adaptación y recuperación de la vinculación del sistema urbano al ciclo del agua | E33: ='Panel Control FC Social-MTU'!O117 -> 1 | F33: ='Panel Control FC Economico-MTU'!Q119 -> 1 | G33: ='Panel Control FC Ambiental-MTU'!W191 -> 1 | H33: =AVERAGE(E33:G33) -> 1
B34: ='Tabla Resultados.'!B49 -> MOVILIDAD Y ACCESIBILIDAD (MA) | C34: ='[5]Tabla Resultados MA'!$E$3 -> MA.1.1 | D34: ='[5]Tabla Resultados MA'!$F$3 -> Territorio de los 45 min (Conectividad rural y zonas periféricas) | E34: ='Panel Control FC Social-MA'!O8 -> 1 | F34: ='Panel Control FC Economico-MA'!Q8 -> 1 | G34: ='Panel Control FC Ambiental-MA'!W14 -> 1 | H34: =AVERAGE(E34:G34) -> 1
C35: ='[5]Tabla Resultados MA'!$E$4 -> MA.1.2 | D35: ='[5]Tabla Resultados MA'!$F$4 -> Modelo de movilidad intermodal | E35: ='Panel Control FC Social-MA'!O17 -> 1 | F35: ='Panel Control FC Economico-MA'!Q19 -> 1 | G35: ='Panel Control FC Ambiental-MA'!W31 -> 1 | H35: =AVERAGE(E35:G35) -> 1
C36: ='[5]Tabla Resultados MA'!$E$5 -> MA.2.1 | D36: ='[5]Tabla Resultados MA'!$F$5 -> Ciudad de los 15 min. | E36: ='Panel Control FC Social-MA'!O27 -> 1 | F36: ='Panel Control FC Economico-MA'!Q29 -> 1 | G36: ='Panel Control FC Ambiental-MA'!W47 -> 1 | H36: =AVERAGE(E36:G36) -> 1
C37: ='[5]Tabla Resultados MA'!$E$6 -> MA.2.2 | D37: ='[5]Tabla Resultados MA'!$F$6 -> Gestión de la demanda de la movilidad privada urbana | E37: ='Panel Control FC Social-MA'!O37 -> 1 | F37: ='Panel Control FC Economico-MA'!Q39 -> 1 | G37: ='Panel Control FC Ambiental-MA'!W63 -> 1 | H37: =AVERAGE(E37:G37) -> 1
C38: ='[5]Tabla Resultados MA'!$E$7 -> MA.2.3 | D38: ='[5]Tabla Resultados MA'!$F$7 -> Gestión eficiente del aparcamiento | E38: ='Panel Control FC Social-MA'!O47 -> 1 | F38: ='Panel Control FC Economico-MA'!Q49 -> 1 | G38: ='Panel Control FC Ambiental-MA'!W79 -> 1 | H38: =AVERAGE(E38:G38) -> 1
C39: ='[5]Tabla Resultados MA'!$E$8 -> MA.3.1 | D39: ='[5]Tabla Resultados MA'!$F$8 -> Smart City y reducción de emisiones de GEI | E39: ='Panel Control FC Social-MA'!O57 -> 1 | F39: ='Panel Control FC Economico-MA'!Q59 -> 1 | G39: ='Panel Control FC Ambiental-MA'!W95 -> 1 | H39: =AVERAGE(E39:G39) -> 1
C40: ='[5]Tabla Resultados MA'!$E$9 -> MA.4.1 | D40: ='[5]Tabla Resultados MA'!$F$9 -> Evaluación y gestión de riesgos | E40: ='Panel Control FC Social-MA'!O67 -> 1 | F40: ='Panel Control FC Economico-MA'!Q69 -> 1 | G40: ='Panel Control FC Ambiental-MA'!W111 -> 1 | H40: =AVERAGE(E40:G40) -> 1
C41: ='[5]Tabla Resultados MA'!$E$10 -> MA.4.2 | D41: ='[5]Tabla Resultados MA'!$F$10 -> Adaptación, IV-A y permeabilidad del suelo | E41: ='Panel Control FC Social-MA'!O77 -> 1 | F41: ='Panel Control FC Economico-MA'!Q79 -> 1 | G41: ='Panel Control FC Ambiental-MA'!W127 -> 1 | H41: =AVERAGE(E41:G41) -> 1
...

Sheet Panel Control FC Social-TPB
C1: Aplica | F1: Peso máximo Factor Corrección Social | K1: Cumplimiento | M1: Puntuación Factor Corrección Social
A2: ='Tabla Resultados FC'!C3 -> TPB.1.1 | B2: ='Tabla Resultados FC'!D3 -> Continuidad y funcionalidad ecológica de la Infraestructura Verde-Azul | F2: 1
B4: Participación Ciudadana inclusiva y transversal | C4: Sí | D4: =IF(C4="Sí",1)+IF(C4="No",0) -> 1 | E4: =(COUNTIF(D4:D8,"1")) -> 3 | F4: =IF($E4=0,(D4*$G$4))+IF($E4=1,(D4*$J$4))+IF($E4=2,(D4*$I$4))+IF($E4=3,(D4*$H$4)) -> 0.33333333 | G4: 0 | H4: =F2/3 -> 0.33333333 | I4: =F2/2 -> 0.5 | J4: =F2 -> 1 | K4: Sí | L4: =IF(K4="Sí",1)+IF(K4="No",0) -> 1 | M4: =F4*L4 -> 0.33333333
B6: Inclusión de indicadores sociodemográficos | C6: Sí | D6: =IF(C6="Sí",1)+IF(C6="No",0) -> 1 | F6: =IF($E4=0,(D6*$G$4))+IF($E4=1,(D6*$J$4))+IF($E4=2,(D6*$I$4))+IF($E4=3,(D6*$H$4)) -> 0.33333333 | K6: Sí | L6: =IF(K6="Sí",1)+IF(K6="No",0) -> 1 | M6: =F6*L6 -> 0.33333333
K7: No
B8: Medidas específicas dirigidas a reducir el impacto del cambio climático sobre las condiciones de vida de las personas | C8: Sí | D8: =IF(C8="Sí",1)+IF(C8="No",0) -> 1 | F8: =IF($E4=0,(D8*$G$4))+IF($E4=1,(D8*$J$4))+IF($E4=2,(D8*$I$4))+IF($E4=3,(D8*$H$4)) -> 0.33333333 | K8: Sí | L8: =IF(K8="Sí",1)+IF(K8="No",0) -> 1 | M8: =F8*L8 -> 0.33333333 | N8: =M9 -> 1 | O8: =IF(M9>=70%,(M9))+IF(M9<=70%,70%) -> 1
M9: =SUM(M4:M8) -> 1
C12: Aplica | F12: Peso máximo Factor Corrección Social | K12: Cumplimiento | M12: Puntuación Factor Corrección Social
A13: ='Tabla Resultados FC'!C4 -> TPB.1.2 | B13: ='Tabla Resultados FC'!D4 -> Conservación, restauración y puesta en valor de los ecosistemas naturales frente al cambio climático | F13: 1
B15: Participación Ciudadana inclusiva y transversal | C15: Sí | D15: =IF(C15="Sí",1)+IF(C15="No",0) -> 1 | E15: =(COUNTIF(D15:D17,"1")) -> 3 | F15: =IF($E15=0,(D15*$G$4))+IF($E15=1,(D15*$J$4))+IF($E15=2,(D15*$I$4))+IF($E15=3,(D15*$H$4)) -> 0.33333333 | G15: 0 | H15: =F13/3 -> 0.33333333 | I15: =F13/2 -> 0.5 | J15: =F13 -> 1 | K15: Sí | L15: =IF(K15="Sí",1)+IF(K15="No",0) -> 1 | M15: =F15*L15 -> 0.33333333
B16: Inclusión de indicadores sociodemográficos | C16: Sí | D16: =IF(C16="Sí",1)+IF(C16="No",0) -> 1 | F16: =IF($E15=0,(D16*$G$4))+IF($E15=1,(D16*$J$4))+IF($E15=2,(D16*$I$4))+IF($E15=3,(D16*$H$4)) -> 0.33333333 | K16: Sí | L16: =IF(K16="Sí",1)+IF(K16="No",0) -> 1 | M16: =F16*L16 -> 0.33333333
B17: Medidas específicas dirigidas a reducir el impacto del cambio climático sobre las condiciones de vida de las personas | C17: Sí | D17: =IF(C17="Sí",1)+IF(C17="No",0) -> 1 | F17: =IF($E15=0,(D17*$G$4))+IF($E15=1,(D17*$J$4))+IF($E15=2,(D17*$I$4))+IF($E15=3,(D17*$H$4)) -> 0.33333333 | K17: Sí | L17: =IF(K17="Sí",1)+IF(K17="No",0) -> 1 | M17: =F17*L17 -> 0.33333333 | N17: =M18 -> 1 | O17: =IF(M18>=70%,(M18))+IF(M18<=70%,70%) -> 1
I18: =SUM(I15:I17) -> 0.5 | M18: =SUM(M15:M17) -> 1
C20: Aplica | F20: Peso máximo Factor Corrección Social | K20: Cumplimiento | M20: Puntuación Factor Corrección Social
A21: ='Tabla Resultados FC'!C5 -> TPB.1.3 | B21: ='Tabla Resultados FC'!D5 -> Refuerzo e implementación de los Servicios Ecosistémicos en el territorio | F21: 1
B23: Participación Ciudadana inclusiva y transversal | C23: Sí | D23: =IF(C23="Sí",1)+IF(C23="No",0) -> 1 | E23: =(COUNTIF(D23:D27,"1")) -> 3 | F23: =IF($E23=0,(D23*$G$4))+IF($E23=1,(D23*$J$4))+IF($E23=2,(D23*$I$4))+IF($E23=3,(D23*$H$4)) -> 0.33333333 | G23: 0 | H23: =F21/3 -> 0.33333333 | I23: =F21/2 -> 0.5 | J23: =F21 -> 1 | K23: Sí | L23: =IF(K23="Sí",1)+IF(K23="No",0) -> 1 | M23: =F23*L23 -> 0.33333333
B25: Inclusión de indicadores sociodemográficos | C25: Sí | D25: =IF(C25="Sí",1)+IF(C25="No",0) -> 1 | F25: =IF($E23=0,(D25*$G$4))+IF($E23=1,(D25*$J$4))+IF($E23=2,(D25*$I$4))+IF($E23=3,(D25*$H$4)) -> 0.33333333 | K25: Sí | L25: =IF(K25="Sí",1)+IF(K25="No",0) -> 1 | M25: =F25*L25 -> 0.33333333
K26: No
B27: Medidas específicas dirigidas a reducir el impacto del cambio climático sobre las condiciones de vida de las personas | C27: Sí | D27: =IF(C27="Sí",1)+IF(C27="No",0) -> 1 | F27: =IF($E23=0,(D27*$G$4))+IF($E23=1,(D27*$J$4))+IF($E23=2,(D27*$I$4))+IF($E23=3,(D27*$H$4)) -> 0.33333333 | K27: Sí | L27: =IF(K27="Sí",1)+IF(K27="No",0) -> 1 | M27: =F27*L27 -> 0.33333333 | N27: =M28 -> 1 | O27: =IF(M28>=70%,(M28))+IF(M28<=70%,70%) -> 1
I28: =SUM(I23:I27) -> 0.5 | M28: =SUM(M23:M27) -> 1
C30: Aplica | F30: Peso máximo Factor Corrección Social | K30: Cumplimiento | M30: Puntuación Factor Corrección Social
A31: ='Tabla Resultados FC'!C6 -> TPB.2.1 | B31: ='Tabla Resultados FC'!D6 -> Recuperación, puesta en valor y utilización de técnicas tradicionales para la gestión sostenible de los recursos naturales | F31: 1
B33: Participación Ciudadana inclusiva y transversal | C33: Sí | D33: =IF(C33="Sí",1)+IF(C33="No",0) -> 1 | E33: =(COUNTIF(D33:D37,"1")) -> 3 | F33: =IF($E33=0,(D33*$G$4))+IF($E33=1,(D33*$J$4))+IF($E33=2,(D33*$I$4))+IF($E33=3,(D33*$H$4)) -> 0.33333333 | G33: 0 | H33: =F31/3 -> 0.33333333 | I33: =F31/2 -> 0.5 | J33: =F31 -> 1 | K33: Sí | L33: =IF(K33="Sí",1)+IF(K33="No",0) -> 1 | M33: =F33*L33 -> 0.33333333
B35: Inclusión de indicadores sociodemográficos | C35: Sí | D35: =IF(C35="Sí",1)+IF(C35="No",0) -> 1 | F35: =IF($E33=0,(D35*$G$4))+IF($E33=1,(D35*$J$4))+IF($E33=2,(D35*$I$4))+IF($E33=3,(D35*$H$4)) -> 0.33333333 | K35: Sí | L35: =IF(K35="Sí",1)+IF(K35="No",0) -> 1 | M35: =F35*L35 -> 0.33333333
K36: No
B37: Medidas específicas dirigidas a reducir el impacto del cambio climático sobre las condiciones de vida de las personas | C37: Sí | D37: =IF(C37="Sí",1)+IF(C37="No",0) -> 1 | F37: =IF($E33=0,(D37*$G$4))+IF($E33=1,(D37*$J$4))+IF($E33=2,(D37*$I$4))+IF($E33=3,(D37*$H$4)) -> 0.33333333 | K37: Sí | L37: =IF(K37="Sí",1)+IF(K37="No",0) -> 1 | M37: =F37*L37 -> 0.33333333 | N37: =M38 -> 1 | O37: =IF(M38>=70%,(M38))+IF(M38<=70%,70%) -> 1
I38: =SUM(I33:I37) -> 0.5 | M38: =SUM(M33:M37) -> 1
C40: Aplica | F40: Peso máximo Factor Corrección Social | K40: Cumplimiento | M40: Puntuación Factor Corrección Social
A41: ='Tabla Resultados FC'!C7 -> TPB.3.1 | B41: ='Tabla Resultados FC'!D7 -> Potenciación de las actividades primarias, impulsando la eficiencia de recursos, manejo ecológico sostenible y la soberanía alimentaria | F41: 1
B43: Participación Ciudadana inclusiva y transversal | C43: Sí | D43: =IF(C43="Sí",1)+IF(C43="No",0) -> 1 | E43: =(COUNTIF(D43:D47,"1")) -> 3 | F43: =IF($E43=0,(D43*$G$4))+IF($E43=1,(D43*$J$4))+IF($E43=2,(D43*$I$4))+IF($E43=3,(D43*$H$4)) -> 0.33333333 | G43: 0 | H43: =F41/3 -> 0.33333333 | I43: =F41/2 -> 0.5 | J43: =F41 -> 1 | K43: Sí | L43: =IF(K43="Sí",1)+IF(K43="No",0) -> 1 | M43: =F43*L43 -> 0.33333333
B45: Inclusión de indicadores sociodemográficos | C45: Sí | D45: =IF(C45="Sí",1)+IF(C45="No",0) -> 1 | F45: =IF($E43=0,(D45*$G$4))+IF($E43=1,(D45*$J$4))+IF($E43=2,(D45*$I$4))+IF($E43=3,(D45*$H$4)) -> 0.33333333 | K45: Sí | L45: =IF(K45="Sí",1)+IF(K45="No",0) -> 1 | M45: =F45*L45 -> 0.33333333
K46: No
B47: Medidas específicas dirigidas a reducir el impacto del cambio climático sobre las condiciones de vida de las personas | C47: Sí | D47: =IF(C47="Sí",1)+IF(C47="No",0) -> 1 | F47: =IF($E43=0,(D47*$G$4))+IF($E43=1,(D47*$J$4))+IF($E43=2,(D47*$I$4))+IF($E43=3,(D47*$H$4)) -> 0.33333333 | K47: Sí | L47: =IF(K47="Sí",1)+IF(K47="No",0) -> 1 | M47: =F47*L47 -> 0.33333333 | N47: =M48 -> 1 | O47: =IF(M48>=70%,(M48))+IF(M48<=70%,70%) -> 1
I48: =SUM(I43:I47) -> 0.5 | M48: =SUM(M43:M47) -> 1
C50: Aplica | F50: Peso máximo Factor Corrección Social | K50: Cumplimiento | M50: Puntuación Factor Corrección Social
A51: ='Tabla Resultados FC'!C8 -> TPB.4.1 | B51: ='Tabla Resultados FC'!D8 -> Introducir Soluciones basadas en la Naturaleza para reducir la vulnerabilidad frente a los efectos del cambio climático | F51: 1
B53: Participación Ciudadana inclusiva y transversal | C53: Sí | D53: =IF(C53="Sí",1)+IF(C53="No",0) -> 1 | E53: =(COUNTIF(D53:D57,"1")) -> 3 | F53: =IF($E53=0,(D53*$G$4))+IF($E53=1,(D53*$J$4))+IF($E53=2,(D53*$I$4))+IF($E53=3,(D53*$H$4)) -> 0.33333333 | G53: 0 | H53: =F51/3 -> 0.33333333 | I53: =F51/2 -> 0.5 | J53: =F51 -> 1 | K53: Sí | L53: =IF(K53="Sí",1)+IF(K53="No",0) -> 1 | M53: =F53*L53 -> 0.33333333
B55: Inclusión de indicadores sociodemográficos | C55: Sí | D55: =IF(C55="Sí",1)+IF(C55="No",0) -> 1 | F55: =IF($E53=0,(D55*$G$4))+IF($E53=1,(D55*$J$4))+IF($E53=2,(D55*$I$4))+IF($E53=3,(D55*$H$4)) -> 0.33333333 | K55: Sí | L55: =IF(K55="Sí",1)+IF(K55="No",0) -> 1 | M55: =F55*L55 -> 0.33333333
K56: No
B57: Medidas específicas dirigidas a reducir el impacto del cambio climático sobre las condiciones de vida de las personas | C57: Sí | D57: =IF(C57="Sí",1)+IF(C57="No",0) -> 1 | F57: =IF($E53=0,(D57*$G$4))+IF($E53=1,(D57*$J$4))+IF($E53=2,(D57*$I$4))+IF($E53=3,(D57*$H$4)) -> 0.33333333 | K57: Sí | L57: =IF(K57="Sí",1)+IF(K57="No",0) -> 1 | M57: =F57*L57 -> 0.33333333 | N57: =M58 -> 1 | O57: =IF(M58>=70%,(M58))+IF(M58<=70%,70%) -> 1
...

Sheet Panel Control FC Social-MOT
C1: Aplica | F1: Peso máximo Factor Corrección Social | K1: Cumplimiento | M1: Puntuación Factor Corrección Social
A2: ='Tabla Resultados FC'!C10 -> MOT.1.1 | B2: ='Tabla Resultados FC'!D10 -> IV-A Elemento estructurante del territorio | F2: 1
B4: Participación Ciudadana inclusiva y transversal | C4: Sí | D4: =IF(C4="Sí",1)+IF(C4="No",0) -> 1 | E4: =(COUNTIF(D4:D8,"1")) -> 3 | F4: =IF($E4=0,(D4*$G$4))+IF($E4=1,(D4*$J$4))+IF($E4=2,(D4*$I$4))+IF($E4=3,(D4*$H$4)) -> 0.33333333 | G4: =F2/4 -> 0.25 | H4: =F2/3 -> 0.33333333 | I4: =F2/2 -> 0.5 | J4: =F2 -> 1 | K4: Sí | L4: =IF(K4="Sí",1)+IF(K4="No",0) -> 1 | M4: =F4*L4 -> 0.33333333
B6: Inclusión de indicadores sociodemográficos | C6: Sí | D6: =IF(C6="Sí",1)+IF(C6="No",0) -> 1 | F6: =IF($E4=0,(D6*$G$4))+IF($E4=1,(D6*$J$4))+IF($E4=2,(D6*$I$4))+IF($E4=3,(D6*$H$4)) -> 0.33333333 | K6: Sí | L6: =IF(K6="Sí",1)+IF(K6="No",0) -> 1 | M6: =F6*L6 -> 0.33333333
K7: No
B8: Medidas específicas dirigidas a reducir el impacto del cambio climático sobre las condiciones de vida de las personas | C8: Sí | D8: =IF(C8="Sí",1)+IF(C8="No",0) -> 1 | F8: =IF($E4=0,(D8*$G$4))+IF($E4=1,(D8*$J$4))+IF($E4=2,(D8*$I$4))+IF($E4=3,(D8*$H$4)) -> 0.33333333 | K8: Sí | L8: =IF(K8="Sí",1)+IF(K8="No",0) -> 1 | M8: =F8*L8 -> 0.33333333 | N8: =M9 -> 1 | O8: =IF(M9>=70%,(M9))+IF(M9<=70%,70%) -> 1
M9: =SUM(M4:M8) -> 1
C12: Aplica | F12: Peso máximo Factor Corrección Social | K12: Cumplimiento | M12: Puntuación Factor Corrección Social
A13: ='Tabla Resultados FC'!C11 -> MOT.1.2 | B13: ='Tabla Resultados FC'!D11 -> Servicios ecosistémicos | F13: 1
B15: Participación Ciudadana inclusiva y transversal | C15: Sí | D15: =IF(C15="Sí",1)+IF(C15="No",0) -> 1 | E15: =(COUNTIF(D15:D17,"1")) -> 3 | F15: =IF($E15=0,(D15*$G$4))+IF($E15=1,(D15*$J$4))+IF($E15=2,(D15*$I$4))+IF($E15=3,(D15*$H$4)) -> 0.33333333 | G15: 0 | H15: =F13/3 -> 0.33333333 | I15: =F13/2 -> 0.5 | J15: =F13 -> 1 | K15: Sí | L15: =IF(K15="Sí",1)+IF(K15="No",0) -> 1 | M15: =F15*L15 -> 0.33333333
B16: Inclusión de indicadores sociodemográficos | C16: Sí | D16: =IF(C16="Sí",1)+IF(C16="No",0) -> 1 | F16: =IF($E15=0,(D16*$G$4))+IF($E15=1,(D16*$J$4))+IF($E15=2,(D16*$I$4))+IF($E15=3,(D16*$H$4)) -> 0.33333333 | K16: Sí | L16: =IF(K16="Sí",1)+IF(K16="No",0) -> 1 | M16: =F16*L16 -> 0.33333333
B17: Medidas específicas dirigidas a reducir el impacto del cambio climático sobre las condiciones de vida de las personas | C17: Sí | D17: =IF(C17="Sí",1)+IF(C17="No",0) -> 1 | F17: =IF($E15=0,(D17*$G$4))+IF($E15=1,(D17*$J$4))+IF($E15=2,(D17*$I$4))+IF($E15=3,(D17*$H$4)) -> 0.33333333 | K17: Sí | L17: =IF(K17="Sí",1)+IF(K17="No",0) -> 1 | M17: =F17*L17 -> 0.33333333 | N17: =M18 -> 1 | O17: =IF(M18>=70%,(M18))+IF(M18<=70%,70%) -> 1
I18: =SUM(I15:I17) -> 0.5 | M18: =SUM(M15:M17) -> 1
C20: Aplica | F20: Peso máximo Factor Corrección Social | K20: Cumplimiento | M20: Puntuación Factor Corrección Social
A21: ='Tabla Resultados FC'!C12 -> MOT.1.3 | B21: ='Tabla Resultados FC'!D12 -> Potenciación sistemas agrarios | F21: 1
B23: Participación Ciudadana inclusiva y transversal | C23: Sí | D23: =IF(C23="Sí",1)+IF(C23="No",0) -> 1 | E23: =(COUNTIF(D23:D27,"1")) -> 3 | F23: =IF($E23=0,(D23*$G$4))+IF($E23=1,(D23*$J$4))+IF($E23=2,(D23*$I$4))+IF($E23=3,(D23*$H$4)) -> 0.33333333 | G23: 0 | H23: =F21/3 -> 0.33333333 | I23: =F21/2 -> 0.5 | J23: =F21 -> 1 | K23: Sí | L23: =IF(K23="Sí",1)+IF(K23="No",0) -> 1 | M23: =F23*L23 -> 0.33333333
B25: Inclusión de indicadores sociodemográficos | C25: Sí | D25: =IF(C25="Sí",1)+IF(C25="No",0) -> 1 | F25: =IF($E23=0,(D25*$G$4))+IF($E23=1,(D25*$J$4))+IF($E23=2,(D25*$I$4))+IF($E23=3,(D25*$H$4)) -> 0.33333333 | K25: Sí | L25: =IF(K25="Sí",1)+IF(K25="No",0) -> 1 | M25: =F25*L25 -> 0.33333333
K26: No
B27: Medidas específicas dirigidas a reducir el impacto del cambio climático sobre las condiciones de vida de las personas | C27: Sí | D27: =IF(C27="Sí",1)+IF(C27="No",0) -> 1 | F27: =IF($E23=0,(D27*$G$4))+IF($E23=1,(D27*$J$4))+IF($E23=2,(D27*$I$4))+IF($E23=3,(D27*$H$4)) -> 0.33333333 | K27: Sí | L27: =IF(K27="Sí",1)+IF(K27="No",0) -> 1 | M27: =F27*L27 -> 0.33333333 | N27: =M28 -> 1 | O27: =IF(M28>=70%,(M28))+IF(M28<=70%,70%) -> 1
I28: =SUM(I23:I27) -> 0.5 | M28: =SUM(M23:M27) -> 1
C30: Aplica | F30: Peso máximo Factor Corrección Social | K30: Cumplimiento | M30: Puntuación Factor Corrección Social
A31: ='Tabla Resultados FC'!C13 -> MOT.1.4 | B31: ='Tabla Resultados FC'!D13 -> Desarrollo policéntrico de núcleos rurales | F31: 1
B33: Participación Ciudadana inclusiva y transversal | C33: Sí | D33: =IF(C33="Sí",1)+IF(C33="No",0) -> 1 | E33: =(COUNTIF(D33:D37,"1")) -> 3 | F33: =IF($E33=0,(D33*$G$4))+IF($E33=1,(D33*$J$4))+IF($E33=2,(D33*$I$4))+IF($E33=3,(D33*$H$4)) -> 0.33333333 | G33: 0 | H33: =F31/3 -> 0.33333333 | I33: =F31/2 -> 0.5 | J33: =F31 -> 1 | K33: Sí | L33: =IF(K33="Sí",1)+IF(K33="No",0) -> 1 | M33: =F33*L33 -> 0.33333333
B35: Inclusión de indicadores sociodemográficos | C35: Sí | D35: =IF(C35="Sí",1)+IF(C35="No",0) -> 1 | F35: =IF($E33=0,(D35*$G$4))+IF($E33=1,(D35*$J$4))+IF($E33=2,(D35*$I$4))+IF($E33=3,(D35*$H$4)) -> 0.33333333 | K35: Sí | L35: =IF(K35="Sí",1)+IF(K35="No",0) -> 1 | M35: =F35*L35 -> 0.33333333
K36: No
B37: Medidas específicas dirigidas a reducir el impacto del cambio climático sobre las condiciones de vida de las personas | C37: Sí | D37: =IF(C37="Sí",1)+IF(C37="No",0) -> 1 | F37: =IF($E33=0,(D37*$G$4))+IF($E33=1,(D37*$J$4))+IF($E33=2,(D37*$I$4))+IF($E33=3,(D37*$H$4)) -> 0.33333333 | K37: Sí | L37: =IF(K37="Sí",1)+IF(K37="No",0) -> 1 | M37: =F37*L37 -> 0.33333333 | N37: =M38 -> 1 | O37: =IF(M38>=70%,(M38))+IF(M38<=70%,70%) -> 1
I38: =SUM(I33:I37) -> 0.5 | M38: =SUM(M33:M37) -> 1
C40: Aplica | F40: Peso máximo Factor Corrección Social | K40: Cumplimiento | M40: Puntuación Factor Corrección Social
A41: ='Tabla Resultados FC'!C14 -> MOT.1.5 | B41: ='Tabla Resultados FC'!D14 -> Ocupación del suelo y distribución de usos eficiente | F41: 1
B43: Participación Ciudadana inclusiva y transversal | C43: Sí | D43: =IF(C43="Sí",1)+IF(C43="No",0) -> 1 | E43: =(COUNTIF(D43:D47,"1")) -> 3 | F43: =IF($E43=0,(D43*$G$4))+IF($E43=1,(D43*$J$4))+IF($E43=2,(D43*$I$4))+IF($E43=3,(D43*$H$4)) -> 0.33333333 | G43: 0 | H43: =F41/3 -> 0.33333333 | I43: =F41/2 -> 0.5 | J43: =F41 -> 1 | K43: Sí | L43: =IF(K43="Sí",1)+IF(K43="No",0) -> 1 | M43: =F43*L43 -> 0.33333333
